BEGIN:VCALENDAR
VERSION:2.0
METHOD:PUBLISH
PRODID:-//hacksw/handcal//NONSGML v1.0//EN
BEGIN:VEVENT
DTSTAMP:20260419T165314Z
DTSTART:20190413T143000Z
DTEND:20190413T180000Z
UID:20190413T143000Z-20190413T180000Z-449@www.runningsocks.de
SUMMARY:9. IFB HiRo Run 21.1
DESCRIPTION:Schneller\, flacher Rundkurs um den Rothsee. Start und Zie
 l ist Hilpoltstein\nInfos :\n\n\n\nAusschreibung:\nIFB HiRo Run 21.1\n
 \n\nTermin:\nSamstag\, 13.04.\n\n\nVeranstalter:\nLa Carrera TriTeam R
 othsee 09 e.V.\n\n\nStartzeit:\n16:30 Uhr\n\n\nZielschluss:\n19:30 Uhr
 \n\n\nStart / Ziel:\nInnenstadt von Hilpoltstein - Marktstraße\n\n\nTe
 ilnehmerlimit:\n600 Starter Hauptlauf\, 300 Starter Hobbylauf\n\n\nMel
 deschluss:\nEntweder wenn das Teilnehmerlimit erreicht ist oder der 05
 .04.\n\n\nMeldegebühr:\n\n\n 	bis 30.11. (für 21\,1Km)\n 	bis 30.11. (
 für 9\,5Km)\n 	bis 30.11. (Staffellauf)\n\n\n\n\n 	19 € (zuzügl. 2 € f
 ür Chip)\n 	8 € (zuzügl. 2 € für Chip)\n 	27 € (zuzügl. 6 € Staffelsta
 b)\n\n\n\n\n\n\n\n 	01.12. - 31.01. (für 21\,1Km)\n 	01.12. - 31.01. (
 für 9\,5Km)\n 	01.12. - 31.01. (Staffellauf)\n\n\n\n\n 	22 € (zuzügl. 
 2 € für Chip )\n 	10 € (zuzügl. 2 € für Chip)\n 	30 € (zuzügl. 6 € Sta
 ffelstab)\n\n\n\n\n\n\n\n 	01.02. - 01.04. (für 21\,1Km)\n 	01.02. - 0
 1.04. (für 9\,5Km)\n 	01.02. - 01.04. (Staffellauf)\n\n\n\n\n 	25 € (z
 uzügl. 2 € für Chip)\n 	12 € (zuzügl. 2 € für Chip)\n 	33 € (zuzügl. 6
  € Staffelstab)\n\n\n\n\n Nachmeldungen am Veranstaltunsgtag von 12:00
  - 15:30\n\n\n 	für 21\,1Km\n 	für 9\,5Km\n 	für Staffellauf\n\n\n\n\n
  	30 € (zuzügl. 2 € für Chip)\n 	15 € (zuzügl. 2 € für Chip)\n 	38 € (
 zuzügl. 6 € Staffelstab)\n\n\n\n\nFunktionsshirt\nJeder Teilnehmer erh
 ält für den Aufpreis von nur 12 Euro (Angabe bei Anmeldung) beim Start
  ein HiRo Run Funktionsshirt. Bestellung eines Funktionsshirt bei eine
 r Anmeldung bis zum 31.01. möglich\n\n\n\n\n\n\nZugläufer\nfür 1:30h\,
  1:45h\, 2:00h\, 2:15h Zielzeit\n\n\nZeitmessung\nEasychip von Davengo
 \n\n\nInternet mit Ausschreibung\, Meldung und Ergebnissen:\nhttp://ww
 w.hiro-run.de\n\n\n\n(Quelle: http://www.hiro-run.de/)\n\nAlle weitere
 n\, aktuellen Infos sowie Online Anmeldung auf der Seite des Veranstal
 ters:  IFB HiRo Run 21.1\n\nFlyer zur Ausschreibung:\n\n[wpfilebase ta
 g=file path='lauf/ifb-hiro-run/20190413/20190413_Ausschreibung_IFB_HiR
 o.pdf' tpl=download-button /]
X-ALT-DESC;FMTTYPE=text/html:<p style=text-align: center\;>Schneller\,
  flacher Rundkurs um den Rothsee. Start und Ziel ist Hilpoltstein</p>\
 n<p><span style=text-decoration: underline\;><strong>Infos :</strong><
 /span></p>\n<table id=table4 style=width: 700px\; border=1>\n<tbody>\n
 <tr><td align=left valign=top width=150>Ausschreibung:</td>\n<td colsp
 an=2 align=left valign=top width=650>IFB HiRo Run 21.1</td></tr>\n<tr>
 <td align=left valign=top width=150>Termin:</td>\n<td colspan=2 align=
 left valign=top width=650>Samstag\, 13.04.</td></tr>\n<tr><td align=le
 ft valign=top width=150>Veranstalter:</td>\n<td colspan=2 align=left v
 align=top width=650><a href=http://www.lacarrera-triteam.de/ target=_b
 lank rel=noopener>La Carrera TriTeam Rothsee 09 e.V.</a></td></tr>\n<t
 r><td align=left valign=top width=150>Startzeit:</td>\n<td colspan=2 a
 lign=left valign=top width=650>16:30 Uhr</td></tr>\n<tr><td align=left
  valign=top width=150>Zielschluss:</td>\n<td colspan=2 align=left vali
 gn=top width=650>19:30 Uhr</td></tr>\n<tr><td align=left valign=top wi
 dth=150>Start / Ziel:</td>\n<td colspan=2 align=left valign=top width=
 650>Innenstadt von Hilpoltstein &#8211\; Marktstraße</td></tr>\n<tr><t
 d align=left valign=top width=150>Teilnehmerlimit:</td>\n<td colspan=2
  align=left valign=top width=650>600 Starter Hauptlauf\, 300 Starter H
 obbylauf</td></tr>\n<tr><td align=left valign=top width=150>Meldeschlu
 ss:</td>\n<td colspan=2 align=left valign=top width=650>Entweder wenn 
 das Teilnehmerlimit erreicht ist oder der 05.04.</td></tr>\n<tr><td al
 ign=left valign=top width=150>Meldegebühr:</td>\n<td align=left valign
 =top width=325><ul>\n<li>bis 30.11. (für 21\,1Km)</li>\n<li>bis 30.11.
  (für 9\,5Km)</li>\n<li>bis 30.11. (Staffellauf)</li>\n</ul></td>\n<td
  align=left valign=top width=325><ul>\n<li>19 € (zuzügl. 2 € für Chip)
 </li>\n<li>8 € (zuzügl. 2 € für Chip)</li>\n<li>27 € (zuzügl. 6 € Staf
 felstab)</li>\n</ul></td></tr>\n<tr><td align=left valign=top width=15
 0></td>\n<td align=left valign=top width=325><ul>\n<li>01.12. &#8211\;
  31.01. (für 21\,1Km)</li>\n<li>01.12. &#8211\; 31.01. (für 9\,5Km)</l
 i>\n<li>01.12. &#8211\; 31.01. (Staffellauf)</li>\n</ul></td>\n<td ali
 gn=left valign=top width=325><ul>\n<li>22 € (zuzügl. 2 € für Chip )</l
 i>\n<li>10 € (zuzügl. 2 € für Chip)</li>\n<li>30 € (zuzügl. 6 € Staffe
 lstab)</li>\n</ul></td></tr>\n<tr><td align=left valign=top width=150>
 </td>\n<td align=left valign=top width=325><ul>\n<li>01.02. &#8211\; 0
 1.04. (für 21\,1Km)</li>\n<li>01.02. &#8211\; 01.04. (für 9\,5Km)</li>
 \n<li>01.02. &#8211\; 01.04. (Staffellauf)</li>\n</ul></td>\n<td align
 =left valign=top width=325><ul>\n<li>25 € (zuzügl. 2 € für Chip)</li>\
 n<li>12 € (zuzügl. 2 € für Chip)</li>\n<li>33 € (zuzügl. 6 € Staffelst
 ab)</li>\n</ul></td></tr>\n<tr><td align=left valign=top width=150> Na
 chmeldungen am Veranstaltunsgtag von 12:00 &#8211\; 15:30</td>\n<td al
 ign=left valign=top width=325><ul>\n<li>für 21\,1Km</li>\n<li>für 9\,5
 Km</li>\n<li>für Staffellauf</li>\n</ul></td>\n<td align=left valign=t
 op width=325><ul>\n<li>30 € (zuzügl. 2 € für Chip)</li>\n<li>15 € (zuz
 ügl. 2 € für Chip)</li>\n<li>38 € (zuzügl. 6 € Staffelstab)</li>\n</ul
 ></td></tr>\n<tr><td align=left valign=top width=150>Funktionsshirt</t
 d>\n<td colspan=2 align=left valign=top width=650>Jeder Teilnehmer erh
 ält für den Aufpreis von nur 12 Euro (Angabe bei Anmeldung) beim Start
  ein <strong>HiRo Run Funktionsshirt.</strong> Bestellung eines Funkti
 onsshirt bei einer Anmeldung bis zum 31.01. möglich</td></tr>\n<tr><td
  align=left valign=top width=150></td>\n<td colspan=2 align=left valig
 n=top width=650></td></tr>\n<tr><td align=left valign=top width=150>Zu
 gläufer</td>\n<td colspan=2 align=left valign=top width=650>für 1:30h\
 , 1:45h\, 2:00h\, 2:15h Zielzeit</td></tr>\n<tr><td align=left valign=
 top width=150>Zeitmessung</td>\n<td colspan=2 align=left valign=top wi
 dth=650>Easychip von Davengo</td></tr>\n<tr><td align=left valign=top 
 width=150>Internet mit Ausschreibung\, Meldung und Ergebnissen:</td>\n
 <td colspan=2 align=left valign=top width=650><a href=http://www.hiro-
 run.de/>http://www.hiro-run.de</a></td></tr>\n</tbody>\n</table>\n<p>(
 Quelle: http://www.hiro-run.de/)</p>\n<p>Alle weiteren\, aktuellen Inf
 os sowie Online Anmeldung auf der Seite des Veranstalters:<strong>  <a
  href=http://www.hiro-run.de/>IFB HiRo Run 21.1</a></strong></p>\n<p><
 strong>Flyer zur Ausschreibung:</strong><br>\n<br>\n[wpfilebase tag=fi
 le path=&#8217\;lauf/ifb-hiro-run/20190413/20190413_Ausschreibung_IFB_
 HiRo.pdf&#8216\; tpl=download-button /]</p>\n
URL:https://www.runningsocks.de/wordpress/terminkalender/eventsinglepa
 ge/?event_id=449&lang=de
ATTACH:https://www.runningsocks.de/wordpress/terminkalender/eventsingl
 epage/?event_id=449&lang=de
LOCATION:Marktstrasse Hilpoltstein\, Marktstrasse 16\, Hilpoltstein
END:VEVENT
END:VCALENDAR
