BEGIN:VCALENDAR
VERSION:2.0
METHOD:PUBLISH
PRODID:-//hacksw/handcal//NONSGML v1.0//EN
BEGIN:VEVENT
DTSTAMP:20260419T165212Z
DTSTART:20100905T070000Z
DTEND:20100905T130000Z
UID:20100905T070000Z-20100905T130000Z-45@www.runningsocks.de
SUMMARY:11. Fränkische Schweiz Marathon
DESCRIPTION:Erleben Sie....\n\n... einen der schönsten und  schnellste
 n Landschaftsmarathons in Deutschland. Die landschaftliche  Idylle der
  Fränkischen Schweiz bietet eine einzigartige Kulisse für  tausende sp
 ortbegeisterte LäuferInnen und SkaterInnen. Die Strecke führt  auf der
  autofreien Bundesstraße 470 durch das Herz der Fränkischen  Schweiz u
 nd gewährleistet optimale Rahmenbedingungen für alle  teilnehmenden Sp
 ortler. Zehntausende von Zuschauern und ein buntes  Rahmenprogramm ent
 lang der Strecke verleihen der Veranstaltung jährlich  Volksfestcharak
 ter.\n\nStart:\n\nSonntag\, 5. September 2010 - Forchheim\, Paradeplat
 z\n\n\n\n\nHandbike\n08.40  Uhr\n\n\nInline-Skating-Marathon\n\n(Start
  in Blöcken:  Lizenzierte Skater - Fitness-Skater)\nab 08.50 Uhr\n\n\n
 Marathon\,  Team-Marathon\, 16 km-Lauf\n09.00 Uhr\n\n\nZielschluss - E
 bermannstadt\, B 470 Ortsmitte\n14.00 Uhr\n\n\n\n\nSamstag\, 4. Septem
 ber 2010 - Ebermannstadt\, Marktplatz\n\n\n\n\nBambinilauf  / Schülerl
 auf\nca. 14.30 Uhr\n\n\n\n\nWeitere Info's und Online-Anmeldung beim V
 eranstalter: Landkreis Forchheim\, Kultur- und Sportamt
X-ALT-DESC;FMTTYPE=text/html:<p><span style=font-size: medium\;><stron
 g>Erleben Sie</strong></span>&#8230\;.</p>\n<p>&#8230\; einen der schö
 nsten und  schnellsten Landschaftsmarathons in Deutschland. Die landsc
 haftliche  Idylle der Fränkischen Schweiz bietet eine einzigartige Kul
 isse für  tausende sportbegeisterte LäuferInnen und SkaterInnen. Die S
 trecke führt  auf der autofreien Bundesstraße 470 durch das Herz der F
 ränkischen  Schweiz und gewährleistet optimale Rahmenbedingungen für a
 lle  teilnehmenden Sportler. Zehntausende von Zuschauern und ein bunte
 s  Rahmenprogramm entlang der Strecke verleihen der Veranstaltung jähr
 lich  Volksfestcharakter.</p>\n<p><span style=text-decoration: underli
 ne\;><strong><span style=font-size: small\;><span style=font-family: a
 rial\,helvetica\,sans-serif\;>Start:</span></span></strong></span></p>
 \n<p><span style=text-decoration: underline\;><span style=font-size: s
 mall\;><span style=font-family: arial\,helvetica\,sans-serif\;>Sonntag
 \, 5. September 2010 &#8211\; Forchheim\, Paradeplatz</span></span></s
 pan></p>\n<table border=0>\n<tbody>\n<tr><td><p><span style=font-size:
  small\;><span style=font-family: arial\,helvetica\,sans-serif\;>Handb
 ike</span></span></p></td>\n<td><p><span style=font-size: small\;><spa
 n style=font-family: arial\,helvetica\,sans-serif\;>08.40  Uhr</span><
 /span></p></td></tr>\n<tr><td><p><span style=font-size: small\;><span 
 style=font-family: arial\,helvetica\,sans-serif\;>Inline-Skating-Marat
 hon</span></span></p>\n<p><span style=font-size: small\;><span style=f
 ont-family: arial\,helvetica\,sans-serif\;>(Start in Blöcken:  Lizenzi
 erte Skater &#8211\; Fitness-Skater)</span></span></p></td>\n<td><p><s
 pan style=font-size: small\;><span style=font-family: arial\,helvetica
 \,sans-serif\;>ab 08.50 Uhr</span></span></p></td></tr>\n<tr><td><p><s
 pan style=font-size: small\;><span style=font-family: arial\,helvetica
 \,sans-serif\;>Marathon\,  Team-Marathon\, 16 km-Lauf</span></span></p
 ></td>\n<td><p><span style=font-size: small\;><span style=font-family:
  arial\,helvetica\,sans-serif\;>09.00 Uhr</span></span></p></td></tr>\
 n<tr><td><p><span style=font-size: small\;><span style=font-family: ar
 ial\,helvetica\,sans-serif\;>Zielschluss &#8211\; Ebermannstadt\, B 47
 0 Ortsmitte</span></span></p></td>\n<td><p><span style=font-size: smal
 l\;><span style=font-family: arial\,helvetica\,sans-serif\;>14.00 Uhr<
 /span></span></p></td></tr>\n</tbody>\n</table>\n<p><span style=text-d
 ecoration: underline\;><span style=font-size: small\;><span style=font
 -family: arial\,helvetica\,sans-serif\;>Samstag\, 4. September 2010 &#
 8211\; Ebermannstadt\, Marktplatz</span></span></span></p>\n<table bor
 der=0>\n<tbody>\n<tr><td><p><span style=font-size: small\;><span style
 =font-family: arial\,helvetica\,sans-serif\;>Bambinilauf  / Schülerlau
 f</span></span></p></td>\n<td><p><span style=font-size: small\;><span 
 style=font-family: arial\,helvetica\,sans-serif\;>ca. 14.30 Uhr</span>
 </span></p></td></tr>\n</tbody>\n</table>\n<p>Weitere Info&#8217\;s un
 d Online-Anmeldung beim Veranstalter: <a href=http://www.fs-marathon.d
 e/_rubric/index.php?rubric=Ausschreibung target=_blank>Landkreis Forch
 heim\, Kultur- und Sportamt</a></p>\n
URL:https://www.runningsocks.de/wordpress/terminkalender/eventsinglepa
 ge/?event_id=45&lang=de
ATTACH:https://www.runningsocks.de/wordpress/terminkalender/eventsingl
 epage/?event_id=45&lang=de
LOCATION:Paradeplatz Forchheim\, Paradeplatz\, Forchheim
END:VEVENT
END:VCALENDAR
