BEGIN:VCALENDAR
VERSION:2.0
METHOD:PUBLISH
PRODID:-//hacksw/handcal//NONSGML v1.0//EN
BEGIN:VEVENT
DTSTAMP:20260419T165413Z
DTSTART:20190406T110000Z
DTEND:20190406T140000Z
UID:20190406T110000Z-20190406T140000Z-450@www.runningsocks.de
SUMMARY:16. Fürther Stadtwaldlauf
DESCRIPTION:Anspruchvoller Trial Lauf im Fürther Stadtwald\nStrecken: 
 8\,5Km Trial\, 5Km\, Schülerläufe über 3Km\, 1\,5Km\, Bambini über 0\,
 4Km\n\nZeitplan:\n\n 	11.00 Uhr Start 5Km (ab Jahrgang 2005)\n 	12.00 
 Uhr Start 3\,0 km (Jahrgang 2004-2007)\n 	12.15 Uhr Start 1\,5Km (Jahr
 gang 2008-2009)\n 	11.30 Uhr Start 1\,5 km (Jahrgang 2010 und jünger)\
 n 	12.45 Uhr Start 0\,4Km (Bambini\, Jahrgang 2011 und jünger)\n 	13.0
 0 Uhr Start 10-km\, Trail (ab Jahrgang 2003)\n 	ab 12.15 Uhr Siegerehr
 ungen Schülerläufe\, Bambini\n 	ab 14.00 Uhr Siegerehrungen Trail\n\nT
 eilnahmegebühren:\n\n\n 	Bambini-Lauf: kostenlos\n 	Schülerläufe: 5\,5
 0 € (bei Nachmeldung plus € 2.-)\n 	5 km: 12\,50 € (bei Nachmeldung pl
 us € 4.-)\n 	Stadtwaldlauf Trial: 15\,50 € (bei Nachmeldung plus € 4.-
 )\n\nAusgabe der Startunterlagen: vor Ort ab 9 Uhr bis jeweils 45 Minu
 ten vor dem Start\n\nAnmeldung: Ab Februar Online Anmeldung möglich. N
 achmeldungen nach Meldeschluß am 02.04. nur noch Vor Ort möglich!\nWei
 tere Info's und Online Anmeldung auf der Seite des Veranstalters: www.
 lac-quelle.de\nAusschreibung:\nfolgt sobald verfügbar ..
X-ALT-DESC;FMTTYPE=text/html:<p style=text-align: center\;><strong>Ans
 pruchvoller Trial Lauf im Fürther Stadtwald</strong></p>\n<p><strong>S
 trecken:</strong> 8\,5Km Trial\, 5Km\, Schülerläufe über 3Km\, 1\,5Km\
 , Bambini über 0\,4Km</p>\n<p><strong>Zeitplan:</strong></p>\n<ul>\n<l
 i>11.00 Uhr Start 5Km (ab Jahrgang 2005)</li>\n<li>12.00 Uhr Start 3\,
 0 km (Jahrgang 2004-2007)</li>\n<li>12.15 Uhr Start 1\,5Km (Jahrgang 2
 008-2009)</li>\n<li>11.30 Uhr Start 1\,5 km (Jahrgang 2010 und jünger)
 </li>\n<li>12.45 Uhr Start 0\,4Km (Bambini\, Jahrgang 2011 und jünger)
 </li>\n<li>13.00 Uhr Start 10-km\, Trail (ab Jahrgang 2003)</li>\n<li>
 ab 12.15 Uhr Siegerehrungen Schülerläufe\, Bambini</li>\n<li>ab 14.00 
 Uhr Siegerehrungen Trail</li>\n</ul>\n<p><strong>Teilnahmegebühren:<br
 >\n</strong></p>\n<ul>\n<li>Bambini-Lauf: kostenlos</li>\n<li>Schülerl
 äufe: 5\,50 € (bei Nachmeldung plus € 2.-)</li>\n<li>5 km: 12\,50 € (b
 ei Nachmeldung plus € 4.-)</li>\n<li>Stadtwaldlauf Trial: 15\,50 € (be
 i Nachmeldung plus € 4.-)</li>\n</ul>\n<p><strong>Ausgabe der Startunt
 erlagen: </strong>vor Ort ab 9 Uhr bis jeweils 45 Minuten vor dem Star
 t</p>\n<p><strong>Anmeldung:</strong> Ab <a href=http://www.lacquelle.
 de/veranstaltungen/laufveranstaltungen/stadtwaldlauf>Februar Online An
 meldung</a> möglich. Nachmeldungen nach Meldeschluß am 02.04. nur noch
  Vor Ort möglich!</p>\n<p style=text-align: left\;>Weitere Info&#8217\
 ;s und Online Anmeldung auf der Seite des Veranstalters: <a href=http:
 //www.lacquelle.de/veranstaltungen/laufveranstaltungen/stadtwaldlauf t
 arget=_blank rel=noopener>www.lac-quelle.de</a></p>\n<p style=text-ali
 gn: left\;><strong>Ausschreibung:</strong></p>\n<p style=text-align: l
 eft\;>folgt sobald verfügbar ..</p>\n
URL:https://www.runningsocks.de/wordpress/terminkalender/eventsinglepa
 ge/?event_id=450&lang=de
ATTACH:https://www.runningsocks.de/wordpress/terminkalender/eventsingl
 epage/?event_id=450&lang=de
LOCATION:TV Fürth 1860 e.V\, Coubertinstraße 2\, Fürth\,
END:VEVENT
END:VCALENDAR
