BEGIN:VCALENDAR
VERSION:2.0
METHOD:PUBLISH
PRODID:-//hacksw/handcal//NONSGML v1.0//EN
BEGIN:VEVENT
DTSTAMP:20260419T165930Z
DTSTART:20190309T093000Z
DTEND:20190309T113000Z
UID:20190309T093000Z-20190309T113000Z-451@www.runningsocks.de
SUMMARY:26. Rothseelauf
DESCRIPTION:Die erste Probe im Frühjahr und seit Jahren ein Klassiker 
 !\nStrecken:\n\n\n 	5\,2 Km\, Hobbylauf\, Nordic Walking\, 1 Runde um 
 den kleinen Rothsee\n 	10\,4Km\, Hauptlauf\, 2 Runden um den kleinen R
 othsee\n\nStartgeld:\n\n\n 	Hobbylauf: 9\,00 EUR\n 	Nordic Walking: 9\
 ,00 EUR\n 	Hauptlauf: 12\,00 EUR\n 	Nachmeldungen: 3\,00 EUR\n\nAnmeld
 ungen:\n\nBis zum 07.03. online möglich.\n\nNachmeldungen gelten ab 08
 .03. und sind nur noch bei runningConcepts am Obstmarkt 22 in Nürnberg
  von 11:00 - 16:00\, oder am Veranstaltungstag bis 30 Minuten vor dem 
 Start des jeweiligen Laufes vor Ort möglich.\n\nZeiten:\n\n 	Abholung 
 Startunterlagen am 08.03.: 11:00 - 16:00\, runningConcepts am Obstmark
 t 22 in Nürnberg\n 	Abholung Startunterlagen am 09.03.: ab 08:00\, Bir
 kach\, Start/Zielbereich\n 	Start Hobbylauf: 09:30\n 	Start Nordic Wal
 king: 09:30\n 	Start Hauptlauf: 10:30\n\nWeitere Info's wie immer dire
 kt beim Veranstalter: Zentrum-Leben\nOnline Anmeldung: myRaceResult\nA
 usschreibung:\nZentrum-Leben
X-ALT-DESC;FMTTYPE=text/html:<p style=text-align: center><strong>Die e
 rste Probe im Frühjahr und seit Jahren ein Klassiker !</strong></p>\n<
 p style=text-align: justify><strong><span style=text-decoration: under
 line>Strecken:</span></strong></p>\n<ul>\n<li>5\,2 Km\, Hobbylauf\, No
 rdic Walking\, 1 Runde um den kleinen Rothsee</li>\n<li>10\,4Km\, Haup
 tlauf\, 2 Runden um den kleinen Rothsee</li>\n</ul>\n<p style=text-ali
 gn: justify><span style=text-decoration: underline><strong>Startgeld:<
 /strong></span></p>\n<ul>\n<li>Hobbylauf: 9\,00 EUR</li>\n<li>Nordic W
 alking: 9\,00 EUR</li>\n<li>Hauptlauf: 12\,00 EUR</li>\n<li>Nachmeldun
 gen: 3\,00 EUR</li>\n</ul>\n<p><span style=text-decoration: underline>
 <strong>Anmeldungen:</strong></span><br>\n<br>\nBis zum 07.03. online 
 möglich.</p>\n<p>Nachmeldungen gelten ab 08.03. und sind nur noch bei 
 runningConcepts am Obstmarkt 22 in Nürnberg von 11:00 &#8211\; 16:00\,
  oder am Veranstaltungstag bis 30 Minuten vor dem Start des jeweiligen
  Laufes vor Ort möglich.</p>\n<p><span style=text-decoration: underlin
 e><strong>Zeiten:</strong></span></p>\n<ul>\n<li>Abholung Startunterla
 gen am 08.03.: 11:00 &#8211\; 16:00\, runningConcepts am Obstmarkt 22 
 in Nürnberg</li>\n<li>Abholung Startunterlagen am 09.03.: ab 08:00\, B
 irkach\, Start/Zielbereich</li>\n<li>Start Hobbylauf: 09:30</li>\n<li>
 Start Nordic Walking: 09:30</li>\n<li>Start Hauptlauf: 10:30</li>\n</u
 l>\n<p style=text-align: justify>Weitere Info&#8217\;s wie immer direk
 t beim Veranstalter: <a href=http://www.runningconcepts.de/rothseelauf
 .html target=_blank rel=noopener>Zentrum-Leben</a></p>\n<p>Online Anme
 ldung: <a href=https://my5.raceresult.com/111077/>myRaceResult</a></p>
 \n<p style=text-align: justify><span style=text-decoration: underline>
 <strong>Ausschreibung:</strong></span></p>\n<p style=text-align: justi
 fy><a href=http://www.runningconcepts.de/rothseelauf.html target=_blan
 k rel=noopener>Zentrum-Leben</a></p>\n
URL:https://www.runningsocks.de/wordpress/terminkalender/eventsinglepa
 ge/?event_id=451&lang=de
ATTACH:https://www.runningsocks.de/wordpress/terminkalender/eventsingl
 epage/?event_id=451&lang=de
LOCATION:Strandhaus Birkach\, Birkacher Uferweg 2\, Roth
END:VEVENT
END:VCALENDAR
