BEGIN:VCALENDAR
VERSION:2.0
METHOD:PUBLISH
PRODID:-//hacksw/handcal//NONSGML v1.0//EN
BEGIN:VEVENT
DTSTAMP:20260419T165234Z
DTSTART:20190606T160000Z
DTEND:20190606T180000Z
UID:20190606T160000Z-20190606T180000Z-452@www.runningsocks.de
SUMMARY:16. FunRun Südwest
DESCRIPTION:Nicht zu lang und nicht zu kurz!\n9\,9 km Streckenlänge un
 d seit 2014: 5Km – für Wenigläufer eine gut schaffbare Herausforderung
 \, für Vielläufer ein willkommenes Training. Umso mehr bei dem reizvol
 len Streckenverlauf über Asphalt\, Schotter- und Feldwege.\nLos geht’s
  vom Südwestpark aus Richtung Gebersdorf. Im Wiesengrund führt die Str
 ecke immer der Rednitz entlang gen Fürth. Nach einer Kehrtwende heißt 
 es dann an den grünen Uferzonen neben dem Rhein-Main-Donau-Kanal: Ends
 purt zurück bis zum Südwestpark!\nFür ausreichend Verpflegungsposten e
 ntlang der Strecke ist selbstverständlich gesorgt.\nDie wichtigsten Fa
 kten:\n\n 	Start/Ziel: im Südwestpark\n 	Strecke Läufer/Nordic Walker:
 \n9\,9 km (über Gebersdorf die Rednitz entlang Richtung Fürth\, am Ufe
 r des Main-Donau-Kanals zurück zum Südwestpark)\n 	Strecke Läufer:\n5\
 ,0 km\, Begrenzung auf maximal 400 Läufer (südlich Richtung Main-Donau
 - Kanal entlang – bis zu einer Wende nach ca. 2\,5 km)\n 	Strecke Kind
 er (4 bis 6 Jahre):\neine Runde durch den Südwestpark\n 	Strecke Schül
 er (7 bis 14 Jahre):\neine Runde durch den Südwestpark\n\nAlle Startze
 iten:\n\n 	ab 14:00 Uhr - 17:00 Uhr: Nachmeldung und Abholung der Star
 terunterlagen im Start-/Zielbereich\n 	18.00 Uhr: 1 Km Kinder\n 	18:15
  Uhr: 1 Km Schüler\n 	18:30 Uhr: 9\,9 km Läufer\n 	18:35 Uhr: 9\,9 km 
 Walker\n 	18:45 Uhr: 5 km Läufer\n 	ca. 19:05 Uhr: erster Zieleinlauf\
 n 	ca. 20:30 Uhr: Siegerehrung\n\nIn der Startgebühr inbegriffen:\n\n 
 	Transponder-Zeitmessung\n 	Dusch- und Umkleidemöglichkeiten\n 	Verpfl
 egungsposten auf der Strecke\n 	Urkunde (als Online-Ausdruck)\n 	Parkp
 lätze in den Parkhäusern\n\nUm den wachsenden Organisationsaufwand\,  
 sowie weiter soziale Initiativen in der Region mit Spenden fördern zu 
 können\, wird ab 2016 eine Aufwandsentschädigung für das Funktions Shi
 rt  erhoben. Während Kinder/Schüler das Shirt kostenlos überstreifen\,
  können es Erwachsene gegen eine Aufwandspauschale von sieben Euro bei
  der Registrierung in der Wunschgröße mit bestellen. T-Shirt Bestellun
 gen sind nur bis 15.03. möglich!\nAnmeldungen und Startgebühren:\n\n\n
 \n\nFrühbucherpreis \n\n(bis 15.03.)\nNormaler Preis\n\n(ab 16.03.)\n\
 n\n\n\nEinzelläufer Erwachsen\n14 €\n16 €\n\n\nGruppe Erwachsen\n12 €\
 n14 €\n\n\nFunktions-Shirt\n\n8 €\n-\n\n\nEinzelläufer/Gruppe Kind/Sch
 üler\nkostenlos\n5 €\n\n\n\n\n\nONLINE-Anmeldeschluss\nist der 31.05..
 \n\nAnmeldung vor Ort\nam 06.06. ab 14 Uhr - 17 Uhr\n\n\nWeitere Info'
 s beim Veranstalter: SÜD-WEST-PARK Management GmbH sowie Online Anmeld
 ungen\n\nAlle Info's ©FunRun Südwest\n\nAusschreibung\, Kurzinfo:\n\n[
 wpfilebase tag=file path='lauf/funrunsuedwest/20190606/20190606_Aussch
 reibung_FunRun-Suedwest.pdf' tpl=download-button /]
X-ALT-DESC;FMTTYPE=text/html:<h2 style=text-align: center>Nicht zu lan
 g und nicht zu kurz!</h2>\n<p style=text-align: justify>9\,9 km Streck
 enlänge und seit 2014: 5Km – für Wenigläufer eine gut schaffbare Herau
 sforderung\, für Vielläufer ein willkommenes Training. Umso mehr bei d
 em reizvollen Streckenverlauf über Asphalt\, Schotter- und Feldwege.<b
 r>\nLos geht’s vom Südwestpark aus Richtung Gebersdorf. Im Wiesengrund
  führt die Strecke immer der Rednitz entlang gen Fürth. Nach einer Keh
 rtwende heißt es dann an den grünen Uferzonen neben dem Rhein-Main-Don
 au-Kanal: Endspurt zurück bis zum Südwestpark!</p>\n<p>Für ausreichend
  Verpflegungsposten entlang der Strecke ist selbstverständlich gesorgt
 .</p>\n<h3><strong>Die wichtigsten Fakten:</strong></h3>\n<ul>\n<li><s
 trong>Start/Ziel:</strong> im Südwestpark</li>\n<li><strong>Strecke Lä
 ufer/Nordic Walker:</strong><br>\n9\,9 km (über Gebersdorf die Rednitz
  entlang Richtung Fürth\, am Ufer des Main-Donau-Kanals zurück zum Süd
 westpark)</li>\n<li><b>Strecke Läufer</b>:<br>\n5\,0 km\, Begrenzung a
 uf maximal 400 Läufer (südlich Richtung Main-Donau- Kanal entlang – bi
 s zu einer Wende nach ca. 2\,5 km)</li>\n<li><strong>Strecke Kinder (4
  bis 6 Jahre):</strong><br>\neine Runde durch den Südwestpark</li>\n<l
 i><strong>Strecke Schüler (7 bis 14 Jahre):</strong><br>\neine Runde d
 urch den Südwestpark</li>\n</ul>\n<h3>Alle Startzeiten:</h3>\n<ul>\n<l
 i>ab 14:00 Uhr &#8211\; 17:00 Uhr: Nachmeldung und Abholung der Starte
 runterlagen im Start-/Zielbereich</li>\n<li>18.00 Uhr: 1 Km Kinder</li
 >\n<li>18:15 Uhr: 1 Km Schüler</li>\n<li>18:30 Uhr: 9\,9 km Läufer</li
 >\n<li>18:35 Uhr: 9\,9 km Walker</li>\n<li>18:45 Uhr: 5 km Läufer</li>
 \n<li>ca. 19:05 Uhr: erster Zieleinlauf</li>\n<li>ca. 20:30 Uhr: Siege
 rehrung</li>\n</ul>\n<h3 id=c47><strong>In der Startgebühr inbegriffen
 :</strong></h3>\n<ul>\n<li>Transponder-Zeitmessung</li>\n<li>Dusch- un
 d Umkleidemöglichkeiten</li>\n<li>Verpflegungsposten auf der Strecke</
 li>\n<li>Urkunde (als Online-Ausdruck)</li>\n<li>Parkplätze in den Par
 khäusern</li>\n</ul>\n<p>Um den wachsenden Organisationsaufwand\,  sow
 ie weiter soziale Initiativen in der Region mit Spenden fördern zu kön
 nen\, wird ab 2016 eine Aufwandsentschädigung für das Funktions Shirt 
  erhoben. Während <strong>Kinder/Schüler das Shirt kostenlos</strong> 
 überstreifen\, können es Erwachsene gegen eine Aufwandspauschale von s
 ieben Euro bei der Registrierung in der Wunschgröße mit bestellen. <st
 rong>T-Shirt Bestellungen sind nur bis 15.03. möglich!</strong></p>\n<
 h3>Anmeldungen und Startgebühren:</h3>\n<table>\n<thead>\n<tr><th cols
 pan=1 rowspan=1 scope=col></th>\n<th colspan=1 rowspan=1 scope=col><st
 rong>Frühbucherpreis </strong></p>\n<p><strong>(bis 15.03.)</strong></
 th>\n<th colspan=1 rowspan=1 scope=col><strong>Normaler Preis</strong>
 <br>\n<br>\n(ab 16.03.)</th></tr>\n</thead>\n<tbody>\n<tr><td><strong>
 Einzelläufer Erwachsen</strong></td>\n<td>14 €</td>\n<td>16 €</td></tr
 >\n<tr><td><strong>Gruppe Erwachsen</strong></td>\n<td>12 €</td>\n<td>
 14 €</td></tr>\n<tr><td><strong>Funktions-Shirt<br>\n</strong></td>\n<
 td>8 €</td>\n<td>&#8211\;</td></tr>\n<tr><td><strong>Einzelläufer/Grup
 pe Kind/Schüler</strong></td>\n<td>kostenlos</td>\n<td>5 €</td></tr>\n
 </tbody>\n</table>\n<div id=c110>\n<p><strong>ONLINE-Anmeldeschluss</s
 trong><br>\nist der 31.05..</p>\n<p><strong>Anmeldung vor Ort</strong>
 <br>\nam 06.06. ab 14 Uhr &#8211\; 17 Uhr</p>\n</div>\n<p>Weitere Info
 &#8217\;s beim Veranstalter: <a href=http://www.funrunsuedwest.de/ tar
 get=_blank rel=noopener>SÜD-WEST-PARK Management GmbH</a> sowie Online
  <a href=http://www.funrunsuedwest.de/anmeldung.html target=_blank rel
 =noopener>Anmeldungen</a></p>\n<p>Alle Info&#8217\;s <a href=http://ww
 w.funrunsuedwest.de/ target=_blank rel=noopener>©FunRun Südwest</a></p
 >\n<p>Ausschreibung\, Kurzinfo:</p>\n<p>[wpfilebase tag=file path=&#82
 17\;lauf/funrunsuedwest/20190606/20190606_Ausschreibung_FunRun-Suedwes
 t.pdf&#8216\; tpl=download-button /]</p>\n
URL:https://www.runningsocks.de/wordpress/terminkalender/eventsinglepa
 ge/?event_id=452&lang=de
ATTACH:https://www.runningsocks.de/wordpress/terminkalender/eventsingl
 epage/?event_id=452&lang=de
LOCATION:Südwestpark\, Südwestpark 41\, Nürnberg
END:VEVENT
END:VCALENDAR
