BEGIN:VCALENDAR
VERSION:2.0
METHOD:PUBLISH
PRODID:-//hacksw/handcal//NONSGML v1.0//EN
BEGIN:VEVENT
DTSTAMP:20260419T165530Z
DTSTART:20190629T060000Z
DTEND:20190629T180000Z
UID:20190629T060000Z-20190629T180000Z-453@www.runningsocks.de
SUMMARY:11. 12h MTB Rennen - Schnaittach
DESCRIPTION:12 Stunden auf dem Mountainbike!\nAls Einzelfahrer oder im
  Team! Egal ob Profi oder ambitionierte Breitensportler - Der Spaßfakt
 or steht im Vordergrund. Auf einem abgesteckten Rundkurs fahren die Mo
 untainbikerinnen und Mountainbiker innerhalb von 12 Stunden möglichst 
 viele Runden. Wer am meisten Runden schafft ist Sieger.\n\nDie jährlic
 h steigenden Teilnehmerzahlen beweisen es - diese Art von Mountainbike
  Rennen wird immer beliebter. Daher wurde auch die Idee geboren\, ein 
 eigenes 12h Rennen zu veranstalten. Inzwischen geht das 12h Rennen in 
 die 11. Auflage.\n\nDer RC Schnaittach lädt daher alle Hobby- und Prof
 ibiker\, sowie alle Sportbegeisterte zu diesem Event ein.\n\nTeams:\n\
 n 	Einzelstarter (Damen\, Herren)\n 	Einzelstarter (Seniorinnen\, Seni
 oren\n 	Zweier-Team (Damen\, Herren\, Mixed)\n 	Vierer–Team (Damen\, H
 erren\, Mixed)\n\nStartkontingente: \n\n 	Einzelfahrer: 30 Startplätze
 \n 	2er-Teams: 40 Startplätze\n 	4er-Teams: 50 Startplätze\n\nStrecke:
 \n\nAusschließlich Wiese\, Wald- und Schotterwege. Rundkurs mit ca. 7 
 km Länge und ca. 100 HM. Streckenlänge und Runden können vom Veranstal
 ter geändert werden.\n\nStartgeld:\n\n 	Einzelstarter           40\,00
  € * / 50\,00 €\n 	2er-Mannschaft      80\,00 € * / 100\,00 €\n 	4er-M
 annschaft     160\,00 € * /200\,00 €\n\n* bei Anmeldung bis zum 31.05.
 \n\nAnmeldung: 01.02. ab 20:00\n\n\nAuf Grund der immensen Nachfrage i
 st eine Anmeldung zwingend am 01.02 otwendig\, um einen der begehrten 
 Startplätze zu ergattern :-)\n\nAnmeldeschluß: 03.06.\n\nDas Startgeld
  beinhaltet die Verpflegung der Teilnehmer während des Rennens.\n\nWei
 tere Infos und Online Anmeldung beim Veranstalter: Radclub Schnaittach
 tal e.V.
X-ALT-DESC;FMTTYPE=text/html:<h3 style=text-align: center\;><span styl
 e=text-decoration: underline\;>12 Stunden auf dem Mountainbike!</span>
 </h3>\n<p>Als Einzelfahrer oder im Team! Egal ob &#8222\;Profi&#8220\;
  oder ambitionierte Breitensportler &#8211\; Der Spaßfaktor steht im V
 ordergrund. Auf einem abgesteckten Rundkurs fahren die Mountainbikerin
 nen und Mountainbiker innerhalb von 12 Stunden möglichst viele Runden.
  Wer am meisten Runden schafft ist Sieger.</p>\n<p>Die jährlich steige
 nden Teilnehmerzahlen beweisen es &#8211\; diese Art von Mountainbike 
 Rennen wird immer beliebter. Daher wurde auch die Idee geboren\, ein e
 igenes 12h Rennen zu veranstalten. Inzwischen geht das 12h Rennen in d
 ie 11. Auflage.</p>\n<p>Der RC Schnaittach lädt daher alle Hobby- und 
 Profibiker\, sowie alle Sportbegeisterte zu diesem Event ein.</p>\n<p>
 <strong>Teams:</strong></p>\n<ul>\n<li>Einzelstarter (Damen\, Herren)<
 /li>\n<li>Einzelstarter (Seniorinnen\, Senioren</li>\n<li>Zweier-Team 
 (Damen\, Herren\, Mixed)</li>\n<li>Vierer–Team (Damen\, Herren\, Mixed
 )</li>\n</ul>\n<p><strong>Startkontingente: </strong></p>\n<ul>\n<li>E
 inzelfahrer: 30 Startplätze</li>\n<li>2er-Teams: 40 Startplätze</li>\n
 <li>4er-Teams: 50 Startplätze</li>\n</ul>\n<p><strong>Strecke:</strong
 ><br>\n<br>\nAusschließlich Wiese\, Wald- und Schotterwege. Rundkurs m
 it ca. 7 km Länge und ca. 100 HM. Streckenlänge und Runden können vom 
 Veranstalter geändert werden.</p>\n<p><strong>Startgeld:</strong></p>\
 n<ul>\n<li>Einzelstarter           40\,00 € * / 50\,00 €</li>\n<li>2er
 -Mannschaft      80\,00 € * / 100\,00 €</li>\n<li>4er-Mannschaft     1
 60\,00 € * /200\,00 €</li>\n</ul>\n<p>* bei Anmeldung bis zum 31.05.</
 p>\n<p>Anmeldung: <strong>01.02. ab 20:00<br>\n</strong><br>\n<br>\nAu
 f Grund der immensen Nachfrage ist eine Anmeldung zwingend am 01.02 ot
 wendig\, um einen der begehrten Startplätze zu ergattern :-)</p>\n<p>A
 nmeldeschluß: 03.06.</p>\n<p>Das Startgeld beinhaltet die Verpflegung 
 der Teilnehmer während des Rennens.</p>\n<p>Weitere Infos und Online A
 nmeldung beim Veranstalter: <a href=http://www.12h-rc-schnaittachtal.d
 e/cms/website.php target=_blank rel=noopener>Radclub Schnaittachtal e.
 V.</a></p>\n
URL:https://www.runningsocks.de/wordpress/terminkalender/eventsinglepa
 ge/?event_id=453&lang=de
ATTACH:https://www.runningsocks.de/wordpress/terminkalender/eventsingl
 epage/?event_id=453&lang=de
LOCATION:An der Alle / Badstraße\, Badstraße 4\, Schnaittach
END:VEVENT
END:VCALENDAR
