BEGIN:VCALENDAR
VERSION:2.0
METHOD:PUBLISH
PRODID:-//hacksw/handcal//NONSGML v1.0//EN
BEGIN:VEVENT
DTSTAMP:20260419T165352Z
DTSTART:20190608T140000Z
DTEND:20190608T170000Z
UID:20190608T140000Z-20190608T170000Z-457@www.runningsocks.de
SUMMARY:17. Leinburger Kirwa Lauf
DESCRIPTION:Wie immer am Pfingst-Samstag\, findet auch heuer wieder de
 r traditionelle Kirwa-Lauf in Leinburg statt. Dieses Jahr nun schon zu
 m 17. male.\nDas mittlerweile im ganzen Landkreis bekannte Lauf-Event 
 lockt bei meistens gutem Wetter viele laufbegeisterte Teilnehmern an. 
 Je nach gewählter Distanz geht es über Asphaltwege\, oder auch Wald- u
 nd Flurwege auf die Strecke.\nAlle dürfen mitmachen: Kinder\, Schüler 
 und Erwachsene\, egal ob als Nordic-Walker oder Jogger.\n\nStart und Z
 iel befindet sich im Hof der Brauerei Bub in Leinburg\, wo dann auch R
 eichliches für Hunger und Durst angeboten wird.\n\nAusschreibung:\n\n 
 	\n\n 	Auf der Seite des Veranstalters: TV Leinburg\n 	Allgemeine Info
  zum Kirwalauf: Leinburger Kirwalauf\n\n\n\nStart / Ziel\n\n\n 	Brauer
 eihof Bub / Leinburg\n\nLäufe und Startzeiten:\n\n 	15:00h: Kinderlauf
 \, 0\,5 Km\n 	15:30h: Schülerlauf\, 1\,5 Km\n 	16:00h: Kirwalauf ca. 1
 0 Km\n 	16:10h: Kirwalauf ca. 4\,5 Km\n 	16:10h: Nordic Walking ca. 4\
 ,5 Km\n\nStartgeld:\n\n 	Kinder-/ Schülerlauf      2\,00 EUR (€ 2 Nach
 meldegebühr nach 07.06.)\n 	Kirwalauf / Nordic-Walking  8\,00 EUR (€ 2
  Nachmeldegebühr nach 07.06.)\n\nStartnummernausgabe:\n\n 	14:00h  – 1
 5:00h  im Brauereihof Bub\n 	Nachmeldungen nur bis: 14:00h\n\nSiegereh
 rung:\n\n 	ca. 18:00h im Brauereihof Bub\n\nWas gibt's für das Startge
 ld?\n\n 	Die 3 Schnellsten jedes Rennens (Kirwalauf)\, weiblich & männ
 lich\, erhalten Sachpreise.\n 	Zudem erfolgt eine Sachpreisverlosung u
 nter allen Teilnehmern.\n\n\nAnmeldung:\n\nbis  07.06. - 19:00h bei:\n
 Angela Gruber\nBütenstrasse 7\, 91227 Leinburg\nTelefon: 09120 / 18 12
  99\nE-Mail: angela.gruber@t-online.de.de\nFlyer:\n\nfolgt\, sobald ve
 rfügbar
X-ALT-DESC;FMTTYPE=text/html:<p>Wie immer am Pfingst-Samstag\, findet 
 auch heuer wieder der traditionelle Kirwa-Lauf in Leinburg statt. Dies
 es Jahr nun schon zum 17. male.<br>\nDas mittlerweile im ganzen Landkr
 eis bekannte Lauf-Event lockt bei meistens gutem Wetter viele laufbege
 isterte Teilnehmern an. Je nach gewählter Distanz geht es über Asphalt
 wege\, oder auch Wald- und Flurwege auf die Strecke.<br>\nAlle dürfen 
 mitmachen: Kinder\, Schüler und Erwachsene\, egal ob als Nordic-Walker
  oder Jogger.</p>\n<p>Start und Ziel befindet sich im <a href=http://w
 ww.leinburger-bier.de/>Hof der Brauerei Bub</a> in Leinburg\, wo dann 
 auch Reichliches für Hunger und Durst angeboten wird.</p>\n<p><strong>
 Ausschreibung:</strong></p>\n<ul>\n<li style=list-style-type: none>\n<
 ul>\n<li>Auf der Seite des Veranstalters: <a href=http://www.tvleinbur
 g.de/skiabteilung/kirwalauf_ausschreibung_2019.html target=_blank rel=
 noopener noreferrer>TV Leinburg</a></li>\n<li>Allgemeine Info zum Kirw
 alauf: <a href=http://www.tvleinburg.de/skiabteilung/kirwalauf.html ta
 rget=_blank rel=noopener>Leinburger Kirwalauf</a></li>\n</ul>\n</li>\n
 </ul>\n<p><strong>Start / Ziel<br>\n</strong></p>\n<ul>\n<li>Brauereih
 of Bub / Leinburg</li>\n</ul>\n<p><strong>Läufe und Startzeiten:</stro
 ng></p>\n<ul>\n<li>15:00h: Kinderlauf\, 0\,5 Km</li>\n<li>15:30h: Schü
 lerlauf\, 1\,5 Km</li>\n<li>16:00h: Kirwalauf ca. 10 Km</li>\n<li>16:1
 0h: Kirwalauf ca. 4\,5 Km</li>\n<li>16:10h: Nordic Walking ca. 4\,5 Km
 </li>\n</ul>\n<p><strong>Startgeld:</strong></p>\n<ul>\n<li>Kinder-/ S
 chülerlauf      2\,00 EUR (€ 2 Nachmeldegebühr nach 07.06.)</li>\n<li>
 Kirwalauf / Nordic-Walking  8\,00 EUR (€ 2 Nachmeldegebühr nach 07.06.
 )</li>\n</ul>\n<p><strong>Startnummernausgabe:</strong></p>\n<ul>\n<li
 >14:00h  – 15:00h  im <a href=http://www.leinburger-bier.de/>Brauereih
 of Bub</a></li>\n<li>Nachmeldungen nur bis: 14:00h</li>\n</ul>\n<p><st
 rong>Siegerehrung:</strong></p>\n<ul>\n<li>ca. 18:00h im <a href=http:
 //www.leinburger-bier.de/>Brauereihof Bub</a></li>\n</ul>\n<p><strong>
 Was gibt&#8217\;s für das Startgeld?</strong></p>\n<ul>\n<li>Die 3 Sch
 nellsten jedes Rennens (Kirwalauf)\, weiblich &amp\; männlich\, erhalt
 en Sachpreise.</li>\n<li>Zudem erfolgt eine Sachpreisverlosung unter a
 llen Teilnehmern.<span style=font-family: Arial\,Helvetica\,sans-serif
 \;font-size: small><br>\n</span></li>\n</ul>\n<p><strong>Anmeldung:</s
 trong><br>\n<br>\nbis  07.06. &#8211\; 19:00h bei:</p>\n<p style=paddi
 ng-left: 60px>Angela Gruber<br>\nBütenstrasse 7\, 91227 Leinburg<br>\n
 Telefon: 09120 / 18 12 99<br>\nE-Mail: <a id=linkgruen href=mailto:ang
 ela.gruber@t-online.de target=_blank rel=noopener noreferrer>angela.gr
 uber@t-online.de.de</a></p>\n<p>Flyer:</p>\n<p>folgt\, sobald verfügba
 r</p>\n
URL:https://www.runningsocks.de/wordpress/terminkalender/eventsinglepa
 ge/?event_id=457&lang=de
ATTACH:https://www.runningsocks.de/wordpress/terminkalender/eventsingl
 epage/?event_id=457&lang=de
LOCATION:Brauereihof Bub\, Marktplatz 14\, Leinburg
END:VEVENT
END:VCALENDAR
