BEGIN:VCALENDAR
VERSION:2.0
METHOD:PUBLISH
PRODID:-//hacksw/handcal//NONSGML v1.0//EN
BEGIN:VEVENT
DTSTAMP:20260419T165515Z
DTSTART:20190623T050000Z
DTEND:20190623T130000Z
UID:20190623T050000Z-20190623T130000Z-458@www.runningsocks.de
SUMMARY:8. Stadttriathlon Forchheim
DESCRIPTION:Im Jahr 2010 ging mit dem 18. Altstadtfest-Triathlon des V
 FB in Forchheim eine Ära zu Ende. Die Weiterführung des beliebten Tria
 thlon stand auf der Kippe. Jedoch führte der SSV Forchheim ab 2012 die
  Tradition des Forchheimer Stadt-Triathlon fort. Und somit findet dies
 es Jahr der nun 8. Stadttriathlon in Forchheim statt. Die Strecken sin
 d für Schüler und Jedermänner ausgerichtet\, und bieten somit für Anfä
 nger\, Fortgeschrittene oder auch Profis einen Anreiz.\nStrecken:\n\n\
 n\n\nSchwimmen\nRadfahren\nLaufen\n\n\nLandesliga Nord\n0\,75 Km\n20 K
 m\n5 Km\n\n\nJedermann\n0\,5 Km\n19 Km\n5 Km\n\n\nFitnessdistanz\n0\,3
  Km\n10 Km\n2\,5 Km\n\n\nSchülerdistanz\n0\,3 Km\n10 Km\n2\,5 Km\n\n\n
 \nZeitplan:\n\n\n\nam 22.06.:\n\n\n16:00 - 18:00\nRegistrierung und Au
 sgabe der Startnummern im Königsbad\n\n\nam 23.06.:\n\n\n7:00 - 8:20\n
 Registrierung und Ausgabe der Startnummern im Königsbad für alle Start
 er\n\n\n7:00 - 8:40\nCheck-In in die Wechselzone am Königsbad\nZum Che
 ck in sind mitzubringen Fahrrad und Radhelm mit jeweils angebrachter K
 lebenummer\, Check in mit aufgesetztem und geschlossenem Helm sowie al
 le Laufsachen.\n\n\n8:40\nWettkampfbesprechung für alle Teilnehmer am 
 Außenbecken\, Freibad Käsröthe\nTeilnahme an der Wettkampfbesprechung 
 ist Pflicht!\n\n\nStart ab 9:00\n\n \n\n \n\n \n\n \n\n \nDer Start er
 folgt als Rolling Start im Zeitabstand von 20 Sekunden. Die Starteinte
 ilung der Athleten wird auf der Homepage im Vorfeld sowie im Freibad a
 uf der Infotafel angegeben. Die Teilnehmer sind selbst dafür verantwor
 tlich\, rechtzeitig im Vorstartbereich einzutreffen.\n\nab ca.  9:00 L
 andesliga (600m Swim + 2\,5 Run) Gruppe 9\, Gold\n\nab ca.  9:12 Schül
 er (300m Swim) Gruppe 1\, weiß\n\nab ca. 9:25 Fitness (300m Swim) Grup
 pe 2\, pink\n\nab ca. 9:40 Jedermann (500m Swim) Gruppe 3\, dunkelblau
 \n\n.....\nbis ca. 11:03 Jedermann (500m Swim) Gruppe 8\, gelb\n\nca. 
 11:55 Landesliga (750m Swim\, 20K Bike\, 2\,5K Run) Gruppe 9\, gold\n\
 n\n10:00 - 15:00\nTriathlon Messe\n\n\n14:00 - 16:00\nCheck-Out\, Fahr
 radaushändigung inkl. Wechselbeutel nur an die Teilnehmer gegen Vorlag
 e der Startnummer und Rückgabe des Transponders.\n\n\nca. 13:00\nSiege
 rehrung (alle Distanzen u. Wertungen) im Zielbereich\ndavor Tombola (V
 erlosung vieler schöner Sachpreise)\n\n\n\nStartgelder:\n\n\n\nZeitrau
 m\nSchüler         \nFitness \nJedermann   \nStaffel Jedermann   \nLan
 desliga\n\n\nAnmeldung bis 31.03.\n19 €\n29 €\n35 €\n70 €\n\n\n\nAnmel
 dung ab 01.04.\n24 €\n34 €\n39 €\n75 €\n35 €\n\n\nAnmeldung ab 01.06.\
 n24 €\n39 €\n44 €\n85 €\n\n\n\n\nOnline Anmeldung bis: 14.06.\n\nNachm
 eldung bis: 20.06.\, solaneg das Teilnehmerlimit nicht erreicht ist.\n
 \nNachmeldegebühr: 5 €\n\nTeilnehmerlimit:\n\n\n\nSchüler\n40\n\n\nFit
 ness\n40\n\n\nJedermann & Staffeln\n350\n\n\n\nAlle weiteren\, aktuell
 en Infos\, sowie Online Anmeldung direkt beim Veranstalter: SSV Forchh
 eim\n\nAusschreibung:\n\n[wpfilebase tag=file path='triathlon/stadttri
 athlon-forchheim/20190623/20190623_Ausschreibung_StadtTriathlon-Forchh
 eim.pdf' tpl=download-button /]
X-ALT-DESC;FMTTYPE=text/html:<p style=text-align: center>Im Jahr 2010 
 ging mit dem 18. Altstadtfest-Triathlon des VFB in Forchheim eine Ära 
 zu Ende. Die Weiterführung des beliebten Triathlon stand auf der Kippe
 . Jedoch führte der SSV Forchheim ab 2012 die Tradition des Forchheime
 r Stadt-Triathlon fort. Und somit findet dieses Jahr der nun 8. Stadtt
 riathlon in Forchheim statt. Die Strecken sind für Schüler und Jedermä
 nner ausgerichtet\, und bieten somit für Anfänger\, Fortgeschrittene o
 der auch Profis einen Anreiz.</p>\n<p>Strecken:</p>\n<table class= ali
 gncenter>\n<tbody>\n<tr><td></td>\n<td style=text-align: center><stron
 g>Schwimmen</strong></td>\n<td style=text-align: center><strong>Radfah
 ren</strong></td>\n<td style=text-align: center><strong>Laufen</strong
 ></td></tr>\n<tr><td>Landesliga Nord</td>\n<td style=text-align: cente
 r>0\,75 Km</td>\n<td style=text-align: center>20 Km</td>\n<td style=te
 xt-align: center>5 Km</td></tr>\n<tr><td>Jedermann</td>\n<td style=tex
 t-align: center>0\,5 Km</td>\n<td style=text-align: center>19 Km</td>\
 n<td style=text-align: center>5 Km</td></tr>\n<tr><td>Fitnessdistanz</
 td>\n<td style=text-align: center>0\,3 Km</td>\n<td style=text-align: 
 center>10 Km</td>\n<td style=text-align: center>2\,5 Km</td></tr>\n<tr
 ><td>Schülerdistanz</td>\n<td style=text-align: center>0\,3 Km</td>\n<
 td style=text-align: center>10 Km</td>\n<td style=text-align: center>2
 \,5 Km</td></tr>\n</tbody>\n</table>\n<p>Zeitplan:</p>\n<table style=w
 idth: 792px border=0>\n<tbody>\n<tr><td style=width: 784px colspan=2><
 strong>am 22.06.:</strong></td></tr>\n<tr><td style=width: 105px>16:00
  &#8211\; 18:00</td>\n<td style=width: 679px>Registrierung und Ausgabe
  der Startnummern im Königsbad</td></tr>\n<tr><td style=width: 784px c
 olspan=2><strong>am 23.06.:</strong></td></tr>\n<tr><td style=width: 1
 05px>7:00 &#8211\; 8:20</td>\n<td style=width: 679px>Registrierung und
  Ausgabe der Startnummern im Königsbad für alle Starter</td></tr>\n<tr
 ><td style=width: 105px align=left valign=top>7:00 &#8211\; 8:40</td>\
 n<td style=width: 679px><strong>Check-In in die Wechselzone</strong> a
 m Königsbad<br>\nZum Check in sind mitzubringen Fahrrad und Radhelm mi
 t jeweils angebrachter Klebenummer\, Check in mit aufgesetztem und ges
 chlossenem Helm sowie alle Laufsachen.</td></tr>\n<tr><td style=width:
  105px>8:40</td>\n<td style=width: 679px><strong>Wettkampfbesprechung 
 für alle Teilnehmer</strong> am Außenbecken\, Freibad Käsröthe<br>\nTe
 ilnahme an der Wettkampfbesprechung ist Pflicht!</td></tr>\n<tr><td st
 yle=width: 105px valign=top>Start ab 9:00</p>\n<p>&nbsp\;</p>\n<p>&nbs
 p\;</p>\n<p>&nbsp\;</p>\n<p>&nbsp\;</p>\n<p>&nbsp\;</td>\n<td style=wi
 dth: 679px>Der Start erfolgt als Rolling Start im Zeitabstand von 20 S
 ekunden. Die Starteinteilung der Athleten wird auf der Homepage im Vor
 feld sowie im Freibad auf der Infotafel angegeben. Die Teilnehmer sind
  selbst dafür verantwortlich\, rechtzeitig im Vorstartbereich einzutre
 ffen.</p>\n<p>ab ca.  9:00 Landesliga (600m Swim + 2\,5 Run) Gruppe 9\
 , Gold</p>\n<p>ab ca.  9:12 Schüler (300m Swim) Gruppe 1\, weiß</p>\n<
 p>ab ca. 9:25 Fitness (300m Swim) Gruppe 2\, pink</p>\n<p>ab ca. 9:40 
 Jedermann (500m Swim) Gruppe 3\, dunkelblau</p>\n<p>&#8230\;..<br>\nbi
 s ca. 11:03 Jedermann (500m Swim) Gruppe 8\, gelb</p>\n<p>ca. 11:55 La
 ndesliga (750m Swim\, 20K Bike\, 2\,5K Run) Gruppe 9\, gold</td></tr>\
 n<tr><td style=width: 105px align=left valign=top>10:00 &#8211\; 15:00
 </td>\n<td style=width: 679px><strong>Triathlon Messe</strong></td></t
 r>\n<tr><td style=width: 105px>14:00 &#8211\; 16:00</td>\n<td style=wi
 dth: 679px><strong>Check-Ou</strong>t\, Fahrradaushändigung inkl. Wech
 selbeutel nur an die Teilnehmer gegen Vorlage der Startnummer und Rück
 gabe des Transponders.</td></tr>\n<tr><td style=width: 105px>ca. 13:00
 </td>\n<td style=width: 679px><strong>Siegerehrung</strong> (alle Dist
 anzen u. Wertungen) im Zielbereich<br>\ndavor Tombola (Verlosung viele
 r schöner Sachpreise)</td></tr>\n</tbody>\n</table>\n<p><strong>Startg
 elder:</strong></p>\n<table border=0>\n<tbody>\n<tr><td><strong>Zeitra
 um</strong></td>\n<td style=text-align: center><strong>Schüler        
  </strong></td>\n<td style=text-align: center><strong>Fitness </strong
 ></td>\n<td style=text-align: center><strong>Jedermann   </strong></td
 >\n<td style=text-align: center><strong>Staffel Jedermann   </strong><
 /td>\n<td style=text-align: center><strong>Landesliga</strong></td></t
 r>\n<tr><td>Anmeldung bis 31.03.</td>\n<td style=text-align: center>19
  €</td>\n<td style=text-align: center>29 €</td>\n<td style=text-align:
  center>35 €</td>\n<td style=text-align: center>70 €</td>\n<td style=t
 ext-align: center></td></tr>\n<tr><td>Anmeldung ab 01.04.</td>\n<td st
 yle=text-align: center>24 €</td>\n<td style=text-align: center>34 €</t
 d>\n<td style=text-align: center>39 €</td>\n<td style=text-align: cent
 er>75 €</td>\n<td style=text-align: center>35 €</td></tr>\n<tr><td>Anm
 eldung ab 01.06.</td>\n<td style=text-align: center>24 €</td>\n<td sty
 le=text-align: center>39 €</td>\n<td style=text-align: center>44 €</td
 >\n<td style=text-align: center>85 €</td>\n<td style=text-align: cente
 r></td></tr>\n</tbody>\n</table>\n<p>Online Anmeldung bis: 14.06.</p>\
 n<p>Nachmeldung bis: 20.06.\, solaneg das Teilnehmerlimit nicht erreic
 ht ist.</p>\n<p>Nachmeldegebühr: 5 €</p>\n<p><strong>Teilnehmerlimit:<
 /strong></p>\n<table width=232>\n<tbody>\n<tr><td>Schüler</td>\n<td>40
 </td></tr>\n<tr><td>Fitness</td>\n<td>40</td></tr>\n<tr><td>Jedermann 
 &amp\; Staffeln</td>\n<td>350</td></tr>\n</tbody>\n</table>\n<p>Alle w
 eiteren\, aktuellen Infos\, sowie<a href=https://www.wkm-iad.de/stdtri
 a19_onlineanmeldung_e.php target=_blank rel=noopener> Online Anmeldung
 </a> direkt beim Veranstalter: <a href=https://stadttriathlon-forchhei
 m.de/ target=_blank rel=noopener>SSV Forchheim</a></p>\n<p><strong>Aus
 schreibung:</strong><br>\n<br>\n[wpfilebase tag=file path=&#8217\;tria
 thlon/stadttriathlon-forchheim/20190623/20190623_Ausschreibung_StadtTr
 iathlon-Forchheim.pdf&#8216\; tpl=download-button /]</p>\n
URL:https://www.runningsocks.de/wordpress/terminkalender/eventsinglepa
 ge/?event_id=458&lang=de
ATTACH:https://www.runningsocks.de/wordpress/terminkalender/eventsingl
 epage/?event_id=458&lang=de
LOCATION:Königsbad Forchheim\, Käsröthe 4\, Forchheim
END:VEVENT
END:VCALENDAR
