BEGIN:VCALENDAR
VERSION:2.0
METHOD:PUBLISH
PRODID:-//hacksw/handcal//NONSGML v1.0//EN
BEGIN:VEVENT
DTSTAMP:20260419T165315Z
DTSTART:20100919T080000Z
DTEND:20100919T110000Z
UID:20100919T080000Z-20100919T110000Z-46@www.runningsocks.de
SUMMARY:11. Neumarkter Stadtlauf
DESCRIPTION:Es ist schon Tradition: Immer eine Wochenende nach dem die
  Ferien zu  Ende sind startet der Neumarkter Stadtlauf. Der wichtigste
  Lauf ist  unser Halbmarathon. 1059 Starter waren im letzten Jahr am S
 tart und  genossen die tolle Stimmung auf der Laufstrecke. Auch heuer 
 ist der  Start wieder am 19. September um Punkt 10:00 Uhr in der Neuma
 rkter  Innenstadt.\n\nStart / Ziel:\n\n5\,5Km Schnupperlauf: 19. Septe
 mber 2010 um 9:50 Uhr\, \, Rathaus\, Innenstadt\n\nStartgeld:\n\nBis z
 um 14.07.2010  14\,50 Euro\n vom 15.07. bis 08.09.10  17\,50 Euro\n Na
 chmeldung  09.09. bis 18.09.10  22\,50 Euro\n\n10\,5Km Lauf: 19. Septe
 mber 2010\, 10 Uhr\, Rathaus\, Innenstadt\,  Zielschluss 12 Uhr\n\nSta
 rtgeld:\n\nBis zum 14.07.2010  18\,50 Euro\n vom 15.07. bis 08.09.10  
 21\,50 Euro\n Nachmeldung  09.09. bis 18.09.10  26\,50 Euro\n\nHalbmar
 athon: 19. September 2010\, 10 Uhr\, Rathaus\, Innenstadt\,  Zielschlu
 ss 12.40 Uhr\n\nStartgeld:\n\nBis zum 14.07.2010  24\,50 Euro\n vom 15
 .07. bis 08.09.10  26\,50 Euro\n Nachmeldung  09.09. bis 18.09.10  31\
 ,50 Euro\n\nLeistungen:\n\nWas man alles für sein Startgeld bekommt:\n
 \n\n	Funktions T-Shirt als Finishergeschenk\n	Finishermedaille\n	Start
 nummer mit persönlichen Vornamen\n	Informationszeitschrift mit allen S
 tartern\n	Gutschein für die Kloß mit Soß Party am Samstag\n	Gutschein 
 für einen freien Eintritt im Freibad\n	Nettozeitmessung mittels Chips 
 mit Einzelwertung\, Klassenwertung und  Teamwertung\n	Abgesperrte Stre
 cke mit großen Kilometertafeln\n	Musik an vielen Stellen\n	Kostenlose 
 Teilnahme am Samstagprogramm mit Livemusik\n	Ärztliche Versorgung mit 
 drei Notärzten und vielen Sanitätern auf  der Strecke und im Zielberei
 ch\n	Verpflegung auf der Strecke mit Wasser und ISO\n	\nVerpflegung im
  Zielbereich mit Wasser\, ISO\; Cola  und Früchten\n\n	Dusch- und Mass
 agemöglichkeit nach dem Lauf\n	Rahmenprogramm für Groß und Klein\n	Urk
 unde\, Ergebnisheft im Internet zum runterladen\n	Und natürlich einen 
 perfekt organisierten Ablauf\n\nWertungen:\n\nEinzelwertung\,  Stadtme
 ister/Stadtmeisterin\, Mannschaftswertung (5 Läufer bilden eine  Manns
 chaft\, bitte auf identische Mannschaftsnamen im Meldeformular  achten
 ).\n\nFlyer zum 11. Neumarkter_Stadtlauf\n\nWeitere Info's und Onlinea
 nmeldung beim Veranstalter: Stadtlauf Neumarkt e.V.\n\nAnmeldung für d
 as Running SUN Team.
X-ALT-DESC;FMTTYPE=text/html:<p>Es ist schon Tradition: Immer eine Woc
 henende nach dem die Ferien zu  Ende sind startet der Neumarkter Stadt
 lauf. Der wichtigste Lauf ist  unser Halbmarathon. 1059 Starter waren 
 im letzten Jahr am Start und  genossen die tolle Stimmung auf der Lauf
 strecke. Auch heuer ist der  Start wieder am 19. September um Punkt 10
 :00 Uhr in der Neumarkter  Innenstadt.</p>\n<h3><span style=font-size:
  small\;>Start / Ziel:</span></h3>\n<p><span style=text-decoration: un
 derline\;>5\,5Km Schnupperlauf:</span> 19. September 2010 um 9:50 Uhr\
 , \, Rathaus\, Innenstadt</p>\n<p style=padding-left: 30px\;>Startgeld
 :</p>\n<p style=padding-left: 30px\;>Bis zum 14.07.2010  14\,50 Euro<b
 r>\n vom 15.07. bis 08.09.10  17\,50 Euro<br>\n Nachmeldung  09.09. bi
 s 18.09.10  22\,50 Euro</p>\n<p>10\,5Km Lauf: 19. September 2010\, 10 
 Uhr\, Rathaus\, Innenstadt\,  Zielschluss 12 Uhr</p>\n<p style=padding
 -left: 30px\;>Startgeld:</p>\n<p style=padding-left: 30px\;>Bis zum 14
 .07.2010  18\,50 Euro<br>\n vom 15.07. bis 08.09.10  21\,50 Euro<br>\n
  Nachmeldung  09.09. bis 18.09.10  26\,50 Euro</p>\n<p>Halbmarathon: 1
 9. September 2010\, 10 Uhr\, Rathaus\, Innenstadt\,  Zielschluss 12.40
  Uhr</p>\n<p style=padding-left: 30px\;>Startgeld:</p>\n<p style=paddi
 ng-left: 30px\;>Bis zum 14.07.2010  24\,50 Euro<br>\n vom 15.07. bis 0
 8.09.10  26\,50 Euro<br>\n Nachmeldung  09.09. bis 18.09.10  31\,50 Eu
 ro</p>\n<h3>Leistungen:</h3>\n<p>Was man alles für sein Startgeld beko
 mmt:</p>\n<ul>\n<li>Funktions T-Shirt als Finishergeschenk</li>\n<li>F
 inishermedaille</li>\n<li>Startnummer mit persönlichen Vornamen</li>\n
 <li>Informationszeitschrift mit allen Startern</li>\n<li>Gutschein für
  die &#8222\;Kloß mit Soß Party&#8220\; am Samstag</li>\n<li>Gutschein
  für einen freien Eintritt im Freibad</li>\n<li>Nettozeitmessung mitte
 ls Chips mit Einzelwertung\, Klassenwertung und  Teamwertung</li>\n<li
 >Abgesperrte Strecke mit großen Kilometertafeln</li>\n<li>Musik an vie
 len Stellen</li>\n<li>Kostenlose Teilnahme am Samstagprogramm mit Live
 musik</li>\n<li>Ärztliche Versorgung mit drei Notärzten und vielen San
 itätern auf  der Strecke und im Zielbereich</li>\n<li>Verpflegung auf 
 der Strecke mit Wasser und ISO</li>\n<li>\n<div>Verpflegung im Zielber
 eich mit Wasser\, ISO\; Cola  und Früchten</div>\n</li>\n<li>Dusch- un
 d Massagemöglichkeit nach dem Lauf</li>\n<li>Rahmenprogramm für Groß u
 nd Klein</li>\n<li>Urkunde\, Ergebnisheft im Internet zum runterladen<
 /li>\n<li>Und natürlich einen perfekt organisierten Ablauf</li>\n</ul>
 \n<h3><strong>Wertungen:</strong></h3>\n<p>Einzelwertung\,  Stadtmeist
 er/Stadtmeisterin\, Mannschaftswertung (5 Läufer bilden eine  Mannscha
 ft\, bitte auf identische Mannschaftsnamen im Meldeformular  achten).<
 /p>\n<p>Flyer zum <a href=https://www.runningsocks.de/wordpress/wp-con
 tent/uploads/2010/05/20100919_Neumarkter_Stadtlauf.pdf>11. Neumarkter_
 Stadtlauf</a></p>\n<p>Weitere Info&#8217\;s und Onlineanmeldung beim V
 eranstalter: <a href=http://www.stadtlauf-neumarkt.de target=_blank>St
 adtlauf Neumarkt e.V.</a></p>\n<p><a href=https://www.runningsocks.de/
 wordpress/2010/06/15/aufruf-zum-11-neumarkter-stadtlauf/ target=_blank
 >Anmeldung</a> für das <strong>Running SUN</strong> Team.</p>\n
URL:https://www.runningsocks.de/wordpress/terminkalender/eventsinglepa
 ge/?event_id=46&lang=de
ATTACH:https://www.runningsocks.de/wordpress/terminkalender/eventsingl
 epage/?event_id=46&lang=de
LOCATION:Rathaus Neumarkt\, Rathaus\, Neumarkt
END:VEVENT
END:VCALENDAR
