BEGIN:VCALENDAR
VERSION:2.0
METHOD:PUBLISH
PRODID:-//hacksw/handcal//NONSGML v1.0//EN
BEGIN:VEVENT
DTSTAMP:20260419T165720Z
DTSTART:20191231T120000Z
DTEND:20191231T140000Z
UID:20191231T120000Z-20191231T140000Z-460@www.runningsocks.de
SUMMARY:17. Nürnberger Silvesterlauf
DESCRIPTION:Liebe Läuferinnen und Läufer des letztjährigen Silvesterla
 ufs\, es ist wieder soweit. Ab 01. 10. ist die Online-Anmeldung zum Nü
 rnberger Silvesterlauf geöffnet.\nBis 17.11. gibt es Frühbucher Rabatt
 e\, also schnell zuschlagen und nicht vergessen.  Erfahrungsgemäß ist 
 der Lauf schon vor Ende der Anmeldefrist ausgebucht (Teilnehmerlimit: 
 1319). Von der Startgebühr wird ein Teil gespendet:\n0\,50 € der Start
 gebühr gehen als Spende an die Wärmestube der Caritas und der Stadtmis
 sion Nürnberg.\nStart und Ziel:\n\nBeim Tante Noris auf dem Johann-Soe
 rgel-Weg direkt vor dem neuen Steg am Wöhrder See\n\nAnmelde\,- Startg
 ebühren:\n\nFrühbucherrabatt bis 17.11.\n10 km Hauptlauf: 15€\n5 km Ho
 bbylauf: 10 €\nBambini und Schülerlauf: 4 €\n\nNormalpreis ab 18.11.\n
 10 km Hauptlauf: 20 €\n5 km Hobbylauf: 13 €\nBambini und Schülerlauf: 
 4 €\n\nNachmeldungen ab 16.12.\n(sofern noch Plätze vorhanden)\n10 km 
 Hauptlauf: 25 €\n5 km Hobbylauf: 15 €\nBambini und Schülerlauf: 4 €\n\
 nEin Funktionsshirt (dieses Jahr ein Langarmshirt) kann für 19 EUR zus
 ätzlich bei der Anmeldung bestellt werden (solange Vorrat reicht)\nZei
 tplan:\n10:45 Uhr: Start 400 m Bambinilauf\n11:00 Uhr: Start 1600 m Sc
 hülerlauf\n11:15 Uhr: Siegerehrung Bambinilauf\n11:30 Uhr: Start 5 km 
 Hobbylauf\n12:15 Uhr: Siegerehrung Schüler- und Hobbylauf sowie Family
 &Friends Cup-Verlosung\n13:00 Uhr: Start 10 km Hauptlauf\n14:30 Uhr: S
 iegerehrung Hauptlauf und Teamcup\n\nGutmann Team Cup:\n\nAuch dieses 
 Jahr gibt es wieder den Gutmann Team Cup.  Beim 10-km-Hauptlauf werden
  alle Teams gewertet\, die mit gleichem Vereins- oder Gruppennamen (bi
 tte bei der Online-Anmeldung unbedingt auf gleiche Bezeichnung achten!
 ) eingetragen sind. Gewertet werden alle Teams mit den Zeiten der fünf
  bestplatzierten Finisher. Die Wertung erfolgt immer als Mixed-Wertung
 \, d.h. es erfolgt keine getrennte Frauen- und Männerwertung.\n\nAussc
 hreibung\, Veranstalter\, Anmeldung:\n\nAusschreibung: direkt beim Ver
 anstalter\n\nOnline Anmeldung: direkt beim Veranstalter\n\nWeitere\, a
 ktuelle Info's und Anmeldung beim Veranstalter:\n\nTeam Klinikum Nürnb
 erg e. V.
X-ALT-DESC;FMTTYPE=text/html:<p style=text-align: center>Liebe Läuferi
 nnen und Läufer des letztjährigen Silvesterlaufs\, es ist wieder sowei
 t. Ab 01. 10. ist die Online-Anmeldung zum Nürnberger Silvesterlauf ge
 öffnet.</p>\n<p>Bis 17.11. gibt es Frühbucher Rabatte\, also schnell z
 uschlagen und nicht vergessen.  Erfahrungsgemäß ist der Lauf schon vor
  Ende der Anmeldefrist ausgebucht (Teilnehmerlimit: 1319). Von der Sta
 rtgebühr wird ein Teil gespendet:</p>\n<p style=text-align: center>0\,
 50 € der Startgebühr gehen als Spende an die Wärmestube der Caritas un
 d der Stadtmission Nürnberg.</p>\n<p><span style=text-decoration: unde
 rline><strong>Start und Ziel:</strong></span><br>\n<br>\nBeim &#8222\;
 Tante Noris&#8220\; auf dem Johann-Soergel-Weg direkt vor dem neuen St
 eg am Wöhrder See</p>\n<p><span style=text-decoration: underline><stro
 ng>Anmelde\,- Startgebühren:</strong></span></p>\n<p><strong>Frühbuche
 rrabatt bis 17.11.</strong><br>\n10 km Hauptlauf: 15€<br>\n5 km Hobbyl
 auf: 10 €<br>\nBambini und Schülerlauf: 4 €</p>\n<p><strong>Normalprei
 s ab 18.11.<br>\n</strong>10 km Hauptlauf: 20 €<br>\n5 km Hobbylauf: 1
 3 €<br>\nBambini und Schülerlauf: 4 €</p>\n<p><strong>Nachmeldungen ab
  16.12.<br>\n(sofern noch Plätze vorhanden)<br>\n</strong>10 km Hauptl
 auf: 25 €<br>\n5 km Hobbylauf: 15 €<br>\nBambini und Schülerlauf: 4 €<
 /p>\n<p>Ein Funktionsshirt (dieses Jahr ein Langarmshirt) kann für 19 
 EUR zusätzlich bei der Anmeldung bestellt werden (solange Vorrat reich
 t)</p>\n<h3>Zeitplan:</h3>\n<p>10:45 Uhr: Start 400 m Bambinilauf<br>\
 n11:00 Uhr: Start 1600 m Schülerlauf<br>\n11:15 Uhr: Siegerehrung Bamb
 inilauf<br>\n11:30 Uhr: Start 5 km Hobbylauf<br>\n12:15 Uhr: Siegerehr
 ung Schüler- und Hobbylauf sowie Family&amp\;Friends Cup-Verlosung<br>
 \n13:00 Uhr: Start 10 km Hauptlauf<br>\n14:30 Uhr: Siegerehrung Hauptl
 auf und Teamcup</p>\n<p><span style=text-decoration: underline><strong
 >Gutmann Team Cup:</strong></span><br>\n<br>\nAuch dieses Jahr gibt es
  wieder den Gutmann Team Cup.  Beim 10-km-Hauptlauf werden alle Teams 
 gewertet\, die mit gleichem Vereins- oder Gruppennamen (bitte bei der 
 Online-Anmeldung unbedingt auf gleiche Bezeichnung achten!) eingetrage
 n sind. Gewertet werden alle Teams mit den Zeiten der fünf bestplatzie
 rten Finisher. Die Wertung erfolgt immer als Mixed-Wertung\, d.h. es e
 rfolgt keine getrennte Frauen- und Männerwertung.</p>\n<p><strong><spa
 n style=text-decoration: underline>Ausschreibung\, Veranstalter\, Anme
 ldung:</span></strong><br>\n<br>\nAusschreibung: <a href=https://team-
 klinikum-nuernberg.de/silvesterlauf/ausschreibung target=_blank rel=no
 opener>direkt beim Veranstalter</a></p>\n<p>Online Anmeldung: <a href=
 http://www.chipzeit.de/anmeldungen/2019123101/default.aspx target=_bla
 nk rel=noopener>direkt beim Veranstalter</a></p>\n<p>Weitere\, aktuell
 e Info&#8217\;s und Anmeldung beim Veranstalter:</p>\n<p><a href=http:
 //www.silvesterlauf-nuernberg.de/ target=_blank rel=noopener>Team Klin
 ikum Nürnberg e. V.</a></p>\n
URL:https://www.runningsocks.de/wordpress/terminkalender/eventsinglepa
 ge/?event_id=460&lang=de
ATTACH:https://www.runningsocks.de/wordpress/terminkalender/eventsingl
 epage/?event_id=460&lang=de
LOCATION:Cafe Seehaus\, Veilhofstr. 38\,\, Nürnberg
END:VEVENT
END:VCALENDAR
