BEGIN:VCALENDAR
VERSION:2.0
METHOD:PUBLISH
PRODID:-//hacksw/handcal//NONSGML v1.0//EN
BEGIN:VEVENT
DTSTAMP:20260419T165232Z
DTSTART;VALUE=DATE:20191130
DTEND;VALUE=DATE:20191201
UID:20191129T230000Z-20191130T225959Z-461@www.runningsocks.de
SUMMARY:Tages Skifahrt Kitzsteinhorn / Kaprun
DESCRIPTION:Mit dem Schneebeben Expressbus geht es für Ski Enthusiaste
 n bei einer Tages Skifahrt am 30.11. (nachts) zu einem exzellenten Ski
 gebiet:\nKitzsteinhorn (Kaprun)\ndas immerhin 61 Pistenkilometer biete
 t. Die K-onnection in die Zukunft - von Kaprun direkt auf den Gletsche
 r: Direkt vom Dorf Kaprun mit zwei neuen Seilbahnen auf den Maiskogel 
 und von dort auf den Langwiedboden ins Gletscherskigebiet Kitzsteinhor
 n! Zum 30. November 2019 ist die neue Seilbahnverbindung fertiggestell
 t.\nBei Interesse hier anmelden (Kitzsteinhorn Kaprun (AT) - mit After
  Snow Event - Rückreise 19:00 Uhr)\nDas Skigebiet: Kitzsteinhorn
X-ALT-DESC;FMTTYPE=text/html:<p>Mit dem Schneebeben Expressbus geht es
  für Ski Enthusiasten bei einer Tages Skifahrt am 30.11. (nachts) zu e
 inem exzellenten Skigebiet:</p>\n<p style=text-align: center>Kitzstein
 horn (Kaprun)</p>\n<p style=text-align: left>das immerhin 61 Pistenkil
 ometer bietet. <span class=b f>Die K-onnection in die Zukunft &#8211\;
  von Kaprun direkt auf den Gletscher:</span> Direkt vom Dorf Kaprun mi
 t zwei neuen Seilbahnen auf den Maiskogel und von dort auf den Langwie
 dboden ins Gletscherskigebiet Kitzsteinhorn! Zum 30. November 2019 ist
  <span class=b f>die neue Seilbahnverbindung</span> fertiggestellt.</p
 >\n<p style=text-align: left><a href=https://booking.easy-booking-syst
 em.com/9a5c815e23a59246e30148a1fbf37f3b/339 target=_blank rel=noopener
 >Bei Interesse hier anmelden (Kitzsteinhorn Kaprun (AT) &#8211\; mit A
 fter Snow Event &#8211\; Rückreise 19:00 Uhr)</a></p>\n<p>Das Skigebie
 t: <a href=https://www.kitzsteinhorn.at/de/winter target=_blank rel=no
 opener>Kitzsteinhorn</a></p>\n
URL:https://www.runningsocks.de/wordpress/terminkalender/eventsinglepa
 ge/?event_id=461&lang=de
ATTACH:https://www.runningsocks.de/wordpress/terminkalender/eventsingl
 epage/?event_id=461&lang=de
LOCATION:Kitzsteinhorn\, \, Kaprun\, Kitzsteinhorn
END:VEVENT
END:VCALENDAR
