BEGIN:VCALENDAR
VERSION:2.0
METHOD:PUBLISH
PRODID:-//hacksw/handcal//NONSGML v1.0//EN
BEGIN:VEVENT
DTSTAMP:20260419T165513Z
DTSTART:20200126T090000Z
DTEND:20200126T120000Z
UID:20200126T090000Z-20200126T120000Z-462@www.runningsocks.de
SUMMARY:60. Prellsteinrennen
DESCRIPTION:!!! U-N-G-L-A-U-B-L-I-C-H !!!\nZum 60. male wird im Januar
  2020 das Prellsteinrennen nun ausgetragen. Dieses Jubiläum muss mit e
 iner hoffentlich großen Teilnehemrzahl gefeiert werden. Also runter vo
 m Sofa\, raus in Wald\, über die Wiesen\, quer rauf und  runter über T
 rials. Ein bischen Training darf vor diesem Rennen schon sein...\n\nEi
 n wahrlich harter\, 12Km langer  Crosslauf über Felder Wiesen\, Wege u
 nd Steige zwischen Neutras\, Heuchling\, Bürtel und Hirschbachtal. Ges
 tartet wird bei jeder Witterung\; je nach Schneelage sind auch Langlau
 fski die bessere Wahl (und vor allem erlaubt). Die Herausforderung im 
 Januar !!\nDas Rennen:\nDas Prellsteinrennen ist ein Mannschaftslauf. 
 Eine Mannschaft besteht aus 3 Läufern. Die zwei besten Zeiten werden g
 ewertet\, aber alle drei Läufer müssen das Ziel erreichen und die Kont
 rollstellen passieren.\n\nDas Prellsteinrennen wird als Crosslauf ausg
 etragen. Bei guter Schneelage kann auch mit Langlaufski gelaufen werde
 n. Es können Mannschaften mit Cross- und Skiläufern gebildet werden. W
 eiter können Damen und Herren eine Mannschaft bilden. Die Läufer mit S
 kiern starten mit einer Zeitvorgabe vor den Crossläufern.\n\nDer Start
  der Mannschaften erfolgt mit einem Zeitabstand von einer Minute.\nSta
 rtgebühr:\n\n 	33 € / Mannschaft (also 11 € je Person)\n 	Nachmeldung:
  39 € / Mannschaft (also 13 € je Person)\n\nWertungen:\n\n\n\n 	Mannsc
 haftswertung Männer- bzw. gemischte Mannschaften\n 	Mannschaftswertung
  reine Frauenmannschaften\n 	Einzelwertung nach Altersklassen M/W für 
 alle Finisher\n\nAnmeldungen:\n\n 	Online Anmeldung bis 20.01\, 18:00h
 . Danach nur noch vor Ort am Veranstaltungstag bis 09:00\n\n\n\nWeiter
 e Info:\nAlles weitere sh. Homepage des Ausrichters. Seit 2015 wird di
 e Ausrichtung des Prellsteinrennens vom MTP Hersbruck durchgeführt. In
 fo und Anmeldung unter: www.prellsteinrennen.de
X-ALT-DESC;FMTTYPE=text/html:<p style=text-align: center>!!! U-N-G-L-A
 -U-B-L-I-C-H !!!</p>\n<p>Zum 60. male wird im Januar 2020 das Prellste
 inrennen nun ausgetragen. Dieses Jubiläum muss mit einer hoffentlich g
 roßen Teilnehemrzahl gefeiert werden. Also runter vom Sofa\, raus in W
 ald\, über die Wiesen\, quer rauf und  runter über Trials. Ein bischen
  Training darf vor diesem Rennen schon sein&#8230\;</p>\n<p>Ein wahrli
 ch harter\, 12Km langer  Crosslauf über Felder Wiesen\, Wege und Steig
 e zwischen Neutras\, Heuchling\, Bürtel und Hirschbachtal. Gestartet w
 ird bei jeder Witterung\; je nach Schneelage sind auch Langlaufski die
  bessere Wahl (und vor allem erlaubt). Die Herausforderung im Januar !
 !</p>\n<h4>Das Rennen:</h4>\n<p>Das Prellsteinrennen ist ein Mannschaf
 tslauf. Eine Mannschaft besteht aus 3 Läufern. Die zwei besten Zeiten 
 werden gewertet\, aber alle drei Läufer müssen das Ziel erreichen und 
 die Kontrollstellen passieren.</p>\n<p>Das Prellsteinrennen wird als C
 rosslauf ausgetragen. Bei guter Schneelage kann auch mit Langlaufski g
 elaufen werden. Es können Mannschaften mit Cross- und Skiläufern gebil
 det werden. Weiter können Damen und Herren eine Mannschaft bilden. Die
  Läufer mit Skiern starten mit einer Zeitvorgabe vor den Crossläufern.
 </p>\n<p>Der Start der Mannschaften erfolgt mit einem Zeitabstand von 
 einer Minute.</p>\n<h4>Startgebühr:</h4>\n<ul>\n<li>33 € / Mannschaft 
 (also 11 € je Person)</li>\n<li>Nachmeldung: 39 € / Mannschaft (also 1
 3 € je Person)</li>\n</ul>\n<h4>Wertungen:</h4>\n<section class=av_tex
 tblock_section>\n<div class=avia_textblock >\n<ul>\n<li>Mannschaftswer
 tung Männer- bzw. gemischte Mannschaften</li>\n<li>Mannschaftswertung 
 reine Frauenmannschaften</li>\n<li>Einzelwertung nach Altersklassen M/
 W für alle Finisher</li>\n</ul>\n<h4>Anmeldungen:</h4>\n<ul>\n<li>Onli
 ne Anmeldung bis 20.01\, 18:00h. Danach nur noch vor Ort am Veranstalt
 ungstag bis 09:00</li>\n</ul>\n</div>\n</section>\n<h4>Weitere Info:</
 h4>\n<p>Alles weitere sh. Homepage des Ausrichters. Seit 2015 wird die
  Ausrichtung des Prellsteinrennens vom MTP Hersbruck durchgeführt. Inf
 o und <a href=http://prellsteinrennen.de/anmeldung/ target=_blank rel=
 noopener>Anmeldung</a> unter: <a href=http://prellsteinrennen.de/ targ
 et=_blank rel=noopener>www.prellsteinrennen.de</a></p>\n
URL:https://www.runningsocks.de/wordpress/terminkalender/eventsinglepa
 ge/?event_id=462&lang=de
ATTACH:https://www.runningsocks.de/wordpress/terminkalender/eventsingl
 epage/?event_id=462&lang=de
LOCATION:Gasthof zum Neutrasfelsen\, Neutras 5\, Etzelwang
END:VEVENT
END:VCALENDAR
