BEGIN:VCALENDAR
VERSION:2.0
METHOD:PUBLISH
PRODID:-//hacksw/handcal//NONSGML v1.0//EN
BEGIN:VEVENT
DTSTAMP:20260419T165631Z
DTSTART:20191124T090000Z
DTEND:20191124T110000Z
UID:20191124T090000Z-20191124T110000Z-463@www.runningsocks.de
SUMMARY:Nürnberger Winterlaufserie 2019-2020\, Lauf 1
DESCRIPTION:Rund um den Dutzendteich\, im Herzen Nürnbergs gelegen\, f
 indet von November bis Februar die Nürnberger Winterlaufserie statt. V
 eranstaltet von Sissy Baumann's runningConcepts\, werden drei Läufe\, 
 mit jeweils zwei Strecken pro Lauf angeboten.\nDatum der Läufe:\n\n\n 
 	Lauf 1: 24.11.2019\n 	Lauf 2: 19.01.2020\n 	Lauf 3: 15.02.2020\n\nSta
 rt für alle Läufe : \n\n\n 	10:00 Uhr\n\nStrecken:\n\n\n 	Lauf 1: 5Km 
 / 10Km\n 	Lauf 2: 10Km / 15Km\n 	Lauf 3: 10Km / 20Km\n 	Wertung für di
 e Winterlaufserie: Lauf 1: 10Km / Lauf 2: 15Km / Lauf 3: 20Km\n\nStart
 gelder: \n\n 	Lauf 1 - 5Km: 8 € / Lauf 1 - 10Km: 15 €\n 	Lauf 2 - 10Km
 : 15 € / Lauf 2 - 15Km: 18 €\n 	Lauf 3 - 10Km: 15 € / Lauf 3 - 20Km: 2
 0 €\n 	Alle 3 Läufe der Serie: 48 € (alle 3 Läufe müssen zu Beginn der
  Serie gebucht werden\, ansonsten Zahlung der Einzel-Startgebühren)\n\
 nAnmeldeschluß: \n\n 	Lauf 1: 22.11. / Nachmeldungen ab 23.11.\, am St
 arttag bis 0\,45h vor dem Start: 3 €\n 	Lauf 2: 17.01 / Nachmeldungen 
 ab 18.01.\, am Starttag bis 0\,45h vor dem Start: 3 €\n 	Lauf 3: 13.02
 . / Nachmeldungen ab 14.02.\, am Starttag bis 0\,45h vor dem Start: 3 
 €\n\nAlle weitere Infos und Online Anmeldung Lauf 1 auf der Seite des 
 Veranstalters: runningConcepts
X-ALT-DESC;FMTTYPE=text/html:<p style=text-align: justify>Rund um den 
 Dutzendteich\, im Herzen Nürnbergs gelegen\, findet von November bis F
 ebruar die Nürnberger Winterlaufserie statt. Veranstaltet von Sissy Ba
 umann&#8217\;s runningConcepts\, werden drei Läufe\, mit jeweils zwei 
 Strecken pro Lauf angeboten.</p>\n<p style=text-align: justify><strong
 >Datum der Läufe:</strong></p>\n<ul>\n<li style=text-align: justify>La
 uf 1: 24.11.2019</li>\n<li style=text-align: justify>Lauf 2: 19.01.202
 0</li>\n<li style=text-align: justify>Lauf 3: 15.02.2020</li>\n</ul>\n
 <p style=text-align: justify><strong>Start für alle Läufe : </strong><
 /p>\n<ul>\n<li style=text-align: left>10:00 Uhr</li>\n</ul>\n<p style=
 text-align: justify><strong>Strecken:</strong></p>\n<ul>\n<li style=te
 xt-align: left>Lauf 1: 5Km / 10Km</li>\n<li style=text-align: left>Lau
 f 2: 10Km / 15Km</li>\n<li style=text-align: left>Lauf 3: 10Km / 20Km<
 /li>\n<li style=text-align: left>Wertung für die Winterlaufserie: Lauf
  1: <strong>10Km</strong> / Lauf 2: <strong>15Km</strong> / Lauf 3: <s
 trong>20Km</strong></li>\n</ul>\n<p><strong>Startgelder: </strong></p>
 \n<ul>\n<li>Lauf 1 &#8211\; 5Km: <strong>8 €</strong> / Lauf 1 &#8211\
 ; 10Km: <strong>15 €</strong></li>\n<li>Lauf 2 &#8211\; 10Km: <strong>
 15 €</strong> / Lauf 2 &#8211\; 15Km: <strong>18 €</strong></li>\n<li>
 Lauf 3 &#8211\; 10Km: <strong>15 €</strong> / Lauf 3 &#8211\; 20Km:<st
 rong> 20 €</strong></li>\n<li>Alle 3 Läufe der Serie: <strong>48 € </s
 trong>(alle 3 Läufe müssen zu Beginn der Serie gebucht werden\, ansons
 ten Zahlung der Einzel-Startgebühren)</li>\n</ul>\n<p><strong>Anmeldes
 chluß: </strong></p>\n<ul>\n<li>Lauf 1: 22.11. / Nachmeldungen ab 23.1
 1.\, am Starttag bis 0\,45h vor dem Start: 3 €</li>\n<li>Lauf 2: 17.01
  / Nachmeldungen ab 18.01.\, am Starttag bis 0\,45h vor dem Start: 3 €
 </li>\n<li>Lauf 3: 13.02. / Nachmeldungen ab 14.02.\, am Starttag bis 
 0\,45h vor dem Start: 3 €</li>\n</ul>\n<p style=text-align: left>Alle 
 weitere Infos und <a href=https://my5.raceresult.com/131141/registrati
 on?lang=de target=_blank rel=noopener>Online Anmeldung Lauf 1</a> auf 
 der Seite des Veranstalters: <a href=http://runningconcepts.de/winterl
 aeufe.htm>runningConcepts</a></p>\n
URL:https://www.runningsocks.de/wordpress/terminkalender/eventsinglepa
 ge/?event_id=463&lang=de
ATTACH:https://www.runningsocks.de/wordpress/terminkalender/eventsingl
 epage/?event_id=463&lang=de
LOCATION:Gutmann am Dutzendteich\, Bayernstraße 150\, Nürnberg
END:VEVENT
END:VCALENDAR
