BEGIN:VCALENDAR
VERSION:2.0
METHOD:PUBLISH
PRODID:-//hacksw/handcal//NONSGML v1.0//EN
BEGIN:VEVENT
DTSTAMP:20260419T165618Z
DTSTART:20200215T090000Z
DTEND:20200215T110000Z
UID:20200215T090000Z-20200215T110000Z-465@www.runningsocks.de
SUMMARY:Nürnberger Winterlaufserie 2019-2020\, Lauf 3
DESCRIPTION:Rund um den Dutzendteich\, im Herzen Nürnbergs gelegen\, f
 indet von November bis Februar die Nürnberger Winterlaufserie statt. V
 eranstaltet von Sissy Baumann's runningConcepts\, werden drei Läufe\, 
 mit jeweils zwei Strecken pro Lauf angeboten.\n\nDatum der Läufe:\n\n 
 	Lauf 1: 24.11.2019\n 	Lauf 2: 19.01.2020\n 	Lauf 3: 15.02.2020\n\nSta
 rt für alle Läufe : \n\n 	10:00 Uhr\n\nStrecken:\n\n 	Lauf 1: 5Km / 10
 Km\n 	Lauf 2: 10Km / 15Km\n 	Lauf 3: 10Km / 20Km\n 	Wertung für die Wi
 nterlaufserie: Lauf 1: 10Km / Lauf 2: 15Km / Lauf 3: 20Km\n\nStartgeld
 er: \n\n 	Lauf 1 - 5Km: 8 € / Lauf 1 - 10Km: 15 €\n 	Lauf 2 - 10Km: 15
  € / Lauf 2 - 15Km: 18 €\n 	Lauf 3 - 10Km: 15 € / Lauf 3 - 20Km: 20 €\
 n 	Alle 3 Läufe der Serie: 48 € (alle 3 Läufe müssen zu Beginn der Ser
 ie gebucht werden\, ansonsten Zahlung der Einzel-Startgebühren)\n\nAnm
 eldeschluß: \n\n 	Lauf 1: 22.11. / Nachmeldungen ab 23.11.\, am Startt
 ag bis 0\,45h vor dem Start: 3 €\n 	Lauf 2: 17.01 / Nachmeldungen ab 1
 8.01.\, am Starttag bis 0\,45h vor dem Start: 3 €\n 	Lauf 3: 13.02. / 
 Nachmeldungen ab 14.02.\, am Starttag bis 0\,45h vor dem Start: 3 €\n\
 nAlle weitere Infos und Online Anmeldung Lauf 3 auf der Seite des Vera
 nstalters: runningConcepts
X-ALT-DESC;FMTTYPE=text/html:<p>Rund um den Dutzendteich\, im Herzen N
 ürnbergs gelegen\, findet von November bis Februar die Nürnberger Wint
 erlaufserie statt. Veranstaltet von Sissy Baumann&#8217\;s runningConc
 epts\, werden drei Läufe\, mit jeweils zwei Strecken pro Lauf angebote
 n.</p>\n<p><strong>Datum der Läufe:</strong></p>\n<ul>\n<li>Lauf 1: 24
 .11.2019</li>\n<li>Lauf 2: 19.01.2020</li>\n<li>Lauf 3: 15.02.2020</li
 >\n</ul>\n<p><strong>Start für alle Läufe : </strong></p>\n<ul>\n<li>1
 0:00 Uhr</li>\n</ul>\n<p><strong>Strecken:</strong></p>\n<ul>\n<li>Lau
 f 1: 5Km / 10Km</li>\n<li>Lauf 2: 10Km / 15Km</li>\n<li>Lauf 3: 10Km /
  20Km</li>\n<li>Wertung für die Winterlaufserie: Lauf 1: <strong>10Km<
 /strong> / Lauf 2: <strong>15Km</strong> / Lauf 3: <strong>20Km</stron
 g></li>\n</ul>\n<p><strong>Startgelder: </strong></p>\n<ul>\n<li>Lauf 
 1 &#8211\; 5Km: <strong>8 €</strong> / Lauf 1 &#8211\; 10Km: <strong>1
 5 €</strong></li>\n<li>Lauf 2 &#8211\; 10Km: <strong>15 €</strong> / L
 auf 2 &#8211\; 15Km: <strong>18 €</strong></li>\n<li>Lauf 3 &#8211\; 1
 0Km: <strong>15 €</strong> / Lauf 3 &#8211\; 20Km:<strong> 20 €</stron
 g></li>\n<li>Alle 3 Läufe der Serie: <strong>48 € </strong>(alle 3 Läu
 fe müssen zu Beginn der Serie gebucht werden\, ansonsten Zahlung der E
 inzel-Startgebühren)</li>\n</ul>\n<p><strong>Anmeldeschluß: </strong><
 /p>\n<ul>\n<li>Lauf 1: 22.11. / Nachmeldungen ab 23.11.\, am Starttag 
 bis 0\,45h vor dem Start: 3 €</li>\n<li>Lauf 2: 17.01 / Nachmeldungen 
 ab 18.01.\, am Starttag bis 0\,45h vor dem Start: 3 €</li>\n<li>Lauf 3
 : 13.02. / Nachmeldungen ab 14.02.\, am Starttag bis 0\,45h vor dem St
 art: 3 €</li>\n</ul>\n<p style=text-align: left>Alle weitere Infos und
  <a href=https://my5.raceresult.com/131141/ target=_blank rel=noopener
 >Online Anmeldung Lauf 3</a> auf der Seite des Veranstalters: <a href=
 http://runningconcepts.de/winterlaeufe.htm>runningConcepts</a></p>\n
URL:https://www.runningsocks.de/wordpress/terminkalender/eventsinglepa
 ge/?event_id=465&lang=de
ATTACH:https://www.runningsocks.de/wordpress/terminkalender/eventsingl
 epage/?event_id=465&lang=de
LOCATION:Gutmann am Dutzendteich\, Bayernstraße 150\, Nürnberg
END:VEVENT
END:VCALENDAR
