BEGIN:VCALENDAR
VERSION:2.0
METHOD:PUBLISH
PRODID:-//hacksw/handcal//NONSGML v1.0//EN
BEGIN:VEVENT
DTSTAMP:20260419T165515Z
DTSTART:20191207T130000Z
DTEND:20191207T160000Z
UID:20191207T130000Z-20191207T160000Z-466@www.runningsocks.de
SUMMARY:17. Run & Bike Ungerthal
DESCRIPTION:Inzwischen zum 16. male wird der Run & Bike im schönen Ung
 ertahl\, nahe Schawabach\, durchgeführt. Eine kleine Gruppe eingefleis
 chter und verrückter Sportler wird sich bei jeder Witterung den Anford
 erungen der welligen Strecke stellen\, in der Hoffung\, noch einige Ku
 chenstücke und Glühwein nach dem Zieleinlauf zu ergattern :-)\n\nEin R
 un & Bike ist ein besonderer Lauf\, der wie folgt durchgeführt wird:\n
 \nZwei Läufer teilen sich ein Fahrrad. Dabei darf der Abstand zwischen
  dem Läufer und dem Radfahrer niemals mehr als 10 Meter betragen. Das 
 “Paar” kann sich beliebig jederzeit abwechseln.\n\n\n\nStart:\n14.00 U
 hr\, Waldparkplatz im Ungerthal\n\n\nStrecke:\nWellige\, vom öffentlic
 hen Verkehr\ngeschlossene Waldwege\, ca. 17 km\n\n\nKlasseneinteilung:
 \nMänner\, Frauen und gemischte Paare\n\n\nOrganisationsbeitrag (Barza
 hlung bei Abholung der Startunterlagen vor Ort\, ab 13:00):\n20\,00€ p
 ro Paar\n\n\n\nAnmeldung bis 13.12.:\nHier klicken \n\n\nNachmeldung\,
  07.12.\n\n30\,00€ pro Paar\n\n\nSonstiges:\nKuchenbuffet und Getränke
  im Zielraum\, sowie ein Lagerfeuer\, keine Duschmöglichkeiten\n\n\nSi
 egerehrung:\nCa. 1/2 Std. nach dem letzten\nZieleinlauf\n\n\nOrganisat
 ion\, Ausschreibung:\nHier klicken\n\n\n\nQuelle: www.fun-race.org
X-ALT-DESC;FMTTYPE=text/html:<p>Inzwischen zum 16. male wird der Run &
 amp\; Bike im schönen Ungertahl\, nahe Schawabach\, durchgeführt. Eine
  kleine Gruppe eingefleischter und verrückter Sportler wird sich bei j
 eder Witterung den Anforderungen der welligen Strecke stellen\, in der
  Hoffung\, noch einige Kuchenstücke und Glühwein nach dem Zieleinlauf 
 zu ergattern :-)</p>\n<p>Ein Run &amp\; Bike ist ein besonderer Lauf\,
  der wie folgt durchgeführt wird:</p>\n<p>Zwei Läufer teilen sich ein 
 Fahrrad. Dabei darf der Abstand zwischen dem Läufer und dem Radfahrer 
 niemals mehr als 10 Meter betragen. Das “Paar” kann sich beliebig jede
 rzeit abwechseln.</p>\n<table style=border: 1px solid #b0c4de\;width: 
 384px\;height: 236px border=1 rules=all align=center>\n<tbody>\n<tr><t
 d><span style=font-size: 10pt>Start:</span></td>\n<td><span style=font
 -size: 10pt>14.00 Uhr\, Waldparkplatz im Ungerthal</span></td></tr>\n<
 tr><td><span style=font-size: 10pt>Strecke:</span></td>\n<td><span sty
 le=font-size: 10pt>Wellige\, vom öffentlichen Verkehr<br>\ngeschlossen
 e Waldwege\, ca. 17 km</span></td></tr>\n<tr><td><span style=font-size
 : 10pt>Klasseneinteilung:</span></td>\n<td><span style=font-size: 10pt
 >Männer\, Frauen und gemischte Paare</span></td></tr>\n<tr><td><span s
 tyle=font-size: 10pt>Organisationsbeitrag (Barzahlung bei Abholung der
  Startunterlagen vor Ort\, ab 13:00):</span></td>\n<td><span style=fon
 t-size: 10pt>20\,00€ pro Paar<br>\n</span></td></tr>\n<tr><td><span st
 yle=font-size: 10pt>Anmeldung bis 13.12.:</span></td>\n<td><span style
 =font-size: 10pt><a href=https://www.fun-race.org/termine target=_blan
 k rel=noopener>Hier klicken </a></span></td></tr>\n<tr><td><span style
 =font-size: 10pt>Nachmeldung\, 07.12.<br>\n</span></td>\n<td><span sty
 le=font-size: 10pt>30\,00€ pro Paar</span></td></tr>\n<tr><td><span st
 yle=font-size: 10pt>Sonstiges:</span></td>\n<td><span style=font-size:
  10pt>Kuchenbuffet und Getränke im Zielraum\, sowie ein Lagerfeuer\, k
 eine Duschmöglichkeiten</span></td></tr>\n<tr><td><span style=font-siz
 e: 10pt>Siegerehrung:</span></td>\n<td><span style=font-size: 10pt>Ca.
  1/2 Std. nach dem letzten<br>\nZieleinlauf</span></td></tr>\n<tr><td>
 <span style=font-size: 10pt>Organisation\, Ausschreibung:</span></td>\
 n<td><span style=font-size: 10pt><a href=https://www.fun-race.org/term
 ine target=_blank rel=noopener>Hier klicken</a></span></td></tr>\n</tb
 ody>\n</table>\n<p>Quelle: <a href=http://www.fun-race.org/ target=_bl
 ank rel=noopener>www.fun-race.org</a></p>\n
URL:https://www.runningsocks.de/wordpress/terminkalender/eventsinglepa
 ge/?event_id=466&lang=de
ATTACH:https://www.runningsocks.de/wordpress/terminkalender/eventsingl
 epage/?event_id=466&lang=de
LOCATION:Waldparkplatz im Ungerthal\, Ungerthaler Straße\, Büchenbach
END:VEVENT
END:VCALENDAR
