BEGIN:VCALENDAR
VERSION:2.0
METHOD:PUBLISH
PRODID:-//hacksw/handcal//NONSGML v1.0//EN
BEGIN:VEVENT
DTSTAMP:20260419T165736Z
DTSTART:20200308T093000Z
DTEND:20200308T113000Z
UID:20200308T093000Z-20200308T113000Z-468@www.runningsocks.de
SUMMARY:27. Rothseelauf
DESCRIPTION:Die erste Probe im Frühjahr und seit Jahren ein Klassiker 
 !\nStrecken:\n\n\n 	5\,2 Km\, Hobbylauf\, Nordic Walking\, 1 Runde um 
 den kleinen Rothsee\n 	10\,4Km\, Hauptlauf\, 2 Runden um den kleinen R
 othsee\n\nStartgeld:\n\n\n 	Hobbylauf: 9\,00 EUR\n 	Nordic Walking: 9\
 ,00 EUR\n 	Hauptlauf: 12\,00 EUR\n 	Nachmeldungen: 3\,00 EUR\n\nAnmeld
 ungen:\n\nBis zum 06.03. online möglich.\n\nNachmeldungen gelten ab 07
 .03. und sind nur zwischen 14:00 - 17:00 im Cafe Würde & Wertschätzung
 \, Reichstr. 10\, 90480 Nürnberg\, oder am Veranstaltungstag bis 30 Mi
 nuten vor dem Start des jeweiligen Laufes vor Ort möglich.\n\nZeiten:\
 n\n 	Abholung Startunterlagen am 07.03.: 14:00 - 17:00\, Cafe Würde & 
 Wertschätzung\, Reichstr. 10\, 90480 Nürnberg\n 	Abholung Startunterla
 gen am 08.03.: ab 08:00\, Birkach\, Start/Zielbereich\n 	Start Hobbyla
 uf: 09:30\n 	Start Nordic Walking: 09:30\n 	Start Hauptlauf: 10:30\n\n
 Weitere Info's wie immer direkt beim Veranstalter: runningConcepts\nOn
 line Anmeldung: myRaceResult\nAusschreibung:\n\n runningConcepts
X-ALT-DESC;FMTTYPE=text/html:<p style=text-align: center><strong>Die e
 rste Probe im Frühjahr und seit Jahren ein Klassiker !</strong></p>\n<
 p style=text-align: justify><strong><span style=text-decoration: under
 line>Strecken:</span></strong></p>\n<ul>\n<li>5\,2 Km\, Hobbylauf\, No
 rdic Walking\, 1 Runde um den kleinen Rothsee</li>\n<li>10\,4Km\, Haup
 tlauf\, 2 Runden um den kleinen Rothsee</li>\n</ul>\n<p style=text-ali
 gn: justify><span style=text-decoration: underline><strong>Startgeld:<
 /strong></span></p>\n<ul>\n<li>Hobbylauf: 9\,00 EUR</li>\n<li>Nordic W
 alking: 9\,00 EUR</li>\n<li>Hauptlauf: 12\,00 EUR</li>\n<li>Nachmeldun
 gen: 3\,00 EUR</li>\n</ul>\n<p><span style=text-decoration: underline>
 <strong>Anmeldungen:</strong></span><br>\n<br>\nBis zum 06.03. online 
 möglich.</p>\n<p>Nachmeldungen gelten ab 07.03. und sind nur zwischen 
 14:00 &#8211\; 17:00 im Cafe Würde &amp\; Wertschätzung\, Reichstr. 10
 \, 90480 Nürnberg\, oder am Veranstaltungstag bis 30 Minuten vor dem S
 tart des jeweiligen Laufes vor Ort möglich.</p>\n<p><span style=text-d
 ecoration: underline><strong>Zeiten:</strong></span></p>\n<ul>\n<li>Ab
 holung Startunterlagen am 07.03.: 14:00 &#8211\; 17:00\, Cafe Würde &a
 mp\; Wertschätzung\, Reichstr. 10\, 90480 Nürnberg</li>\n<li>Abholung 
 Startunterlagen am 08.03.: ab 08:00\, Birkach\, Start/Zielbereich</li>
 \n<li>Start Hobbylauf: 09:30</li>\n<li>Start Nordic Walking: 09:30</li
 >\n<li>Start Hauptlauf: 10:30</li>\n</ul>\n<p style=text-align: justif
 y>Weitere Info&#8217\;s wie immer direkt beim Veranstalter: <a href=ht
 tps://runningconcepts.de/rothseelauf target=_blank rel=noopener>runnin
 gConcepts</a></p>\n<p>Online Anmeldung: <a href=https://my.raceresult.
 com/137044/>myRaceResult</a></p>\n<p style=text-align: justify><span s
 tyle=text-decoration: underline><strong>Ausschreibung:<br>\n</strong><
 /span></p>\n<p style=text-align: justify><a href=http://www.runningcon
 cepts.de/rothseelauf.html target=_blank rel=noopener> </a><a href=http
 s://runningconcepts.de/rothseelauf target=_blank rel=noopener>runningC
 oncepts</a></p>\n
URL:https://www.runningsocks.de/wordpress/terminkalender/eventsinglepa
 ge/?event_id=468&lang=de
ATTACH:https://www.runningsocks.de/wordpress/terminkalender/eventsingl
 epage/?event_id=468&lang=de
LOCATION:Strandhaus Birkach\, Birkacher Uferweg 2\, Roth
END:VEVENT
END:VCALENDAR
