BEGIN:VCALENDAR
VERSION:2.0
METHOD:PUBLISH
PRODID:-//hacksw/handcal//NONSGML v1.0//EN
BEGIN:VEVENT
DTSTAMP:20260419T165736Z
DTSTART:20200419T073000Z
DTEND:20200419T101500Z
UID:20200419T073000Z-20200419T101500Z-469@www.runningsocks.de
SUMMARY:17. Burgbernheimer Berglauf
DESCRIPTION:Burgbernheimer Berglauf\, Crosslauf\, Nordic Walking\nEine
  weitere\, sportliche Herausforderung im schönen Frankenland ! Die ans
 pruchsvolle Strecken verläuft zwischen Streuobstbäumen und im herrlich
 en Mischwald über den Kappellenberg. Der Frigglessteig mit seiner 23 p
 rozentigen Steigung fordert jeden Läufer und spätestens beim Anstieg a
 m Eisernen Kreuz geht es wirklich ans Eingemachte. Aber irgendwo müsse
 n die 415 HM auf 13\,4 Km Streckenlänge ja herkommen :-)\nZeiten:\n\n\
 n\n\nStart\nDistanz (Km)\nWettbewerb\n\n\n09:20\n5\,6\nHobby-Berglauf 
 für mJA/B\, wJA/B\, Erw.\n\n\n09:30\n13\,4\nCrosslauf\n\n\n09:40\n5\,6
 \nNordic-Walking-Lauf für mJA/B\, wJA/B\, Erw.\n\n\n11:30\n2\,0\nSchül
 erlauf MK/WK\, U10 bis U12\, Jahrgänge 2009-2012\n\n\n11:50\n2\,0\nSch
 ülerlauf MJ/WJ\, U14 bis U16\, Jahrgänge 2005-2008\n\n\n12:15\n0\,6\nB
 ambinilauf MK/WK\, U8\, Jahrgänge 2013-2017\n\n\n\nStartgeld:\n\n\n\n\
 n\nWettbewerb\nStartgeld\n\n\n\nHobby Berglauf + Nordic Walking\n10\,0
 0 €\n\n\nCrosslauf mit ca. 415 HM\n12\,50 €\n\n\nJugend\n7\,00 €\n\n\n
 Schüler\n5\,00 €\n\n\nBambini\n2\,00 €\n\n\n\nAnmeldung:\nab 01.01.202
 0\, myRaceResult\n\nOnlinemeldeschluß: 15.04.\n\nNachmeldung: Am Veran
 staltungstag bis eine Stunde vor dem Start\, Nachmeldegebühr: 2\,00 €\
 nAusschreibung:\nAuf der Seite des Veranstalters\, TSV 1877 Burgbernhe
 im\nWeitere Infos und Online Anmeldung direkt beim Veranstalter: TSV 1
 877 Burgbernheim
X-ALT-DESC;FMTTYPE=text/html:<p style=text-align: center><strong>Burgb
 ernheimer Berglauf\, Crosslauf\, Nordic Walking</strong></p>\n<p style
 =text-align: center>Eine weitere\, sportliche Herausforderung im schön
 en Frankenland ! Die anspruchsvolle Strecken verläuft zwischen Streuob
 stbäumen und im herrlichen Mischwald über den Kappellenberg. Der Frigg
 lessteig mit seiner 23 prozentigen Steigung fordert jeden Läufer und s
 pätestens beim Anstieg am Eisernen Kreuz geht es wirklich ans Eingemac
 hte. Aber irgendwo müssen die 415 HM auf 13\,4 Km Streckenlänge ja her
 kommen :-)</p>\n<p style=text-align: left><strong>Zeiten:</strong></p>
 \n<table border=0>\n<tbody>\n<tr><td style=text-align: center><strong>
 Start</strong></td>\n<td style=text-align: center><strong>Distanz (Km)
 </strong></td>\n<td style=text-align: center><strong>Wettbewerb</stron
 g></td></tr>\n<tr><td style=text-align: center>09:20</td>\n<td style=t
 ext-align: center>5\,6</td>\n<td style=text-align: center>Hobby-Bergla
 uf für mJA/B\, wJA/B\, Erw.</td></tr>\n<tr><td style=text-align: cente
 r>09:30</td>\n<td style=text-align: center>13\,4</td>\n<td style=text-
 align: center>Crosslauf</td></tr>\n<tr><td style=text-align: center>09
 :40</td>\n<td style=text-align: center>5\,6</td>\n<td style=text-align
 : center>Nordic-Walking-Lauf für mJA/B\, wJA/B\, Erw.</td></tr>\n<tr><
 td style=text-align: center>11:30</td>\n<td style=text-align: center>2
 \,0</td>\n<td style=text-align: center>Schülerlauf MK/WK\, U10 bis U12
 \, Jahrgänge 2009-2012</td></tr>\n<tr><td style=text-align: center>11:
 50</td>\n<td style=text-align: center>2\,0</td>\n<td style=text-align:
  center>Schülerlauf MJ/WJ\, U14 bis U16\, Jahrgänge 2005-2008</td></tr
 >\n<tr><td style=text-align: center>12:15</td>\n<td style=text-align: 
 center>0\,6</td>\n<td style=text-align: center>Bambinilauf MK/WK\, U8\
 , Jahrgänge 2013-2017</td></tr>\n</tbody>\n</table>\n<p style=text-ali
 gn: left><strong>Startgeld:</strong><span style=color: #ff0000><br>\n<
 /span></p>\n<table border=0>\n<tbody>\n<tr><td style=text-align: cente
 r><strong>Wettbewerb</strong></td>\n<td style=text-align: center><stro
 ng>Startgeld<br>\n</strong></td></tr>\n<tr><td style=text-align: cente
 r>Hobby Berglauf + Nordic Walking</td>\n<td style=text-align: center>1
 0\,00 €</td></tr>\n<tr><td style=text-align: center>Crosslauf mit ca. 
 415 HM</td>\n<td style=text-align: center>12\,50 €</td></tr>\n<tr><td 
 style=text-align: center>Jugend</td>\n<td style=text-align: center>7\,
 00 €</td></tr>\n<tr><td style=text-align: center>Schüler</td>\n<td sty
 le=text-align: center>5\,00 €</td></tr>\n<tr><td style=text-align: cen
 ter>Bambini</td>\n<td style=text-align: center>2\,00 €</td></tr>\n</tb
 ody>\n</table>\n<p style=text-align: left><strong>Anmeldung:</strong><
 /p>\n<p style=text-align: left>ab 01.01.2020\, <span style=color: #ff0
 000><a href=https://my.raceresult.com/145449/ target=_blank rel=noopen
 er>myRaceResult</a><br>\n</span></p>\n<p>Onlinemeldeschluß: 15.04.</p>
 \n<p>Nachmeldung: Am Veranstaltungstag bis eine Stunde vor dem Start\,
  Nachmeldegebühr: 2\,00 €</p>\n<p style=text-align: left><strong>Aussc
 hreibung:</strong></p>\n<p style=text-align: left>Auf der Seite des Ve
 ranstalters\, <a href=https://www.tsvburgbernheim.de/index.php/leichta
 thletik/berglauf/veranstaltung target=_blank rel=noopener>TSV 1877 Bur
 gbernheim</a></p>\n<p style=text-align: left>Weitere Infos und Online 
 Anmeldung direkt beim Veranstalter: <a href=https://www.tsvburgbernhei
 m.de/index.php/leichtathletik/berglauf/start target=_blank rel=noopene
 r>TSV 1877 Burgbernheim</a></p>\n
URL:https://www.runningsocks.de/wordpress/terminkalender/eventsinglepa
 ge/?event_id=469&lang=de
ATTACH:https://www.runningsocks.de/wordpress/terminkalender/eventsingl
 epage/?event_id=469&lang=de
LOCATION:TSV Burgbernheim\, Kapellenberg\, Burgbernheim
END:VEVENT
END:VCALENDAR
