BEGIN:VCALENDAR
VERSION:2.0
METHOD:PUBLISH
PRODID:-//hacksw/handcal//NONSGML v1.0//EN
BEGIN:VEVENT
DTSTAMP:20260419T165410Z
DTSTART:20101010T090000Z
DTEND:20101010T120000Z
UID:20101010T090000Z-20101010T120000Z-47@www.runningsocks.de
SUMMARY:19. Schwabacher Citylauf
DESCRIPTION:Jedes Jahr am Sonntag nach dem 3. Oktober findet die größt
 e  Laufveranstaltung Schwabachs statt\, der Citylauf. Zentraler Schaup
 latz  ist für Start\, Ziel und Siegerehrung der historischer Marktplat
 z.\n\nFür Läuferinnen und Läufer von Nah und Fern ist der Citylauf ein
 e gute  Gelegenheit\, seinen Leistungsstand unter Wettkampfbedingungen
  zu messen.  Regelmäßig werden über 500 Teilnehmer begrüßt\, von den B
 ambini  über die Halbmarathonläufer bis hin zu Nordic Walkern. Gerade 
  Interessierte aus der Region können dabei bis fast zur letzten Minute
   abwarten\, was das Wetter macht\, und sich noch am Lauftag zum Start
   melden.\n\nAlle Informationen rund um den nächsten Citylauf finden s
 ich auf  der Homepage des Veranstalters: Angebotene Läufe\, Laufstreck
 en\, Zeitplan\,  Teilnehmerinformationen. Langfristig vor dem Start de
 s nächsten Laufs wird auch die Möglichkeit freigeschaltet\, sich direk
 t online anzumelden.  Viel Spaß beim Stöbern auf den Seiten\, in den E
 rgebnislisten und  Bilderserien der vergangenen Läufe\, und  herzlich 
 willkommen beim  Schwabacher Citylauf!\n\nLäufe\, Startzeiten\, Startg
 eld:\n\n\n\n\n\n \n\n \nStartzeit\n\n \nStartgebühr\n\n\nLauf 1: Bambi
 ni  600 m\n\n \n10.30 Uhr\n\n \n2\,- €\n\n\nLauf 2: Schüler/innen  1.2
 00 m\n\n \n11.10 Uhr\n\n \n2\,- €\n\n\nLauf 3: Hobbylauf  5\,4 km\n\n 
 \n13.45 Uhr\n\n \n7\,- €\n\n\nLauf 4: Hauptlauf  8\,7 km\n\n \n13.45 U
 hr\n\n \n7\,- €\n\n\nHalbmarathon  21\,1 km\n\n \n11.00 Uhr\n\n \n15\,
 - €\n\n\nNordic  Walking 8\,7 km\n\n \n13.45 Uhr\n\n \n5\,- €\n\n\n\n 
 \n\n \n\n \n\n \n\n \n\n\nNachmeldegebühr:\n\n \nLauf 1 und 2\n\n \n1\
 ,- €\n\n\n\n \n\n \nLauf 3\,4 und \n\nNordic  Walking\n2\,- €\n\n\n\n 
 \n\n \nHalbmarathon\n\n \n3\,- €\n\n\n\n\nLeistungen:\n\n\n\n\nMarkier
 te Laufstrecken\n» Medizinische Versorgung\n\n\n» Streckenabsicherung\
 n» Getränke am Ziel\n\n\n» Zeitnahme und Wertung\n» 3 Stationen mit Wa
 sser und\n\n\n» Persönliche Urkunde\nIsogetränk auf der HM Strecke\n\n
 \n» Attraktive Preise\n» HM: Jeder km ausgeschildert\n\n\n\n\nFlyer zu
 m Download: 19_Citylauf_Schwabach\n\nWeitere Info's und Online Anmeldu
 ng beim Veranstalter: TV 1848 Schwabach e.V.
X-ALT-DESC;FMTTYPE=text/html:<p>Jedes Jahr am Sonntag nach dem 3. Okto
 ber findet die größte  Laufveranstaltung Schwabachs statt\, der Cityla
 uf. Zentraler Schauplatz  ist für Start\, Ziel und Siegerehrung der hi
 storischer Marktplatz.</p>\n<p>Für Läuferinnen und Läufer von Nah und 
 Fern ist der Citylauf eine gute  Gelegenheit\, seinen Leistungsstand u
 nter Wettkampfbedingungen zu messen.  Regelmäßig werden über 500 Teiln
 ehmer begrüßt\, von den Bambini  über die Halbmarathonläufer bis hin z
 u Nordic Walkern. Gerade  Interessierte aus der Region können dabei bi
 s fast zur letzten Minute  abwarten\, was das Wetter macht\, und sich 
 noch am Lauftag zum Start  melden.</p>\n<p>Alle Informationen rund um 
 den nächsten Citylauf finden sich auf  der Homepage des Veranstalters:
  Angebotene Läufe\, Laufstrecken\, Zeitplan\,  Teilnehmerinformationen
 . Langfristig vor dem Start des nächsten Laufs wird auch die Möglichke
 it freigeschaltet\, sich direkt online anzumelden.  Viel Spaß beim Stö
 bern auf den Seiten\, in den Ergebnislisten und  Bilderserien der verg
 angenen Läufe\, und  herzlich willkommen beim  Schwabacher Citylauf!</
 p>\n<p><span style=text-decoration: underline\;>Läufe\, Startzeiten\, 
 Startgeld:</span></p>\n<table border=0>\n<tbody>\n<tr><td><p><span sty
 le=font-size: small\;><br>\n </span></p></td>\n<td><p><span style=font
 -size: small\;><br>\n </span></p></td>\n<td><p><span style=font-size: 
 small\;>Startzeit</span></p></td>\n<td><p><span style=font-size: small
 \;><br>\n </span></p></td>\n<td><p><span style=font-size: small\;>Star
 tgebühr</span></p></td></tr>\n<tr><td><p><span style=font-size: small\
 ;>Lauf 1: <strong>Bambini  600 m</strong></span></p></td>\n<td><p><spa
 n style=font-size: small\;><br>\n </span></p></td>\n<td><p><span style
 =font-size: small\;>10.30 Uhr</span></p></td>\n<td><p><span style=font
 -size: small\;><br>\n </span></p></td>\n<td><p><span style=font-size: 
 small\;>2\,- €</span></p></td></tr>\n<tr><td><p><span style=font-size:
  small\;>Lauf 2: <strong>Schüler/innen  1.200 m</strong></span></p></t
 d>\n<td><p><span style=font-size: small\;><br>\n </span></p></td>\n<td
 ><p><span style=font-size: small\;>11.10 Uhr</span></p></td>\n<td><p><
 span style=font-size: small\;><br>\n </span></p></td>\n<td><p><span st
 yle=font-size: small\;>2\,- €</span></p></td></tr>\n<tr><td><p><span s
 tyle=font-size: small\;>Lauf 3: <strong>Hobbylauf  5\,4 km</strong></s
 pan></p></td>\n<td><p><span style=font-size: small\;><br>\n </span></p
 ></td>\n<td><p><span style=font-size: small\;>13.45 Uhr</span></p></td
 >\n<td><p><span style=font-size: small\;><br>\n </span></p></td>\n<td>
 <p><span style=font-size: small\;>7\,- €</span></p></td></tr>\n<tr><td
 ><p><span style=font-size: small\;>Lauf 4: <strong>Hauptlauf  8\,7 km<
 /strong></span></p></td>\n<td><p><span style=font-size: small\;><br>\n
  </span></p></td>\n<td><p><span style=font-size: small\;>13.45 Uhr</sp
 an></p></td>\n<td><p><span style=font-size: small\;><br>\n </span></p>
 </td>\n<td><p><span style=font-size: small\;>7\,- €</span></p></td></t
 r>\n<tr><td><p><span style=font-size: small\;><strong>Halbmarathon  21
 \,1 km</strong></span></p></td>\n<td><p><span style=font-size: small\;
 ><br>\n </span></p></td>\n<td><p><span style=font-size: small\;>11.00 
 Uhr</span></p></td>\n<td><p><span style=font-size: small\;><br>\n </sp
 an></p></td>\n<td><p><span style=font-size: small\;>15\,- €</span></p>
 </td></tr>\n<tr><td><p><span style=font-size: small\;><strong>Nordic  
 Walking 8\,7 km</strong></span></p></td>\n<td><p><span style=font-size
 : small\;><br>\n </span></p></td>\n<td><p><span style=font-size: small
 \;>13.45 Uhr</span></p></td>\n<td><p><span style=font-size: small\;><b
 r>\n </span></p></td>\n<td><p><span style=font-size: small\;>5\,- €</s
 pan></p></td></tr>\n<tr><td><p><span style=font-size: small\;><br>\n <
 /span></p></td>\n<td><p><span style=font-size: small\;><br>\n </span><
 /p></td>\n<td><p><span style=font-size: small\;><br>\n </span></p></td
 >\n<td><p><span style=font-size: small\;><br>\n </span></p></td>\n<td>
 <p><span style=font-size: small\;><br>\n </span></p></td></tr>\n<tr><t
 d><p><span style=font-size: small\;><strong>Nachmeldegebühr:</strong><
 /span></p></td>\n<td><p><span style=font-size: small\;><br>\n </span><
 /p></td>\n<td><p><span style=font-size: small\;>Lauf 1 und 2</span></p
 ></td>\n<td><p><span style=font-size: small\;><br>\n </span></p></td>\
 n<td><p><span style=font-size: small\;>1\,- €</span></p></td></tr>\n<t
 r><td><p><span style=font-size: small\;><br>\n </span></p></td>\n<td><
 p><span style=font-size: small\;><br>\n </span></p></td>\n<td colspan=
 2><p><span style=font-size: small\;>Lauf 3\,4 und </span></p>\n<p><spa
 n style=font-size: small\;>Nordic  Walking</span></p></td>\n<td><p><sp
 an style=font-size: small\;>2\,- €</span></p></td></tr>\n<tr><td><p><s
 pan style=font-size: small\;><br>\n </span></p></td>\n<td><p><span sty
 le=font-size: small\;><br>\n </span></p></td>\n<td><p><span style=font
 -size: small\;>Halbmarathon</span></p></td>\n<td><p><span style=font-s
 ize: small\;><br>\n </span></p></td>\n<td><p><span style=font-size: sm
 all\;>3\,- €</span></p></td></tr>\n</tbody>\n</table>\n<p><span style=
 text-decoration: underline\;>Leistungen:</span></p>\n<table style=widt
 h: 487px\; height: 105px\; border=0>\n<tbody>\n<tr><td><p><span style=
 font-size: small\;>Markierte Laufstrecken</span></p></td>\n<td><p><spa
 n style=font-size: small\;>» Medizinische Versorgung</span></p></td></
 tr>\n<tr><td><p><span style=font-size: small\;>» Streckenabsicherung</
 span></p></td>\n<td><p><span style=font-size: small\;>» Getränke am Zi
 el</span></p></td></tr>\n<tr><td><p><span style=font-size: small\;>» Z
 eitnahme und Wertung</span></p></td>\n<td><p><span style=font-size: sm
 all\;>» 3 Stationen mit Wasser und</span></p></td></tr>\n<tr><td><p><s
 pan style=font-size: small\;>» Persönliche Urkunde</span></p></td>\n<t
 d><p><span style=font-size: small\;>Isogetränk auf der HM Strecke</spa
 n></p></td></tr>\n<tr><td><p><span style=font-size: small\;>» Attrakti
 ve Preise</span></p></td>\n<td><p><span style=font-size: small\;>» HM:
  Jeder km ausgeschildert</span></p></td></tr>\n</tbody>\n</table>\n<p>
 Flyer zum Download: <a href=https://www.runningsocks.de/wordpress/wp-c
 ontent/uploads/2010/05/20101010_Citylauf_Schwabach.pdf>19_Citylauf_Sch
 wabach</a></p>\n<p>Weitere Info&#8217\;s und Online Anmeldung beim Ver
 anstalter: <a href=http://www.schwabacher-citylauf.de target=_blank>TV
  1848 Schwabach e.V.</a></p>\n
URL:https://www.runningsocks.de/wordpress/terminkalender/eventsinglepa
 ge/?event_id=47&lang=de
ATTACH:https://www.runningsocks.de/wordpress/terminkalender/eventsingl
 epage/?event_id=47&lang=de
LOCATION:Marktplatz Schwabach\, Martkplatz\, Schwabach
END:VEVENT
END:VCALENDAR
