BEGIN:VCALENDAR
VERSION:2.0
METHOD:PUBLISH
PRODID:-//hacksw/handcal//NONSGML v1.0//EN
BEGIN:VEVENT
DTSTAMP:20260419T165350Z
DTSTART:20220313T083000Z
DTEND:20220313T113000Z
UID:20220313T083000Z-20220313T113000Z-470@www.runningsocks.de
SUMMARY:29. Finish Line Rothseelauf
DESCRIPTION:Die erste Probe im Frühjahr und seit Jahren ein Klassiker 
 !\nStrecken:\n\n\n 	5\,2 Km\, Hobbylauf\, 1 Runde um den kleinen Roths
 ee\n 	5\,2 Km\, Nordic Walking\, 1 Runde um den kleinen Rothsee\n 	10\
 ,4Km\, Hauptlauf\, 2 Runden um den kleinen Rothsee\n\nStartgeld:\n\n\n
  	Hobbylauf: 9\,00 EUR\n 	Nordic Walking: 9\,00 EUR\n 	Hauptlauf: 12\,
 00 EUR\n 	Nachmeldungen: 3\,00 EUR\n\nAnmeldungen:\n\nBis zum 11.03. o
 nline möglich. Onlinemeldungen sind erst erst gesichert\, wenn der Sta
 rtbeitrag innerhalb 5 Tagen nach Onlineanmeldung überweisen wurde.\n\n
 Nachmeldungen gelten ab 12.03.und sind folgendermaßen möglich:\n\n 	Pe
 rsönlich im Cafe Würde & Wertschätzung\, Reichstr. 10 / Ecke Schwepper
 mannstr. Nbg zwsichen 14:00 - 17:00\n 	Vor Ort am Tag der Veranstaltun
 g bis 30 Min. vor dem Start des jeweiligen Laufes.\n\nZeiten:\n\n 	Abh
 olung Unterlagen am 12.03.2021: 10:00 - 17:00\, Cafe Würde & Wertschät
 zung\, Reichstr. 10 / Ecke Schweppermannstr. Nbg\n 	Abholung Unterlage
 n am Starttag vor Ort: ab 08:00\n 	Start Hobbylauf: 09:30\n 	Start Nor
 dic Walking: 09:30\n 	Start Hauptlauf: 10:30\n\nWeitere Info's wie imm
 er direkt beim Veranstalter: runningConcepts\nAusschreibung:\nrunningC
 oncepts
X-ALT-DESC;FMTTYPE=text/html:<p style=text-align: center\;><strong>Die
  erste Probe im Frühjahr und seit Jahren ein Klassiker !</strong></p>\
 n<p style=text-align: justify\;><strong><span style=text-decoration: u
 nderline\;>Strecken:</span></strong></p>\n<ul>\n<li>5\,2 Km\, Hobbylau
 f\, 1 Runde um den kleinen Rothsee</li>\n<li>5\,2 Km\, Nordic Walking\
 , 1 Runde um den kleinen Rothsee</li>\n<li>10\,4Km\, Hauptlauf\, 2 Run
 den um den kleinen Rothsee</li>\n</ul>\n<p style=text-align: justify\;
 ><span style=text-decoration: underline\;><strong>Startgeld:</strong><
 /span></p>\n<ul>\n<li>Hobbylauf: 9\,00 EUR</li>\n<li>Nordic Walking: 9
 \,00 EUR</li>\n<li>Hauptlauf: 12\,00 EUR</li>\n<li>Nachmeldungen: 3\,0
 0 EUR</li>\n</ul>\n<p><span style=text-decoration: underline\;><strong
 >Anmeldungen:</strong></span><br>\n<br>\nBis zum 11.03. online möglich
 . Onlinemeldungen sind erst erst gesichert\, wenn der Startbeitrag inn
 erhalb 5 Tagen nach Onlineanmeldung überweisen wurde.</p>\n<p>Nachmeld
 ungen gelten ab 12.03.und sind folgendermaßen möglich:</p>\n<ul>\n<li>
 Persönlich im Cafe Würde &amp\; Wertschätzung\, Reichstr. 10 / Ecke Sc
 hweppermannstr. Nbg zwsichen 14:00 &#8211\; 17:00</li>\n<li>Vor Ort am
  Tag der Veranstaltung bis 30 Min. vor dem Start des jeweiligen Laufes
 .</li>\n</ul>\n<p><span style=text-decoration: underline\;><strong>Zei
 ten:</strong></span></p>\n<ul>\n<li>Abholung Unterlagen am 12.03.2021:
  10:00 &#8211\; 17:00\, Cafe Würde &amp\; Wertschätzung\, Reichstr. 10
  / Ecke Schweppermannstr. Nbg</li>\n<li>Abholung Unterlagen am Startta
 g vor Ort: ab 08:00</li>\n<li>Start Hobbylauf: 09:30</li>\n<li>Start N
 ordic Walking: 09:30</li>\n<li>Start Hauptlauf: 10:30</li>\n</ul>\n<p 
 style=text-align: justify\;>Weitere Info&#8217\;s wie immer direkt bei
 m Veranstalter: <a href=https://runningconcepts.de/rothseelauf target=
 _blank rel=noopener>runningConcepts</a></p>\n<p style=text-align: just
 ify\;><span style=text-decoration: underline\;><strong>Ausschreibung:<
 /strong></span></p>\n<p style=text-align: justify\;><a href=https://ru
 nningconcepts.de/rothseelauf target=_blank rel=noopener>runningConcept
 s</a></p>\n
URL:https://www.runningsocks.de/wordpress/terminkalender/eventsinglepa
 ge/?event_id=470&lang=de
ATTACH:https://www.runningsocks.de/wordpress/terminkalender/eventsingl
 epage/?event_id=470&lang=de
LOCATION:Strandhaus Birkach\, Birkacher Uferweg 2\, Roth
END:VEVENT
END:VCALENDAR
