BEGIN:VCALENDAR
VERSION:2.0
METHOD:PUBLISH
PRODID:-//hacksw/handcal//NONSGML v1.0//EN
BEGIN:VEVENT
DTSTAMP:20260419T165411Z
DTSTART:20240606T160000Z
DTEND:20240606T180000Z
UID:20240606T160000Z-20240606T180000Z-471@www.runningsocks.de
SUMMARY:FunRun Südwest\, 06.06.2024
DESCRIPTION:Nicht zu lang und nicht zu kurz!\n9\,9 km Streckenlänge un
 d seit 2014: 5Km – für Wenigläufer eine gut schaffbare Herausforderung
 \, für Vielläufer ein willkommenes Training. Umso mehr bei dem reizvol
 len Streckenverlauf über Asphalt\, Schotter- und Feldwege.\nLos geht’s
  vom Südwestpark aus Richtung Gebersdorf. Im Wiesengrund führt die Str
 ecke immer der Rednitz entlang gen Fürth. Nach einer Kehrtwende heißt 
 es dann an den grünen Uferzonen neben dem Rhein-Main-Donau-Kanal: Ends
 purt zurück bis zum Südwestpark!\nFür ausreichend Verpflegungsposten e
 ntlang der Strecke ist selbstverständlich gesorgt.\nDie wichtigsten Fa
 kten:\n\n 	Start/Ziel: im Südwestpark\n 	Strecke Läufer/Nordic Walker:
 \n9\,9 km (über Gebersdorf die Rednitz entlang Richtung Fürth\, am Ufe
 r des Main-Donau-Kanals zurück zum Südwestpark)\n 	Strecke Läufer:\n5\
 ,0 km\, Begrenzung auf maximal 400 Läufer (südlich Richtung Main-Donau
 - Kanal entlang – bis zu einer Wende nach ca. 2\,5 km)\n 	Strecke Kind
 er (4 bis 6 Jahre):\neine Runde durch den Südwestpark\n 	Strecke Schül
 er (7 bis 14 Jahre):\neine Runde durch den Südwestpark\n\nACHTUNG: die
  nachfolgenden Daten sind noch unbestätigt !!\nAlle Startzeiten:\n\n 	
 ab 14:00 Uhr - 17:00 Uhr: Nachmeldung und Abholung der Starterunterlag
 en im Start-/Zielbereich\n 	18.00 Uhr: 1 Km Kinder\n 	18:15 Uhr: 1 Km 
 Schüler\n 	18:30 Uhr: 9\,9 km Läufer\n 	18:35 Uhr: 9\,9 km Walker\n 	1
 8:45 Uhr: 5 km Läufer\n 	ca. 19:05 Uhr: erster Zieleinlauf\n 	ca. 20:3
 0 Uhr: Siegerehrung\n\nIn der Startgebühr inbegriffen:\n\n 	Transponde
 r-Zeitmessung\n 	Dusch- und Umkleidemöglichkeiten\n 	Verpflegungsposte
 n auf der Strecke\n 	Urkunde (als Online-Ausdruck)\n 	Parkplätze in de
 n Parkhäusern\n\nUm den wachsenden Organisationsaufwand\,  sowie weite
 r soziale Initiativen in der Region mit Spenden fördern zu können\, wi
 rd ab 2016 eine Aufwandsentschädigung für das Funktions Shirt  erhoben
 . Während Kinder/Schüler das Shirt kostenlos überstreifen\, können es 
 Erwachsene gegen eine Aufwandspauschale von sieben Euro bei der Regist
 rierung in der Wunschgröße mit bestellen. T-Shirt Bestellungen sind nu
 r bis 15.03. möglich!\nAnmeldungen und Startgebühren:\n\n\n\n\nFrühbuc
 herpreis \n\n(bis 15.03.)\nNormaler Preis\n\n(ab 16.03.)\n\n\n\n\nEinz
 elläufer Erwachsen\n14 €\n16 €\n\n\nGruppe Erwachsen\n12 €\n14 €\n\n\n
 Funktions-Shirt\n\n8 €\n-\n\n\nEinzelläufer/Gruppe Kind/Schüler\nkoste
 nlos\n5 €\n\n\n\n\n\nONLINE-Anmeldeschluss\nist der 31.05..\n\nAnmeldu
 ng vor Ort\nam 06.06. ab 14 Uhr - 17 Uhr\n\n\nWeitere Info's beim Vera
 nstalter: SÜD-WEST-PARK Management GmbH sowie Online Anmeldungen\n\nAl
 le Info's ©FunRun Südwest\n\nAusschreibung\, Kurzinfo:\n\nfolgt sobald
  verfügbar ..
X-ALT-DESC;FMTTYPE=text/html:<h2 style=text-align: center\;>Nicht zu l
 ang und nicht zu kurz!</h2>\n<p style=text-align: justify\;>9\,9 km St
 reckenlänge und seit 2014: 5Km – für Wenigläufer eine gut schaffbare H
 erausforderung\, für Vielläufer ein willkommenes Training. Umso mehr b
 ei dem reizvollen Streckenverlauf über Asphalt\, Schotter- und Feldweg
 e.<br>\nLos geht’s vom Südwestpark aus Richtung Gebersdorf. Im Wieseng
 rund führt die Strecke immer der Rednitz entlang gen Fürth. Nach einer
  Kehrtwende heißt es dann an den grünen Uferzonen neben dem Rhein-Main
 -Donau-Kanal: Endspurt zurück bis zum Südwestpark!</p>\n<p>Für ausreic
 hend Verpflegungsposten entlang der Strecke ist selbstverständlich ges
 orgt.</p>\n<h3><strong>Die wichtigsten Fakten:</strong></h3>\n<ul>\n<l
 i><strong>Start/Ziel:</strong> im Südwestpark</li>\n<li><strong>Streck
 e Läufer/Nordic Walker:</strong><br>\n9\,9 km (über Gebersdorf die Red
 nitz entlang Richtung Fürth\, am Ufer des Main-Donau-Kanals zurück zum
  Südwestpark)</li>\n<li><b>Strecke Läufer</b>:<br>\n5\,0 km\, Begrenzu
 ng auf maximal 400 Läufer (südlich Richtung Main-Donau- Kanal entlang 
 – bis zu einer Wende nach ca. 2\,5 km)</li>\n<li><strong>Strecke Kinde
 r (4 bis 6 Jahre):</strong><br>\neine Runde durch den Südwestpark</li>
 \n<li><strong>Strecke Schüler (7 bis 14 Jahre):</strong><br>\neine Run
 de durch den Südwestpark</li>\n</ul>\n<p><strong><span style=color: #f
 f0000\;>ACHTUNG: die nachfolgenden Daten sind noch unbestätigt !!</spa
 n></strong></p>\n<h3>Alle Startzeiten:</h3>\n<ul>\n<li>ab 14:00 Uhr &#
 8211\; 17:00 Uhr: Nachmeldung und Abholung der Starterunterlagen im St
 art-/Zielbereich</li>\n<li>18.00 Uhr: 1 Km Kinder</li>\n<li>18:15 Uhr:
  1 Km Schüler</li>\n<li>18:30 Uhr: 9\,9 km Läufer</li>\n<li>18:35 Uhr:
  9\,9 km Walker</li>\n<li>18:45 Uhr: 5 km Läufer</li>\n<li>ca. 19:05 U
 hr: erster Zieleinlauf</li>\n<li>ca. 20:30 Uhr: Siegerehrung</li>\n</u
 l>\n<h3 id=c47><strong>In der Startgebühr inbegriffen:</strong></h3>\n
 <ul>\n<li>Transponder-Zeitmessung</li>\n<li>Dusch- und Umkleidemöglich
 keiten</li>\n<li>Verpflegungsposten auf der Strecke</li>\n<li>Urkunde 
 (als Online-Ausdruck)</li>\n<li>Parkplätze in den Parkhäusern</li>\n</
 ul>\n<p>Um den wachsenden Organisationsaufwand\,  sowie weiter soziale
  Initiativen in der Region mit Spenden fördern zu können\, wird ab 201
 6 eine Aufwandsentschädigung für das Funktions Shirt  erhoben. Während
  <strong>Kinder/Schüler das Shirt kostenlos</strong> überstreifen\, kö
 nnen es Erwachsene gegen eine Aufwandspauschale von sieben Euro bei de
 r Registrierung in der Wunschgröße mit bestellen. <strong>T-Shirt Best
 ellungen sind nur bis 15.03. möglich!</strong></p>\n<h3>Anmeldungen un
 d Startgebühren:</h3>\n<table>\n<thead>\n<tr><th colspan=1 rowspan=1 s
 cope=col></th>\n<th colspan=1 rowspan=1 scope=col><strong>Frühbucherpr
 eis </strong></p>\n<p><strong>(bis 15.03.)</strong></th>\n<th colspan=
 1 rowspan=1 scope=col><strong>Normaler Preis</strong><br>\n<br>\n(ab 1
 6.03.)</th></tr>\n</thead>\n<tbody>\n<tr><td><strong>Einzelläufer Erwa
 chsen</strong></td>\n<td>14 €</td>\n<td>16 €</td></tr>\n<tr><td><stron
 g>Gruppe Erwachsen</strong></td>\n<td>12 €</td>\n<td>14 €</td></tr>\n<
 tr><td><strong>Funktions-Shirt<br>\n</strong></td>\n<td>8 €</td>\n<td>
 &#8211\;</td></tr>\n<tr><td><strong>Einzelläufer/Gruppe Kind/Schüler</
 strong></td>\n<td>kostenlos</td>\n<td>5 €</td></tr>\n</tbody>\n</table
 >\n<div id=c110>\n<p><strong>ONLINE-Anmeldeschluss</strong><br>\nist d
 er 31.05..</p>\n<p><strong>Anmeldung vor Ort</strong><br>\nam 06.06. a
 b 14 Uhr &#8211\; 17 Uhr</p>\n</div>\n<p>Weitere Info&#8217\;s beim Ve
 ranstalter: <a href=http://www.funrunsuedwest.de/ target=_blank rel=no
 opener>SÜD-WEST-PARK Management GmbH</a> sowie Online <a href=http://w
 ww.funrunsuedwest.de/anmeldung.html target=_blank rel=noopener>Anmeldu
 ngen</a></p>\n<p>Alle Info&#8217\;s <a href=http://www.funrunsuedwest.
 de/ target=_blank rel=noopener>©FunRun Südwest</a></p>\n<p>Ausschreibu
 ng\, Kurzinfo:</p>\n<p>folgt sobald verfügbar ..</p>\n
URL:https://www.runningsocks.de/wordpress/terminkalender/eventsinglepa
 ge/?event_id=471&lang=de
ATTACH:https://www.runningsocks.de/wordpress/terminkalender/eventsingl
 epage/?event_id=471&lang=de
LOCATION:Südwestpark\, Südwestpark 41\, Nürnberg
END:VEVENT
END:VCALENDAR
