BEGIN:VCALENDAR
VERSION:2.0
METHOD:PUBLISH
PRODID:-//hacksw/handcal//NONSGML v1.0//EN
BEGIN:VEVENT
DTSTAMP:20260419T165502Z
DTSTART:20240616T040000Z
DTEND:20240616T140000Z
UID:20240616T040000Z-20240616T140000Z-472@www.runningsocks.de
SUMMARY:24. Jura Radmarathon\, Lupburg\, 16.06.2024
DESCRIPTION:Jura-Radmarathon - Die etwas andere Veranstaltung in famil
 iärer Atmosphäre\nOnlineanmeldung: ab 01.03.\n\nAnmeldeschluß: wenn Te
 ilnehmerlimit von 1500 Startern erreicht ist\, bzw. 30.05.\n\nÜbersich
 t: MTB Touren\, Strecken\, Startgebühren\, Startzeiten\n\n\n\nTour\nSt
 recke\nKm\nPreis bis 30.04.\nPreis ab 01.05.\nStartzeit\n\n\n6\nMTB (5
 00 HM)\n30\n8 EUR\n8 EUR\n08:00 - 11:00\n\n\n7\nMTB ( 800 HM)\n45\n 13
  EUR\n18 EUR\n06:00 - 09:00\n\n\n8\nMTB ( 1100 HM)\n56\n14 EUR\n19 EUR
 \n06:00 - 09:00\n\n\n9\nMTB ( 1300 HM)\n75\n16 EUR\n21 EUR\n06:00 - 08
 :00\n\n\n10\nMTB ( 1700 HM)\n94\n25 EUR\n30 EUR\n06:00 - 07:30\n\n\n\n
 Aktueller Flyer und Streckenpläne zum 24. Jura Radmarathon rund um Lup
 burg:\n\n 	20240616_JuraRadMarathon_Flyer\n\nWeitere Info's und Online
 anmeldung beim Veranstalter: Sportverein 1959 Lupburg e.V
X-ALT-DESC;FMTTYPE=text/html:<p style=text-align: center\;><span style
 =font-size: 18px\;><em>&#8222\;Jura-Radmarathon &#8211\; Die etwas and
 ere Veranstaltung in familiärer Atmosphäre&#8220\;</em></span></p>\n<p
 ><strong>Onlineanmeldung:</strong> ab 01.03.</p>\n<p><strong>Anmeldesc
 hluß:</strong> wenn Teilnehmerlimit von 1500 Startern erreicht ist\, b
 zw. 30.05.</p>\n<p><strong>Übersicht:</strong> MTB Touren\, Strecken\,
  Startgebühren\, Startzeiten</p>\n<table>\n<tbody>\n<tr><td><strong>To
 ur</strong></td>\n<td><strong>Strecke</strong></td>\n<td><strong>Km</s
 trong></td>\n<td><strong>Preis bis 30.04.</strong></td>\n<td><strong>P
 reis ab 01.05.</strong></td>\n<td><strong>Startzeit</strong></td></tr>
 \n<tr><td style=text-align: center\;>6</td>\n<td style=text-align: cen
 ter\;>MTB (500 HM)</td>\n<td>30</td>\n<td style=text-align: center\;>8
  EUR</td>\n<td style=text-align: center\;>8 EUR</td>\n<td>08:00 &#8211
 \; 11:00</td></tr>\n<tr><td style=text-align: center\;>7</td>\n<td sty
 le=text-align: center\;>MTB ( 800 HM)</td>\n<td>45</td>\n<td style=tex
 t-align: center\;> 13 EUR</td>\n<td style=text-align: center\;>18 EUR<
 /td>\n<td>06:00 &#8211\; 09:00</td></tr>\n<tr><td style=text-align: ce
 nter\;>8</td>\n<td style=text-align: center\;>MTB ( 1100 HM)</td>\n<td
 >56</td>\n<td style=text-align: center\;>14 EUR</td>\n<td style=text-a
 lign: center\;>19 EUR</td>\n<td>06:00 &#8211\; 09:00</td></tr>\n<tr><t
 d style=text-align: center\;>9</td>\n<td style=text-align: center\;>MT
 B ( 1300 HM)</td>\n<td>75</td>\n<td style=text-align: center\;>16 EUR<
 /td>\n<td style=text-align: center\;>21 EUR</td>\n<td>06:00 &#8211\; 0
 8:00</td></tr>\n<tr><td style=text-align: center\;>10</td>\n<td style=
 text-align: center\;>MTB ( 1700 HM)</td>\n<td>94</td>\n<td style=text-
 align: center\;>25 EUR</td>\n<td style=text-align: center\;>30 EUR</td
 >\n<td>06:00 &#8211\; 07:30</td></tr>\n</tbody>\n</table>\n<p>Aktuelle
 r Flyer und Streckenpläne zum 24. Jura Radmarathon rund um Lupburg:</p
 >\n<ul>\n<li><a href=https://www.runningsocks.de/wordpress/wp-content/
 uploads/2024/02/20240616_JuraRadMarathon_Flyer.pdf>20240616_JuraRadMar
 athon_Flyer</a></li>\n</ul>\n<p style=text-align: justify\;>Weitere In
 fo&#8217\;s und Onlineanmeldung beim Veranstalter: <a href=http://www.
 jura-radmarathon.de target=_blank rel=noopener>Sportverein 1959 Lupbur
 g e.V</a></p>\n
URL:https://www.runningsocks.de/wordpress/terminkalender/eventsinglepa
 ge/?event_id=472&lang=de
ATTACH:https://www.runningsocks.de/wordpress/terminkalender/eventsingl
 epage/?event_id=472&lang=de
LOCATION:Schul- und Sportgelände\, Reiselbergweg 3\, Lupburg
END:VEVENT
END:VCALENDAR
