BEGIN:VCALENDAR
VERSION:2.0
METHOD:PUBLISH
PRODID:-//hacksw/handcal//NONSGML v1.0//EN
BEGIN:VEVENT
DTSTAMP:20260419T165718Z
DTSTART:20240413T143000Z
DTEND:20240413T180000Z
UID:20240413T143000Z-20240413T180000Z-473@www.runningsocks.de
SUMMARY:12. Valuniq HiRo Run
DESCRIPTION:Schneller\, flacher Rundkurs um den Rothsee. Start und Zie
 l ist Hilpoltstein\nInfos :\n\n\n\nAusschreibung:\nIFB HiRo Run 21.1\n
 \n\nTermin:\nSamstag\, 16.04.\n\n\nVeranstalter:\nLa Carrera TriTeam R
 othsee 09 e.V.\n\n\nStartzeit:\n15:00 Uhr\n\n\nZielschluss:\n18:00 Uhr
 \n\n\nStart / Ziel:\nInnenstadt von Hilpoltstein - Marktstraße\n\n\nTe
 ilnehmerlimit:\n600 Starter Hauptlauf\, 300 Starter Hobbylauf\n\n\nMel
 deschluss:\nEntweder wenn das Teilnehmerlimit erreicht ist oder der 05
 .04.\n\n\nMeldegebühren:\n\nHalbmarathon\n\n\n 	bis 15.01.\n 	16.01. -
  15.02.\n 	16.02. - 07.04.\n\n\n\n\n 	22 € (zuzügl. 2 € für Chip)\n 	2
 5 € (zuzügl. 2 € für Chip)\n 	28 € (zuzügl. 6 € Staffelstab)\n\n\n\n\n
 8Km Hobbylauf\n\n\n 	bis 15.01.\n 	16.01. - 15.02.\n 	16.02. - 07.04.\
 n\n\n\n\n 	11 € (zuzügl. 2 € für Chip )\n 	13 € (zuzügl. 2 € für Chip)
 \n 	15 € (zuzügl. 2 € für Chip)\n\n\n\n\nStaffellauf\n\n\n 	bis 15.01.
 \n 	16.01. - 15.02.\n 	16.02. - 07.04.\n\n\n\n\n 	33 € (zuzügl. 6 € St
 affelstab)\n 	36 € (zuzügl. 6 € Staffelstab)\n 	39 € (zuzügl. 6 € Staf
 felstab)\n\n\n\n\n Nachmeldungen am Veranstaltunsgtag von 12:00 - 14:3
 0\n\n\n 	für 21\,1Km\n 	für 8km Hobbylauf\n 	für Staffellauf\n\n\n\n\n
  	33 € (zuzügl. 2 € für Chip)\n 	18 € (zuzügl. 2 € für Chip)\n 	44 € (
 zuzügl. 6 € Staffelstab)\n\n\n\n\nFunktionsshirt\nJeder Teilnehmer erh
 ält für den Aufpreis von nur 15 Euro (Angabe bei Anmeldung) beim Start
  ein HiRo Run Funktionsshirt. Bestellung eines Funktionsshirt bei eine
 r Anmeldung bis zum 31.01. möglich\n\n\n\n\n\n\nZugläufer\nauf der HM 
 Strecke für 1:30h\, 1:45h\, 2:00h\, 2:15h Zielzeit\n\n\nZeitmessung\nE
 asychip von Davengo\n\n\nInternet mit Ausschreibung\, Meldung und Erge
 bnissen:\nhttp://www.hiro-run.de\n\n\n\n(Quelle: http://www.hiro-run.d
 e/)\n\nAlle weiteren\, aktuellen Infos sowie Online Anmeldung auf der 
 Seite des Veranstalters:  VALUNIQ HiRo Run\n\nFlyer zur Ausschreibung:
 \n\nfolgt sobald verfügbar ..
X-ALT-DESC;FMTTYPE=text/html:<p style=text-align: center\;>Schneller\,
  flacher Rundkurs um den Rothsee. Start und Ziel ist Hilpoltstein</p>\
 n<p><span style=text-decoration: underline\;><strong>Infos :</strong><
 /span></p>\n<table id=table4 style=width: 690px\; border=1>\n<tbody>\n
 <tr><td style=width: 148px\; align=left valign=top width=150>Ausschrei
 bung:</td>\n<td style=width: 542px\; colspan=2 align=left valign=top w
 idth=650>IFB HiRo Run 21.1</td></tr>\n<tr><td style=width: 148px\; ali
 gn=left valign=top width=150>Termin:</td>\n<td style=width: 542px\; co
 lspan=2 align=left valign=top width=650>Samstag\, 16.04.</td></tr>\n<t
 r><td style=width: 148px\; align=left valign=top width=150>Veranstalte
 r:</td>\n<td style=width: 542px\; colspan=2 align=left valign=top widt
 h=650><a href=https://www.lacarrera-triteam.de/ target=_blank rel=noop
 ener>La Carrera TriTeam Rothsee 09 e.V.</a></td></tr>\n<tr><td style=w
 idth: 148px\; align=left valign=top width=150>Startzeit:</td>\n<td sty
 le=width: 542px\; colspan=2 align=left valign=top width=650>15:00 Uhr<
 /td></tr>\n<tr><td style=width: 148px\; align=left valign=top width=15
 0>Zielschluss:</td>\n<td style=width: 542px\; colspan=2 align=left val
 ign=top width=650>18:00 Uhr</td></tr>\n<tr><td style=width: 148px\; al
 ign=left valign=top width=150>Start / Ziel:</td>\n<td style=width: 542
 px\; colspan=2 align=left valign=top width=650>Innenstadt von Hilpolts
 tein &#8211\; Marktstraße</td></tr>\n<tr><td style=width: 148px\; alig
 n=left valign=top width=150>Teilnehmerlimit:</td>\n<td style=width: 54
 2px\; colspan=2 align=left valign=top width=650>600 Starter Hauptlauf\
 , 300 Starter Hobbylauf</td></tr>\n<tr><td style=width: 148px\; align=
 left valign=top width=150>Meldeschluss:</td>\n<td style=width: 542px\;
  colspan=2 align=left valign=top width=650>Entweder wenn das Teilnehme
 rlimit erreicht ist oder der 05.04.</td></tr>\n<tr><td style=width: 14
 8px\; align=left valign=top width=150>Meldegebühren:</p>\n<p>Halbmarat
 hon</td>\n<td style=width: 270px\; align=left valign=top width=325><ul
 >\n<li>bis 15.01.</li>\n<li>16.01. &#8211\; 15.02.</li>\n<li>16.02. &#
 8211\; 07.04.</li>\n</ul></td>\n<td style=width: 272px\; align=left va
 lign=top width=325><ul>\n<li>22 € (zuzügl. 2 € für Chip)</li>\n<li>25 
 € (zuzügl. 2 € für Chip)</li>\n<li>28 € (zuzügl. 6 € Staffelstab)</li>
 \n</ul></td></tr>\n<tr><td style=width: 148px\; align=left valign=top 
 width=150>8Km Hobbylauf</td>\n<td style=width: 270px\; align=left vali
 gn=top width=325><ul>\n<li>bis 15.01.</li>\n<li>16.01. &#8211\; 15.02.
 </li>\n<li>16.02. &#8211\; 07.04.</li>\n</ul></td>\n<td style=width: 2
 72px\; align=left valign=top width=325><ul>\n<li>11 € (zuzügl. 2 € für
  Chip )</li>\n<li>13 € (zuzügl. 2 € für Chip)</li>\n<li>15 € (zuzügl. 
 2 € für Chip)</li>\n</ul></td></tr>\n<tr><td style=width: 148px\; alig
 n=left valign=top width=150>Staffellauf</td>\n<td style=width: 270px\;
  align=left valign=top width=325><ul>\n<li>bis 15.01.</li>\n<li>16.01.
  &#8211\; 15.02.</li>\n<li>16.02. &#8211\; 07.04.</li>\n</ul></td>\n<t
 d style=width: 272px\; align=left valign=top width=325><ul>\n<li>33 € 
 (zuzügl. 6 € Staffelstab)</li>\n<li>36 € (zuzügl. 6 € Staffelstab)</li
 >\n<li>39 € (zuzügl. 6 € Staffelstab)</li>\n</ul></td></tr>\n<tr><td s
 tyle=width: 148px\; align=left valign=top width=150> Nachmeldungen am 
 Veranstaltunsgtag von 12:00 &#8211\; 14:30</td>\n<td style=width: 270p
 x\; align=left valign=top width=325><ul>\n<li>für 21\,1Km</li>\n<li>fü
 r 8km Hobbylauf</li>\n<li>für Staffellauf</li>\n</ul></td>\n<td style=
 width: 272px\; align=left valign=top width=325><ul>\n<li>33 € (zuzügl.
  2 € für Chip)</li>\n<li>18 € (zuzügl. 2 € für Chip)</li>\n<li>44 € (z
 uzügl. 6 € Staffelstab)</li>\n</ul></td></tr>\n<tr><td style=width: 14
 8px\; align=left valign=top width=150>Funktionsshirt</td>\n<td style=w
 idth: 542px\; colspan=2 align=left valign=top width=650>Jeder Teilnehm
 er erhält für den Aufpreis von nur 15 Euro (Angabe bei Anmeldung) beim
  Start ein <strong>HiRo Run Funktionsshirt.</strong> Bestellung eines 
 Funktionsshirt bei einer Anmeldung bis zum 31.01. möglich</td></tr>\n<
 tr><td style=width: 148px\; align=left valign=top width=150></td>\n<td
  style=width: 542px\; colspan=2 align=left valign=top width=650></td><
 /tr>\n<tr><td style=width: 148px\; align=left valign=top width=150>Zug
 läufer</td>\n<td style=width: 542px\; colspan=2 align=left valign=top 
 width=650>auf der HM Strecke für 1:30h\, 1:45h\, 2:00h\, 2:15h Zielzei
 t</td></tr>\n<tr><td style=width: 148px\; align=left valign=top width=
 150>Zeitmessung</td>\n<td style=width: 542px\; colspan=2 align=left va
 lign=top width=650>Easychip von Davengo</td></tr>\n<tr><td style=width
 : 148px\; align=left valign=top width=150>Internet mit Ausschreibung\,
  Meldung und Ergebnissen:</td>\n<td style=width: 542px\; colspan=2 ali
 gn=left valign=top width=650><a href=https://www.hiro-run.de/>http://w
 ww.hiro-run.de</a></td></tr>\n</tbody>\n</table>\n<p>(Quelle: http://w
 ww.hiro-run.de/)</p>\n<p>Alle weiteren\, aktuellen Infos sowie Online 
 Anmeldung auf der Seite des Veranstalters:<strong>  <a href=https://ww
 w.hiro-run.de/>VALUNIQ HiRo Run</a></strong></p>\n<p><strong>Flyer zur
  Ausschreibung:</strong><br>\n<br>\nfolgt sobald verfügbar ..</p>\n
URL:https://www.runningsocks.de/wordpress/terminkalender/eventsinglepa
 ge/?event_id=473&lang=de
ATTACH:https://www.runningsocks.de/wordpress/terminkalender/eventsingl
 epage/?event_id=473&lang=de
LOCATION:Marktstrasse Hilpoltstein\, Marktstrasse 16\, Hilpoltstein
END:VEVENT
END:VCALENDAR
