BEGIN:VCALENDAR
VERSION:2.0
METHOD:PUBLISH
PRODID:-//hacksw/handcal//NONSGML v1.0//EN
BEGIN:VEVENT
DTSTAMP:20260419T165735Z
DTSTART:20240310T083000Z
DTEND:20240310T113000Z
UID:20240310T083000Z-20240310T113000Z-474@www.runningsocks.de
SUMMARY:31. FinishLine Rothseelauf\, 10.03.2024
DESCRIPTION:Die erste Probe im Frühjahr und seit Jahren ein Klassiker 
 !\nStrecken:\n\n\n 	5\,2 Km\, Hobbylauf\, Nordic Walking\, 1 Runde um 
 den kleinen Rothsee\n 	10\,4Km\, Hauptlauf\, 2 Runden um den kleinen R
 othsee\n\nStartgeld:\n\n\n 	Hobbylauf: 10\,00 EUR\n 	Hauptlauf: 14\,00
  EUR\n 	Nachmeldungen: 5\,00 EUR\n\nAnmeldungen:\n\nBis zum 08.03. onl
 ine möglich.\n\nNachmeldungen gelten ab 09.03. und sind nur noch im Ca
 fé Pure Food in der Reichstr. 10 / Ecke Schweppermannstr. in Nürnberg 
 von 10:00 - 17:00\, oder am Veranstaltungstag bis 30 Minuten vor dem S
 tart des jeweiligen Laufes vor Ort möglich.\n\nZeiten:\n\n 	Abholung S
 tartunterlagen am 09.03.: 10:00 – 17.00 Uhr im Café Pure Food in der R
 eichstr. 10/ Ecke Schweppermannstr. in Nürnberg\n 	Abholung Startunter
 lagen am 10.03.: ab 08:00\, Birkach\, Start/Zielbereich\n 	Start Hobby
 lauf: 09:30\n 	Start Hauptlauf: 10:30\n\nWeitere Info's wie immer dire
 kt beim Veranstalter: Finish Line Rothseelauf\nOnline Anmeldung: myRac
 eResult\nAusschreibung:\nZentrum-Leben
X-ALT-DESC;FMTTYPE=text/html:<p style=text-align: center\;><strong>Die
  erste Probe im Frühjahr und seit Jahren ein Klassiker !</strong></p>\
 n<p style=text-align: justify\;><strong><span style=text-decoration: u
 nderline\;>Strecken:</span></strong></p>\n<ul>\n<li>5\,2 Km\, Hobbylau
 f\, Nordic Walking\, 1 Runde um den kleinen Rothsee</li>\n<li>10\,4Km\
 , Hauptlauf\, 2 Runden um den kleinen Rothsee</li>\n</ul>\n<p style=te
 xt-align: justify\;><span style=text-decoration: underline\;><strong>S
 tartgeld:</strong></span></p>\n<ul>\n<li>Hobbylauf: 10\,00 EUR</li>\n<
 li>Hauptlauf: 14\,00 EUR</li>\n<li>Nachmeldungen: 5\,00 EUR</li>\n</ul
 >\n<p><span style=text-decoration: underline\;><strong>Anmeldungen:</s
 trong></span><br>\n<br>\nBis zum 08.03. online möglich.</p>\n<p>Nachme
 ldungen gelten ab 09.03. und sind nur noch im Café Pure Food in der Re
 ichstr. 10 / Ecke Schweppermannstr. in Nürnberg von 10:00 &#8211\; 17:
 00\, oder am Veranstaltungstag bis 30 Minuten vor dem Start des jeweil
 igen Laufes vor Ort möglich.</p>\n<p><span style=text-decoration: unde
 rline\;><strong>Zeiten:</strong></span></p>\n<ul>\n<li>Abholung Startu
 nterlagen am 09.03.: 10:00 – 17.00 Uhr im Café Pure Food in der Reichs
 tr. 10/ Ecke Schweppermannstr. in Nürnberg</li>\n<li>Abholung Startunt
 erlagen am 10.03.: ab 08:00\, Birkach\, Start/Zielbereich</li>\n<li>St
 art Hobbylauf: 09:30</li>\n<li>Start Hauptlauf: 10:30</li>\n</ul>\n<p 
 style=text-align: justify\;>Weitere Info&#8217\;s wie immer direkt bei
 m Veranstalter: <a href=http://www.runningconcepts.de/rothseelauf.html
  target=_blank rel=noopener>Finish Line Rothseelauf</a></p>\n<p>Online
  Anmeldung: <a href=https://my.raceresult.com/272817/ target=_blank re
 l=noopener>myRaceResult</a></p>\n<p style=text-align: justify\;><span 
 style=text-decoration: underline\;><strong>Ausschreibung:</strong></sp
 an></p>\n<p style=text-align: justify\;><a href=http://www.runningconc
 epts.de/rothseelauf.html target=_blank rel=noopener>Zentrum-Leben</a><
 /p>\n
URL:https://www.runningsocks.de/wordpress/terminkalender/eventsinglepa
 ge/?event_id=474&lang=de
ATTACH:https://www.runningsocks.de/wordpress/terminkalender/eventsingl
 epage/?event_id=474&lang=de
LOCATION:Strandhaus Birkach\, Birkacher Uferweg 2\, Roth
END:VEVENT
END:VCALENDAR
