BEGIN:VCALENDAR
VERSION:2.0
METHOD:PUBLISH
PRODID:-//hacksw/handcal//NONSGML v1.0//EN
BEGIN:VEVENT
DTSTAMP:20260419T165532Z
DTSTART:20241231T110000Z
DTEND:20241231T140000Z
UID:20241231T110000Z-20241231T140000Z-475@www.runningsocks.de
SUMMARY:21. Nürnberger Silvesterlauf
DESCRIPTION:Liebe Läuferinnen und Läufer des letztjährigen Silvesterla
 ufs\, es ist wieder soweit. Ab 01. 10. ist die Online-Anmeldung zum Nü
 rnberger Silvesterlauf geöffnet.\nErfahrungsgemäß ist der Lauf schon v
 or Ende der Anmeldefrist ausgebucht (Teilnehmerlimit: 1300). Von der S
 tartgebühr wird ein Teil gespendet:\n0\,50 € der Startgebühr gehen als
  Spende an einen gemeinnützigen Zweck\nStart und Ziel:\n\nBeim Tante N
 oris auf dem Johann-Soergel-Weg direkt vor dem neuen Steg am Wöhrder S
 ee\n\nAnmelde\,- Startgebühren:\n\nBis 15.12.\n\n\n\nLauf\nStartgeld b
 is 15.12\n\nab 16.12. (Nachmeldung)\n\nTeiln.limit\n\n\n\n400m Bambini
 lauf\n5 €\n8 €\n150\n\n\n1600m Schülerlauf\n5 €\n8 €\n150\n\n\n5 Km Ho
 bbylauf\n15 €\n23 €\n1300\n\n\n10 Km Hauptlauf\n22 €\n30 €\n1300\n\n\n
 \nMeldeschluß: 15.12.\n\nNachmeldungen: nur noch am 30.12. + 31.12. di
 rekt vor Ort\, soweit noch Startplätzte zur Verfügung stehen. Näheres 
 sh. Link zur Ausschreibung\n\nEin Funktionsshirt (Langarmshirt) kann f
 ür 20 EUR zusätzlich bei der Anmeldung bestellt werden (solange Vorrat
  reicht). Zum Shirt ..\nZeitplan:\n10:30 Uhr: Start 400 m Bambinilauf\
 n10:45 Uhr: Start 1600 m Schülerlauf\n11:00 Uhr: Siegerehrung Bambinil
 auf\, Schülerlauf\n11:30 Uhr: Start 5 km Hobbylauf\n12:15 Uhr: Siegere
 hrung Hobbylauf\n13:00 Uhr: Start 10 km Hauptlauf\n14:30 Uhr: Siegereh
 rung Hauptlauf und Teamcup\n\nGutmann Team Cup:\n\nAuch dieses Jahr gi
 bt es wieder den Gutmann Team Cup.  Beim 10-km-Hauptlauf werden alle T
 eams gewertet\, die mit gleichem Vereins- oder Gruppennamen (bitte bei
  der Online-Anmeldung unbedingt auf gleiche Bezeichnung achten!) einge
 tragen sind. Gewertet werden alle Teams mit den Zeiten der fünf bestpl
 atzierten Finisher. Die Wertung erfolgt immer als Mixed-Wertung\, d.h.
  es erfolgt keine getrennte Frauen- und Männerwertung.\n\nAusschreibun
 g\, Veranstalter\, Anmeldung:\n\nAusschreibung: direkt beim Veranstalt
 er\n\nOnline Anmeldung (ab 01.10.): über Partner MAXX Timing\n\nWeiter
 e\, aktuelle Info's und Anmeldung beim Veranstalter:\n\nTeam Klinikum 
 Nürnberg e. V.
X-ALT-DESC;FMTTYPE=text/html:<p style=text-align: center\;>Liebe Läufe
 rinnen und Läufer des letztjährigen Silvesterlaufs\, es ist wieder sow
 eit. Ab 01. 10. ist die Online-Anmeldung zum Nürnberger Silvesterlauf 
 geöffnet.</p>\n<p>Erfahrungsgemäß ist der Lauf schon vor Ende der Anme
 ldefrist ausgebucht (Teilnehmerlimit: 1300). Von der Startgebühr wird 
 ein Teil gespendet:</p>\n<p style=text-align: center\;><span style=tex
 t-decoration: underline\;>0\,50 € der Startgebühr gehen als Spende an 
 einen gemeinnützigen Zweck</span></p>\n<p><span style=text-decoration:
  underline\;><strong>Start und Ziel:</strong></span><br>\n<br>\nBeim &
 #8222\;Tante Noris&#8220\; auf dem Johann-Soergel-Weg direkt vor dem n
 euen Steg am Wöhrder See</p>\n<p><span style=text-decoration: underlin
 e\;><strong>Anmelde\,- Startgebühren:</strong></span></p>\n<p><strong>
 Bis 15.12.</strong></p>\n<table style=border-collapse: collapse\; widt
 h: 48.574%\;>\n<tbody>\n<tr><td style=width: 14.9957%\;><strong>Lauf</
 strong></td>\n<td style=width: 31.6722%\; text-align: center\;><strong
 >Startgeld bis 15.12<br>\n</strong></td>\n<td style=width: 27.2283%\; 
 text-align: center\;><strong>ab 16.12. (Nachmeldung)<br>\n</strong></t
 d>\n<td style=width: 51.0612%\;><strong>Teiln.limit<br>\n</strong></td
 ></tr>\n<tr><td style=width: 14.9957%\;>400m Bambinilauf</td>\n<td sty
 le=width: 31.6722%\; text-align: center\;>5 €</td>\n<td style=width: 2
 7.2283%\; text-align: center\;>8 €</td>\n<td style=width: 51.0612%\;>1
 50</td></tr>\n<tr><td style=width: 14.9957%\;>1600m Schülerlauf</td>\n
 <td style=width: 31.6722%\; text-align: center\;>5 €</td>\n<td style=w
 idth: 27.2283%\; text-align: center\;>8 €</td>\n<td style=width: 51.06
 12%\;>150</td></tr>\n<tr><td style=width: 14.9957%\;>5 Km Hobbylauf</t
 d>\n<td style=width: 31.6722%\; text-align: center\;>15 €</td>\n<td st
 yle=width: 27.2283%\; text-align: center\;>23 €</td>\n<td style=width:
  51.0612%\;>1300</td></tr>\n<tr><td style=width: 14.9957%\;>10 Km Haup
 tlauf</td>\n<td style=width: 31.6722%\; text-align: center\;>22 €</td>
 \n<td style=width: 27.2283%\; text-align: center\;>30 €</td>\n<td styl
 e=width: 51.0612%\;>1300</td></tr>\n</tbody>\n</table>\n<p><strong>Mel
 deschluß:</strong> 15.12.</p>\n<p><span style=font-size: 12pt\;><stron
 g>Nachmeldung</strong>en:</span> nur noch am 30.12. + 31.12. direkt vo
 r Ort\, soweit noch Startplätzte zur Verfügung stehen. Näheres sh. Lin
 k zur Ausschreibung</p>\n<p>Ein Funktionsshirt (Langarmshirt) kann für
  20 EUR zusätzlich bei der Anmeldung bestellt werden (solange Vorrat r
 eicht). <a href=https://www.team-klinikum-nuernberg.de/ausschreibung>Z
 um Shirt ..</a></p>\n<h3>Zeitplan:</h3>\n<p>10:30 Uhr: Start 400 m Bam
 binilauf<br>\n10:45 Uhr: Start 1600 m Schülerlauf<br>\n11:00 Uhr: Sieg
 erehrung Bambinilauf\, Schülerlauf<br>\n11:30 Uhr: Start 5 km Hobbylau
 f<br>\n12:15 Uhr: Siegerehrung Hobbylauf<br>\n13:00 Uhr: Start 10 km H
 auptlauf<br>\n14:30 Uhr: Siegerehrung Hauptlauf und Teamcup</p>\n<p><s
 pan style=text-decoration: underline\;><strong>Gutmann Team Cup:</stro
 ng></span><br>\n<br>\nAuch dieses Jahr gibt es wieder den Gutmann Team
  Cup.  Beim 10-km-Hauptlauf werden alle Teams gewertet\, die mit gleic
 hem Vereins- oder Gruppennamen (bitte bei der Online-Anmeldung unbedin
 gt auf gleiche Bezeichnung achten!) eingetragen sind. Gewertet werden 
 alle Teams mit den Zeiten der fünf bestplatzierten Finisher. Die Wertu
 ng erfolgt immer als Mixed-Wertung\, d.h. es erfolgt keine getrennte F
 rauen- und Männerwertung.</p>\n<p><strong><span style=text-decoration:
  underline\;>Ausschreibung\, Veranstalter\, Anmeldung:</span></strong>
 <br>\n<br>\nAusschreibung: <a href=https://team-klinikum-nuernberg.de/
 silvesterlauf/ausschreibung target=_blank rel=noopener>direkt beim Ver
 anstalter</a></p>\n<p>Online Anmeldung (ab 01.10.): <a href=https://ap
 i.maxx-timing.de/showevents/183 target=_blank rel=noopener>über Partne
 r MAXX Timing</a></p>\n<p>Weitere\, aktuelle Info&#8217\;s und Anmeldu
 ng beim Veranstalter:</p>\n<p><a href=https://www.team-klinikum-nuernb
 erg.de/silvesterlauf target=_blank rel=noopener>Team Klinikum Nürnberg
  e. V.</a></p>\n
URL:https://www.runningsocks.de/wordpress/terminkalender/eventsinglepa
 ge/?event_id=475&lang=de
ATTACH:https://www.runningsocks.de/wordpress/terminkalender/eventsingl
 epage/?event_id=475&lang=de
LOCATION:Tante Noris am See\, Tante Noris am See\, Nürnberg
END:VEVENT
END:VCALENDAR
