BEGIN:VCALENDAR
VERSION:2.0
METHOD:PUBLISH
PRODID:-//hacksw/handcal//NONSGML v1.0//EN
BEGIN:VEVENT
DTSTAMP:20260419T165512Z
DTSTART:20250504T080000Z
DTEND:20250504T150000Z
UID:20250504T080000Z-20250504T150000Z-476@www.runningsocks.de
SUMMARY:11. Weltkulturerbelauf Bamberg
DESCRIPTION:Die Spannung steigt\, der Ruhepuls auch\, freudige Erwartu
 ng macht sich breit. Lange\, bevor die Teilnehmerinnen und Teilnehmer 
 des Weltkulturerbelaufs 2025 an den Start gehen\, breitet sich in Bamb
 erg wieder das Lauffieber aus. Wer sich von diesem sympathischen und g
 esundheitlich unbedenklichen Zustand anstecken lassen möchte\, sollte 
 sich den 04.05.2025 dick im Kalender anstreichen. Zum 11. Mal veransta
 ltet der gemeinnützige Weltkulturerbelauf Bamberg e.V. mit Unterstützu
 ng von rund 1300 Helfern dieses sportliche und gesellschaftliche Große
 reignis.\nWettbewerbe\, Köhenmeter\, Startzeiten\n\n\n\n\nLauf\n\nDist
 anz\nHöhenmeter\nStartzeit\n\n\nErtl-Bambinilauf Kindergartenkinder zw
 ischen 5 und 6 Jahren)\n800 m\n flach\n11:30 Uhr\n\n\nFuchs-Schülerlau
 f Grundschüler der 1. und 2. Klasse\n1\,6 km\n flach\n12:00 Uhr\n\n\nB
 osch-Schülerlauf Grundschüler der 3. und 4. Kla\n1\,6 km\n flach\n12:3
 0 Uhr\n\n\nBaMbit-Schülerlauf\n4\,1 km\n ca.30\n13:00 Uhr\n\n\nPflaum 
 Logistik-Lauf\n4\,4 km\n ca. 35\n14:00 Uhr\n\n\nWieland-Lauf\n10\,9 km
 \n ca. 75\n14:30 Uhr\n\n\nSparkassen-Lauf\n21\,1 km\n ca. 280\n15:30 U
 hr\n\n\n \n\n\n\n\n\n\nStreckenbeschaffenheit\nDie Laufstrecken führen
  teilweise über Asphalt-\, Pflaster-\, Schotter-\, Sand- und Waldwege.
  Bedingt durch die engen Gassen der Altstadt müssen einige rechtwinkli
 ge Abbiegungen gelaufen werden. Besonders beim Sparkassen-Lauf sind an
 spruchsvolle Steigungen und Gefälle zu bewältigen.\nStart/Ziel\nDer St
 art erfolgt am Markusplatz\, Ziel ist der Maximiliansplatz\n\nAusnahme
 : Böhnlein-Bambinilauf. Hier ist der Start an der Ecke Franz-Ludwig-St
 raße/Grüner Markt\, das Ziel ist der Maximiliansplatz.\nStartgeld und 
 Anmeldefristen\n\n\n\nLauf\nZeitraum\, Anmeldung ab:\nStartgeld\n\n\nE
 rtl-Bambinilauf\n11.11.2024- 01.03.2025\n8\,00 €\n\n\nFuchs-Schülerlau
 f \n11.11.2024- 01.03.2025\n12\,00 €\n\n\nBosch-Schülerlauf\n11.11.202
 4- 01.03.2025\n12\,00 €\n\n\nBaMbit-Schülerlauf\n11.11.2024- 01.03.202
 5\n12\,00  €\n\n\nPflaum Logistik-Lauf\n09.10.2024- 01.03.2025\n27\,00
  €\n\n\nWieland-Lauf\n08.10.2024- 01.03.2025\n37\,00  €\n\n\nSparkasse
 n-Lauf\n07.10.2024- 01.03.2025\n47\,00 €\n\n\n\nMeldeschluß: 01.03.202
 5. Bei Erreichen des Teilnehmerlimits werden keine Anmeldungen mehr zu
 gelassen\n\nWeitere Info's und Onlineanmeldung auf der Seite des Veran
 stalters: Bamberger Weltkulturerbe Lauf
X-ALT-DESC;FMTTYPE=text/html:<p>Die Spannung steigt\, der Ruhepuls auc
 h\, freudige Erwartung macht sich breit. Lange\, bevor die Teilnehmeri
 nnen und Teilnehmer des Weltkulturerbelaufs 2025 an den Start gehen\, 
 breitet sich in Bamberg wieder das Lauffieber aus. Wer sich von diesem
  sympathischen und gesundheitlich unbedenklichen Zustand anstecken las
 sen möchte\, sollte sich den 04.05.2025 dick im Kalender anstreichen. 
 Zum 11. Mal veranstaltet der gemeinnützige &#8222\;Weltkulturerbelauf 
 Bamberg e.V.&#8220\; mit Unterstützung von rund 1300 Helfern dieses sp
 ortliche und gesellschaftliche Großereignis.</p>\n<h3><strong>Wettbewe
 rbe\, Köhenmeter\, Startzeiten<br>\n</strong></h3>\n<table style=width
 : 78.5927%\; height: 216px\; border=0 cellspacing=1 cellpadding=1>\n<t
 body>\n<tr><td style=width: 52.7759%\;><strong>Lauf<br>\n</strong></td
 >\n<td style=width: 14.0565%\; text-align: center\;>Distanz</td>\n<td 
 style=width: 15.0131%\; text-align: center\;>Höhenmeter</td>\n<td styl
 e=width: 51.2267%\; text-align: center\;>Startzeit</td></tr>\n<tr styl
 e=height: 48px\;><td style=width: 52.7759%\; height: 48px\;><a href=ht
 tp://www.weltkulturerbelauf.de/article.php?id=132>Ertl-Bambinilauf</a>
  Kindergartenkinder zwischen 5 und 6 Jahren)</td>\n<td style=width: 14
 .0565%\; height: 48px\; text-align: center\;>800 m</td>\n<td style=wid
 th: 15.0131%\; height: 48px\; text-align: center\;> flach</td>\n<td st
 yle=width: 51.2267%\; text-align: center\;>11:30 Uhr</td></tr>\n<tr st
 yle=height: 24px\;><td style=width: 52.7759%\; height: 24px\;><a href=
 https://www.weltkulturerbelauf.de/laeufe/fuchs-schuelerlauf/>Fuchs-Sch
 ülerlauf </a>Grundschüler der 1. und 2. Klasse</td>\n<td style=width: 
 14.0565%\; height: 24px\; text-align: center\;>1\,6 km</td>\n<td style
 =width: 15.0131%\; height: 24px\; text-align: center\;> flach</td>\n<t
 d style=width: 51.2267%\; text-align: center\;>12:00 Uhr</td></tr>\n<t
 r style=height: 24px\;><td style=width: 52.7759%\; height: 24px\;><a h
 ref=https://www.weltkulturerbelauf.de/laeufe/bosch-schuelerlauf/>Bosch
 -Schülerlauf </a>Grundschüler der 3. und 4. Kla</td>\n<td style=width:
  14.0565%\; height: 24px\; text-align: center\;>1\,6 km</td>\n<td styl
 e=width: 15.0131%\; height: 24px\; text-align: center\;> flach</td>\n<
 td style=width: 51.2267%\; text-align: center\;>12:30 Uhr</td></tr>\n<
 tr style=height: 24px\;><td style=width: 52.7759%\; height: 24px\;><a 
 href=https://www.weltkulturerbelauf.de/laeufe/bambit-schuelerlauf/>BaM
 bit-Schülerlauf</a></td>\n<td style=width: 14.0565%\; height: 24px\; t
 ext-align: center\;>4\,1 km</td>\n<td style=width: 15.0131%\; height: 
 24px\; text-align: center\;> ca.30</td>\n<td style=width: 51.2267%\; t
 ext-align: center\;>13:00 Uhr</td></tr>\n<tr style=height: 24px\;><td 
 style=width: 52.7759%\; height: 24px\;><a href=https://www.weltkulture
 rbelauf.de/laeufe/pflaum-logistik-lauf/>Pflaum Logistik-Lauf</a></td>\
 n<td style=width: 14.0565%\; height: 24px\; text-align: center\;>4\,4 
 km</td>\n<td style=width: 15.0131%\; height: 24px\; text-align: center
 \;> ca. 35</td>\n<td style=width: 51.2267%\; text-align: center\;>14:0
 0 Uhr</td></tr>\n<tr style=height: 24px\;><td style=width: 52.7759%\; 
 height: 24px\;><a href=https://www.weltkulturerbelauf.de/laeufe/wielan
 d-lauf/>Wieland-Lauf</a></td>\n<td style=width: 14.0565%\; height: 24p
 x\; text-align: center\;>10\,9 km</td>\n<td style=width: 15.0131%\; he
 ight: 24px\; text-align: center\;> ca. 75</td>\n<td style=width: 51.22
 67%\; text-align: center\;>14:30 Uhr</td></tr>\n<tr style=height: 24px
 \;><td style=width: 52.7759%\; height: 24px\;><a href=https://www.welt
 kulturerbelauf.de/laeufe/sparkassen-lauf/>Sparkassen-Lauf</a></td>\n<t
 d style=width: 14.0565%\; height: 24px\; text-align: center\;>21\,1 km
 </td>\n<td style=width: 15.0131%\; height: 24px\; text-align: center\;
 > ca. 280</td>\n<td style=width: 51.2267%\; text-align: center\;>15:30
  Uhr</td></tr>\n<tr style=height: 24px\;><td style=width: 52.7759%\; h
 eight: 24px\;><strong> </strong></td>\n<td style=width: 14.0565%\; hei
 ght: 24px\; text-align: center\;></td>\n<td style=width: 15.0131%\; he
 ight: 24px\; text-align: center\;></td>\n<td style=width: 51.2267%\; t
 ext-align: center\;></td></tr>\n</tbody>\n</table>\n<h3>Streckenbescha
 ffenheit</h3>\n<p>Die Laufstrecken führen teilweise über Asphalt-\, Pf
 laster-\, Schotter-\, Sand- und Waldwege. Bedingt durch die engen Gass
 en der Altstadt müssen einige rechtwinklige Abbiegungen gelaufen werde
 n. Besonders beim <a href=http://www.weltkulturerbelauf.de/article.php
 ?id=181>Sparkassen-Lauf </a>sind anspruchsvolle Steigungen und Gefälle
  zu bewältigen.</p>\n<h3>Start/Ziel</h3>\n<p>Der Start erfolgt am Mark
 usplatz\, Ziel ist der Maximiliansplatz</p>\n<p>Ausnahme: <a href=http
 ://www.weltkulturerbelauf.de/article.php?id=132>Böhnlein-Bambinilauf</
 a>. Hier ist der Start an der Ecke Franz-Ludwig-Straße/Grüner Markt\, 
 das Ziel ist der Maximiliansplatz.</p>\n<h3>Startgeld und Anmeldefrist
 en</h3>\n<table style=width: 65.4807%\; border=0 cellspacing=1 cellpad
 ding=1>\n<tbody>\n<tr><td style=width: 32.5037%\; text-align: center\;
 >Lauf</td>\n<td style=width: 28.4041%\; text-align: center\;>Zeitraum\
 , Anmeldung ab:</td>\n<td style=width: 16.1054%\; text-align: center\;
 >Startgeld</td></tr>\n<tr><td style=width: 32.5037%\;><a href=http://w
 ww.weltkulturerbelauf.de/article.php?id=132>Ertl-Bambinilauf</a></td>\
 n<td style=width: 28.4041%\; text-align: center\;>11.11.2024- 01.03.20
 25</td>\n<td style=width: 16.1054%\; text-align: center\;>8\,00 €</td>
 </tr>\n<tr><td style=width: 32.5037%\;><a href=https://www.weltkulture
 rbelauf.de/laeufe/fuchs-schuelerlauf/>Fuchs-Schülerlauf </a></td>\n<td
  style=width: 28.4041%\; text-align: center\;>11.11.2024- 01.03.2025</
 td>\n<td style=width: 16.1054%\; text-align: center\;>12\,00 €</td></t
 r>\n<tr><td style=width: 32.5037%\;><a href=https://www.weltkulturerbe
 lauf.de/laeufe/bosch-schuelerlauf/>Bosch-Schülerlauf</a></td>\n<td sty
 le=width: 28.4041%\; text-align: center\;>11.11.2024- 01.03.2025</td>\
 n<td style=width: 16.1054%\; text-align: center\;>12\,00 €</td></tr>\n
 <tr><td style=width: 32.5037%\;><a href=https://www.weltkulturerbelauf
 .de/laeufe/bambit-schuelerlauf/>BaMbit-Schülerlauf</a></td>\n<td style
 =width: 28.4041%\; text-align: center\;>11.11.2024- 01.03.2025</td>\n<
 td style=width: 16.1054%\; text-align: center\;>12\,00  €</td></tr>\n<
 tr><td style=width: 32.5037%\;><a href=https://www.weltkulturerbelauf.
 de/laeufe/pflaum-logistik-lauf/>Pflaum Logistik-Lauf</a></td>\n<td sty
 le=width: 28.4041%\; text-align: center\;>09.10.2024- 01.03.2025</td>\
 n<td style=width: 16.1054%\; text-align: center\;>27\,00 €</td></tr>\n
 <tr><td style=width: 32.5037%\;><a href=https://www.weltkulturerbelauf
 .de/laeufe/wieland-lauf/>Wieland-Lauf</a></td>\n<td style=width: 28.40
 41%\; text-align: center\;>08.10.2024- 01.03.2025</td>\n<td style=widt
 h: 16.1054%\; text-align: center\;>37\,00  €</td></tr>\n<tr><td style=
 width: 32.5037%\;><a href=https://www.weltkulturerbelauf.de/laeufe/spa
 rkassen-lauf/>Sparkassen-Lauf</a></td>\n<td style=width: 28.4041%\; te
 xt-align: center\;>07.10.2024- 01.03.2025</td>\n<td style=width: 16.10
 54%\; text-align: center\;>47\,00 €</td></tr>\n</tbody>\n</table>\n<p>
 Meldeschluß: 01.03.2025. Bei Erreichen des Teilnehmerlimits werden kei
 ne Anmeldungen mehr zugelassen</p>\n<p>Weitere Info&#8217\;s und Onlin
 eanmeldung auf der Seite des Veranstalters: <a href=http://www.weltkul
 turerbelauf.de/ target=_blank rel=noopener>Bamberger Weltkulturerbe La
 uf</a></p>\n
URL:https://www.runningsocks.de/wordpress/terminkalender/eventsinglepa
 ge/?event_id=476&lang=de
ATTACH:https://www.runningsocks.de/wordpress/terminkalender/eventsingl
 epage/?event_id=476&lang=de
LOCATION:Bamberg\, Markusplatz\, Markusplatz\, Bamberg
END:VEVENT
END:VCALENDAR
