BEGIN:VCALENDAR
VERSION:2.0
METHOD:PUBLISH
PRODID:-//hacksw/handcal//NONSGML v1.0//EN
BEGIN:VEVENT
DTSTAMP:20260419T165140Z
DTSTART:20110911T080000Z
DTEND:20110911T120000Z
UID:20110911T080000Z-20110911T120000Z-48@www.runningsocks.de
SUMMARY:21. Hersbrucker Kurzduathlon
DESCRIPTION:Die Triathlonabteilung der Sektion Hersbruck wird in diese
 m Jahr zum 21. mal den beliebten Ausdauerzweikampf für den Bayerischen
  Triathlonverband ausrichten.\nDurch großes persönliches Engagement de
 r Mitglieder\, ihrer Angehörigen und vieler Helfer wird seit zwei Jahr
 zehnten ein professioneller und doch familiärer Wettkampf angeboten. H
 ier kommen Cracks und Anfänger gleichermaßen auf Ihre Kosten. Auch von
  Verbandsseite wurde dies durch die mehrfache Vergabe der Ausrichtung 
 mittelfränkischer und bayerischer Meisterschaften honoriert.\nDie Vera
 nstaltung hat im Grafenbucher Forst ihre „Heimat im Grünen“ gefunden. 
 Hier ist man aus allen Richtungen gut zu erreichen und das ausgedehnte
  Waldgebiet lädt mit malerischen Lauf- und Radstrecken ein. Seit verga
 ngenem Jahr ist das Forsthaus der Stützpunkt und bietet neben Wetterun
 abhängigkeit auch Übernachtungsmöglichkeiten.\nNeben der bewährt guten
  Zusammenarbeit mit heimischen Unterstützern\, wie Sparkasse Nürnberg\
 , Frankenalbtherme Hersbruck und Radsport Müller und Wagner konnten al
 s weiterer Sponsor die Fa. Marmot gewonnen werden. Dieser regionale An
 bieter von Bergsportbekleidung ermöglicht zum Jubiläum den Teilnehmern
  ein hochwertiges Starterpräsent anzubieten.\n\nStrecken:\n\nKurzduath
 lon 10 - 40 - 5 km\nVolksduathlon 5 - 25 - 5 km\nJugendduathlon 5 - 25
  - 5 km\nSchülerduathlon 1 - 6 - 0\,5 km\n\nFlyer zum Download:\n\n[wp
 filebase tag=file id=496] \n\n \n\nWeiter Info's und Onlineanmeldung b
 eim Veranstalter: DAV Hersbruck
X-ALT-DESC;FMTTYPE=text/html:<p style=text-align: center\;><span style
 =font-family: Verdana\,Arial\,Helvetica\,sans-serif\;>Die Triathlonabt
 eilung der Sektion Hersbruck wird in diesem Jahr zum 21. mal den belie
 bten Ausdauerzweikampf für den Bayerischen Triathlonverband ausrichten
 .<br>\nDurch großes persönliches Engagement der Mitglieder\, ihrer Ang
 ehörigen und vieler Helfer wird seit zwei Jahrzehnten ein professionel
 ler und doch familiärer Wettkampf angeboten. Hier kommen Cracks und An
 fänger gleichermaßen auf Ihre Kosten. Auch von Verbandsseite wurde die
 s durch die mehrfache Vergabe der Ausrichtung mittelfränkischer und ba
 yerischer Meisterschaften honoriert.<br>\nDie Veranstaltung hat im Gra
 fenbucher Forst ihre „Heimat im Grünen“ gefunden. Hier ist man aus all
 en Richtungen gut zu erreichen und das ausgedehnte Waldgebiet lädt mit
  malerischen Lauf- und Radstrecken ein. Seit vergangenem Jahr ist das 
 Forsthaus der Stützpunkt und bietet neben Wetterunabhängigkeit auch Üb
 ernachtungsmöglichkeiten.<br>\nNeben der bewährt guten Zusammenarbeit 
 mit heimischen Unterstützern\, wie Sparkasse Nürnberg\, Frankenalbther
 me Hersbruck und Radsport Müller und Wagner konnten als weiterer Spons
 or die Fa. Marmot gewonnen werden. Dieser regionale Anbieter von Bergs
 portbekleidung ermöglicht zum Jubiläum den Teilnehmern ein hochwertige
 s Starterpräsent anzubieten.<br>\n</span></p>\n<p><span style=font-fam
 ily: Verdana\,Arial\,Helvetica\,sans-serif\;>Strecken:</span></p>\n<p>
 <span style=font-family: Verdana\,Arial\,Helvetica\,sans-serif\;>Kurzd
 uathlon 10 &#8211\; 40 &#8211\; 5 km<br>\nVolksduathlon 5 &#8211\; 25 
 &#8211\; 5 km<br>\nJugendduathlon 5 &#8211\; 25 &#8211\; 5 km<br>\nSch
 ülerduathlon 1 &#8211\; 6 &#8211\; 0\,5 km</span></p>\n<p><span style=
 font-family: Verdana\,Arial\,Helvetica\,sans-serif\;>Flyer zum Downloa
 d:</span></p>\n<p><span style=font-family: Verdana\,Arial\,Helvetica\,
 sans-serif\;>[wpfilebase tag=file id=496] </span><br>\n<br>\n&nbsp\;</
 p>\n<p><span style=font-family: Verdana\,Arial\,Helvetica\,sans-serif\
 ;>Weiter Info&#8217\;s und Onlineanmeldung beim Veranstalter: <a href=
 http://www.dav-hersbruck.de/sites/duathlon/2011/m_du_21_hin.HTM target
 =_blank>DAV Hersbruck</a><br>\n<a title=Email an Gunther Klos href=mai
 lto:gunther.klos@freenet.de><br>\n</a></span></p>\n
URL:https://www.runningsocks.de/wordpress/terminkalender/eventsinglepa
 ge/?event_id=48&lang=de
ATTACH:https://www.runningsocks.de/wordpress/terminkalender/eventsingl
 epage/?event_id=48&lang=de
LOCATION:Forsthaus Grafenbuch\, Forsthaus Grafenbuch\, Grafenbuch
END:VEVENT
END:VCALENDAR
