BEGIN:VCALENDAR
VERSION:2.0
METHOD:PUBLISH
PRODID:-//hacksw/handcal//NONSGML v1.0//EN
BEGIN:VEVENT
DTSTAMP:20260419T165316Z
DTSTART:20100829T080000Z
DTEND:20100829T130000Z
UID:20100829T080000Z-20100829T130000Z-49@www.runningsocks.de
SUMMARY:24. Neustädter Volkstriathlon
DESCRIPTION:Zeitplan:\n08:00 bis 09:00 Uhr\nNachmeldungen und  Startnu
 mmernausgabe\n\n\n\n\n09:15 Uhr\nWettkampfbesprechung (Teilnahmepflich
 t)\n\n\n\n\n10:00 Uhr\n1. Start zu Gruppen von 25 Teilnehmern.  Weiter
 e Starts im Abstand von je 15 Minuten\n\n\n\n\nca. 14:30 Uhr\nSiegereh
 rung (Terrasse am Schwimmerbecken)\n\n\n\nDistanzen:\nSchwimmen\n400 m
  (8 Bahnen)\n\n\n\n\nRadfahren\n20 000 m (NEA-Neuschauerberg–NEA)\n\n\
 n\n\nLaufen\n5 000 m (Stadtpark\, südlich Freibad)\n\n\n\nTeilnahme:\n
 Startberechtigt sind Personen ab 16 Jahre  (Jhg. 1994)\n\n\n\nStartgel
 d:\n22\,00 € über Lastschrifteinzug bei  online-Anmeldung sonst siehe 
 Bankverbindung\n\n\nAnmeldung:\nhier geht's zum Meldeformular\n\n\nMel
 deschluss:\n25. August 2010\n\n\nNachmeldungen:\n25\,00 € bei Nachmeld
 ung bzw. Zahlung nach  Meldeschluss\n\n\n\n\n\n\n\n\n\n\n\n\n\n\n\n\n\
 n\n\n\n\n\n\n\n\n\n\n\n\n\nWeitere Info's und Onlineanmeldung beim Ver
 anstalter: DLRG OV Neustadt a.d. Aisch
X-ALT-DESC;FMTTYPE=text/html:<table style=width: 700px\; height: 385px
 \; border=0 cellspacing=5 cellpadding=5 align=left>\n<tbody>\n<tr><td 
 valign=top><p><span style=font-size: small\;>Zeitplan:</span></p></td>
 \n<td><p><span style=font-size: small\;>08:00 bis 09:00 Uhr</span></p>
 </td>\n<td colspan=2 valign=top><p><span style=font-size: small\;>Nach
 meldungen und  Startnummernausgabe</span></p></td>\n<td><p><span style
 =font-size: small\;></span></p></td></tr>\n<tr><td valign=top><p><span
  style=font-size: small\;></span></p></td>\n<td><p><span style=font-si
 ze: small\;>09:15 Uhr</span></p></td>\n<td colspan=2><p><span style=fo
 nt-size: small\;>Wettkampfbesprechung (Teilnahmepflicht)</span></p></t
 d>\n<td><p><span style=font-size: small\;></span></p></td></tr>\n<tr><
 td valign=top><p><span style=font-size: small\;></span></p></td>\n<td 
 valign=top><p><span style=font-size: small\;>10:00 Uhr</span></p></td>
 \n<td colspan=2><p><span style=font-size: small\;>1. Start zu Gruppen 
 von 25 Teilnehmern.  Weitere Starts im Abstand von je 15 Minuten</span
 ></p></td>\n<td><p><span style=font-size: small\;></span></p></td></tr
 >\n<tr><td valign=top><p><span style=font-size: small\;></span></p></t
 d>\n<td><p><span style=font-size: small\;>ca. 14:30 Uhr</span></p></td
 >\n<td colspan=2><p><span style=font-size: small\;>Siegerehrung (Terra
 sse am Schwimmerbecken)</span></p></td>\n<td><p><span style=font-size:
  small\;></span></p></td></tr>\n<tr><td valign=top><p><span style=font
 -size: small\;>Distanzen:</span></p></td>\n<td><p><span style=font-siz
 e: small\;>Schwimmen</span></p></td>\n<td colspan=2><p><span style=fon
 t-size: small\;>400 m (8 Bahnen)</span></p></td>\n<td><p><span style=f
 ont-size: small\;></span></p></td></tr>\n<tr><td valign=top><p><span s
 tyle=font-size: small\;></span></p></td>\n<td><p><span style=font-size
 : small\;>Radfahren</span></p></td>\n<td colspan=2><p><span style=font
 -size: small\;>20 000 m (NEA-Neuschauerberg–NEA)</span></p></td>\n<td>
 <p><span style=font-size: small\;></span></p></td></tr>\n<tr><td valig
 n=top><p><span style=font-size: small\;></span></p></td>\n<td><p><span
  style=font-size: small\;>Laufen</span></p></td>\n<td colspan=2><p><sp
 an style=font-size: small\;>5 000 m (Stadtpark\, südlich Freibad)</spa
 n></p></td>\n<td><p><span style=font-size: small\;></span></p></td></t
 r>\n<tr><td valign=top><p><span style=font-size: small\;>Teilnahme:</s
 pan></p></td>\n<td colspan=3><p><span style=font-size: small\;>Startbe
 rechtigt sind Personen ab 16 Jahre  (Jhg. 1994)</span></p></td>\n<td><
 p><span style=font-size: small\;></span></p></td></tr>\n<tr><td valign
 =top><p><span style=font-size: small\;>Startgeld:</span></p></td>\n<td
  colspan=4><p><span style=font-size: small\;>22\,00 € über Lastschrift
 einzug bei  online-Anmeldung sonst siehe Bankverbindung</span></p></td
 ></tr>\n<tr><td valign=top><p><span style=font-size: small\;>Anmeldung
 :</span></p></td>\n<td colspan=4><p><span style=font-size: small\;>hie
 r geht&#8217\;s zum <a href=http://www.dlrg-nea.de/neustaedter-volkstr
 iathlon>Meldeformular</a></span></p></td></tr>\n<tr><td valign=top><p>
 <span style=font-size: small\;>Meldeschluss:</span></p></td>\n<td cols
 pan=4><p><span style=font-size: small\;>25. August 2010</span></p></td
 ></tr>\n<tr><td valign=top><p><span style=font-size: small\;>Nachmeldu
 ngen:</span></p></td>\n<td colspan=4><p><span style=font-size: small\;
 >25\,00 € bei Nachmeldung bzw. Zahlung nach  Meldeschluss</span></p></
 td></tr>\n</tbody>\n</table>\n<p><br class=spacer_ /></p>\n<p><br clas
 s=spacer_ /></p>\n<p><br class=spacer_ /></p>\n<p><br class=spacer_ />
 </p>\n<p><br class=spacer_ /></p>\n<p><br class=spacer_ /></p>\n<p><br
  class=spacer_ /></p>\n<p><br class=spacer_ /></p>\n<p><br class=space
 r_ /></p>\n<p><br class=spacer_ /></p>\n<p><br class=spacer_ /></p>\n<
 p><br class=spacer_ /></p>\n<p><br class=spacer_ /></p>\n<p>Weitere In
 fo&#8217\;s und Onlineanmeldung beim Veranstalter: <a href=http://www.
 dlrg-nea.de/ target=_blank>DLRG OV Neustadt a.d. Aisch</a></p>\n
URL:https://www.runningsocks.de/wordpress/terminkalender/eventsinglepa
 ge/?event_id=49&lang=de
ATTACH:https://www.runningsocks.de/wordpress/terminkalender/eventsingl
 epage/?event_id=49&lang=de
LOCATION:Neustädter Waldbad\, Eilersweg 5\, Neustadt a. d. Aisch
END:VEVENT
END:VCALENDAR
