BEGIN:VCALENDAR
VERSION:2.0
METHOD:PUBLISH
PRODID:-//hacksw/handcal//NONSGML v1.0//EN
BEGIN:VEVENT
DTSTAMP:20260419T165234Z
DTSTART:20110619T040000Z
DTEND:20110619T160000Z
UID:20110619T040000Z-20110619T160000Z-52@www.runningsocks.de
SUMMARY:13. Lupburg Radmarathon
DESCRIPTION:Das war der Jura-Radmarathon 2010\nWieder einmal ist ein w
 underschöner  und historischer Tag in Lupburg zu Ende gegangen. Wir wü
 rden uns freuen Sie auch  nächstes Jahr zum 13. Jura-Radmarathon 2011 
 in Lupburg begrüßen zu  dürfen. \n\nAktueller Flyer zum 13. Lupburg Ra
 dmarathon:\n\n[wpfilebase tag=file id=436]\nWeitere Info's und Onlinea
 nmeldung beim Veranstalter: Sportverein 1959 Lupburg e.V
X-ALT-DESC;FMTTYPE=text/html:<h3>Das war der Jura-Radmarathon 2010</h3
 >\n<p><span style=font-size: x-small\;>Wieder einmal ist ein wundersch
 öner  und historischer Tag in Lupburg zu Ende gegangen. </span><span s
 tyle=font-size: x-small\;>Wir würden uns freuen Sie auch  nächstes Jah
 r zum 13. Jura-Radmarathon 2011 in Lupburg begrüßen zu  dürfen. </span
 ><br>\n<br>\nAktueller Flyer zum 13. Lupburg Radmarathon:</p>\n<p>[wpf
 ilebase tag=file id=436]</p>\n<p style=text-align: justify\;>Weitere I
 nfo&#8217\;s und Onlineanmeldung beim Veranstalter: <a href=http://www
 .jura-radmarathon.de target=_blank>Sportverein 1959 Lupburg e.V</a></p
 >\n
URL:https://www.runningsocks.de/wordpress/terminkalender/eventsinglepa
 ge/?event_id=52&lang=de
ATTACH:https://www.runningsocks.de/wordpress/terminkalender/eventsingl
 epage/?event_id=52&lang=de
LOCATION:Schul- und Sportgelände\, Reiselbergweg 3\, Lupburg
END:VEVENT
END:VCALENDAR
