BEGIN:VCALENDAR
VERSION:2.0
METHOD:PUBLISH
PRODID:-//hacksw/handcal//NONSGML v1.0//EN
BEGIN:VEVENT
DTSTAMP:20260419T165312Z
DTSTART:20100717T070000Z
DTEND:20100717T160000Z
UID:20100717T070000Z-20100717T160000Z-53@www.runningsocks.de
SUMMARY:Wackenteam auf dem 5-Seidla Steig
DESCRIPTION:Der Fünf-Seidla-Steig ist der Brauereiwanderweg in  der  s
 üdlichen Fränkischen Schweiz.\n\nWackenteam auf dem 5-Seidla Steig
X-ALT-DESC;FMTTYPE=text/html:<p>Der Fünf-Seidla-Steig ist <strong>der<
 /strong> Brauereiwanderweg in  der  <strong>südlichen Fränkischen Schw
 eiz</strong>.</p>\n<p>Wackenteam auf dem <a href=https://www.runningso
 cks.de/wordpress/2010/04/08/auf-gehts-zum-funf-seidla-steig target=_bl
 ank>5-Seidla Steig</a></p>\n
URL:https://www.runningsocks.de/wordpress/terminkalender/eventsinglepa
 ge/?event_id=53&lang=de
ATTACH:https://www.runningsocks.de/wordpress/terminkalender/eventsingl
 epage/?event_id=53&lang=de
LOCATION:5-Seidla Steig Startpunkt Klosterbrauerei\, Klosterstraße 20\
 , Weißenohe
END:VEVENT
END:VCALENDAR
