BEGIN:VCALENDAR
VERSION:2.0
METHOD:PUBLISH
PRODID:-//hacksw/handcal//NONSGML v1.0//EN
BEGIN:VEVENT
DTSTAMP:20260419T165352Z
DTSTART:20101003T080000Z
DTEND:20101003T130000Z
UID:20101003T080000Z-20101003T130000Z-54@www.runningsocks.de
SUMMARY:15. Nürnberger Stadtlauf
DESCRIPTION:Veranstaltungstag: Sonntag\,  03. Oktober 2010\n\n\nStreck
 enlängen:\n600  m Bambinilauf (bis inkl.7 Jahre)\n 1\,7 km DAK-Kinderl
 auf (bis inkl. 12 Jahre)\n 6 km Jogging / Walking / Nordic Walking\n 1
 0 km Familien-Jogging\n 21\,1 km Halbmarathon\n 10 km Firmenlauf/Teamw
 ertung\n\n\nStartzeiten:\n6 km Jogging/Walking/Nordic Walking\n 10 km 
 Familien-Jogging\n 600 m Bamibinilauf\n 21\,1 km Halbmarathon\n 1\,7 k
 m DAK-Kinderlauf\n10.00 Uhr\n 11.30 Uhr\n 11.40 Uhr\n 13.30 Uhr\n 13.4
 0 Uhr\n\n\n\nVorläufige Startzeiten.\n Eventuelle Änderungen entnehmen
  Sie bitte www.sportscheck.com/event oder der Presse.\n\n\n\n\n\nStart
 geld:\n\n\n\n\n6\, 10 und 21 km\nbis\n 31.05.\n1.06.-\n 31.07.\n1.08.-
 \n 3.10.\n\n\nRegulär\n17\,00 €\n21\,00 €\n25\,00 €\n\n\nSportScheck C
 lub Card /\n DAK Mitglieder/ZAC-Kunden\n14\,00 €\n18\,00 €\n22\,00 €\n
 \n\nSportScheck Professional Card /\n BMW Card Inhaber\n0\,00 €\n0\,00
  €\n0\,00 €\n\n\nGruppen ab 6 Personen\n17\,00 €\n19\,00 €\n19\,00 €\n
 \n\nJugendl. bis einschl. 16 Jahre\n11\,00 €\n11\,00 €\n11\,00 €\n\n\n
 Kinder bis einschl. 12 J.\n0\,00 €\n0\,00 €\n0\,00 €\n\n\n(Jugendliche
  erst ab dem vollendeten  16. Lebensjahr\n zum Halbmarathon zugelassen
 )\n\n\n\n\n\n\nStart und Ziel:\nVor dem Opernhaus in Nürnberg\n\n\nStr
 eckenführung:\nRundkurs über die Wöhrder Wiese\, um  den Wöhrder See u
 nd durch die Nürnberger Altstadt auf  fast durchgehend  Asphaltwegen u
 nd Straßen. Die Strecke enthält keine nennenswerten  Steigungen und Ge
 fällstrecken.\n\n\nStrecke Kinderlauf:\nFrauentorgraben\, Luitpoldstra
 ße und  zurück zum Frauentorgraben.\n\n\nLeistungen:\nJeder Teilnehmer
  erhält ein adidas-Funktionslaufshirt.\n Darüber hinaus bieten wir Ihn
 en folgende Leistungen an:\n\n\n\n\n	Chipzeitmessung\n	kostenfreier St
 art für alle Kinder bis inkl.12 Jahre \n	DAK-Medaillen für Kinder der 
 Kinderläufe \n	Gruppenpreis ab 6 Personen \n	reichhaltige Zielverpfleg
 ung \n	Getränkestellen an der Strecke \n	10 km Firmenlauf/Teamwertung 
 \n	Online- Urkunden- Service mit persönlicher Laufzeit \n	medizinische
  Versorgung\n\n\nDirekt im Ziel versorgt Sie unser Partner Melinda mit
  Äpfeln aus der  italienischen Region Trentino.\n\n\nAnmeldung:\nPersö
 nlich: In Ihrer  SportScheck-Filiale Nürnberg mit dem offiziellen Anme
 ldeschein.\n Anmeldeschluss: Samstag\, 02.10.2010.\n Nachmeldung: Sonn
 tag\, 03.10.2010\, im Start- und Zielbereich bis  15min. vor dem Start
 \, sofern noch freie Startplätze vorhanden sind.\n Zahlung der Nachmel
 degebühr (3\,-€) ist nur in bar möglich.\n\n\n\nInternet:\n Stadtlauf 
 Nürnberg Anmeldeschluss: 02.10.2010\n\nGruppen: Sie können sich im Int
 ernet auf hier als Gruppe (ab 6 Personen)  anmelden  oder das Gruppena
 nmeldeformular in der Filiale abholen.\n LäuferInnen einer Gruppe könn
 en sich auch für unterschiedliche  Streckenlängen  anmelden. Einzelabh
 olung der Startunterlagen für Gruppen  ist leider nicht möglich!\n Anm
 eldeschluss: 23.09.2010\n\n\nTeilnahme-\n Berechtigung:\nDas aktuelle 
  adidas-Funktionsshirt ist die Berechtigung zum Start und zur Verpfleg
 ung  auf der Laufstrecke und im Ziel. Bei Nichtantritt besteht kein An
 spruch  auf dieses Laufshirt. Teilnahmeberechtigung für den Halbmarath
 on haben alle LäuferInnen\, die  ein Mindestalter von 16 Jahren erreic
 ht haben.\n Mit der Anmeldung erkennt der Teilnehmer die Teilnahmebedi
 ngungen inkl.  Haftungsausschluss an.\n Eine Teilnahme ohne ChampionCh
 ip ist nicht möglich.\n\n\nZeitmessung:\nDie Zeitmessung erfolgt über 
 den  ChampionChip von Mika timing. Sie erhalten Ihren Single Use Chip 
  gegen eine Gebühr (nur Barzahlung) von € 3\,00 bei Abholung der  Star
 tunterlagen. Teilnehmer die bereits über einen eigenen ChampionChip  v
 erfügen können selbstverständlich Ihren eigenen Chip nutzen.\n Auf den
  Kinderstrecken wird keine Zeitmessung durchgeführt.\n\n\nStartunterla
 gen-\n ausgabe:\nDie Ausgabe der Startunterlagen  (adidas-Funktionslau
 fshirt u.v.m.) erfolgt in der SportScheck- Filiale  Nürnberg vom 20.09
 . – 02.10.2010 zu den regulären Öffnungszeiten. Am  Veranstaltungstag 
 ist die Abholung ab 8:00 Uhr im Start- und Zielbereich  auf dem Opernp
 latz möglich.\n Eine Versendung der Startunterlagen ist  nicht möglich
 !\n\n\nFirmenlauf/\n Teamwertung:\nEin Team (Firma\, Verein\, Familie 
  etc.) besteht aus mind. 6 Teilnehmern. Es können auch mehr LäuferInne
 n  in einem Team starten\; jedoch werden nur die 6 schnellsten gewerte
 t.  Jeder Teilnehmer wird zusätzlich in der Einzelkategorie der 10 km 
  Distanz gewertet.\n Nutzen Sie die vergünstigten Preise der Gruppenan
 meldung!\n\n\nUrkunden:\nEine Urkunde  mit Ihrer persönlichen Laufzeit
  können Sie auf www.sportscheck.com/event innerhalb der Ergebnislisten
  herunterladen und ausdrucken.\n\n\nVeranstalter:\nTSV Katzwang\n Spor
 tScheck GmbH\n\n\nOrganisation:\nSportScheck GmbH TSV Katzwang km Spor
 t-Agentur (Katja Mayer)\n\n\nDanksagung:\nDie Veranstalter bedanken si
 ch für  die freundliche Unterstützung bei den Sponsoren\, den Helfern\
 , den  beteiligten Ämtern und Behörden der Stadt Nürnberg und der Poli
 zei.\n\n\nAnmeldung:\nBei Ihrer Anmeldung können Sie  unsere individue
 llen Vorteile nutzen. Bitte halten Sie Ihre Kundenkarte  bereit.\n\n\n
 SportScheck-\n Nürnberg\nLudwigsplatz 4-10\, 90403 Nürnberg\n Tel.: 09
 11/52 78 – 0\n Fax: 0911/24 19 485\n E-Mail: filiale_nuernberg@sportsc
 heck.com\n\n\n\n\n\n\n\n\nDie Strecken: Streckenplan
X-ALT-DESC;FMTTYPE=text/html:<table style=width: 420px\; border=0 cell
 spacing=0 cellpadding=0>\n<tbody>\n<tr valign=top><td colspan=3><stron
 g>Veranstaltungstag: Sonntag\,  03. Oktober 2010</strong></td></tr>\n<
 tr valign=top><td width=125>Streckenlängen:</td>\n<td colspan=2 width=
 295>600  m Bambinilauf (bis inkl.7 Jahre)<br>\n 1\,7 km DAK-Kinderlauf
  (bis inkl. 12 Jahre)<br>\n 6 km Jogging / Walking / Nordic Walking<br
 >\n 10 km Familien-Jogging<br>\n 21\,1 km Halbmarathon<br>\n <strong>1
 0 km Firmenlauf/Teamwertung</strong></td></tr>\n<tr valign=top><td wid
 th=125>Startzeiten:</td>\n<td width=200>6 km Jogging/Walking/Nordic Wa
 lking<br>\n 10 km Familien-Jogging<br>\n 600 m Bamibinilauf<br>\n 21\,
 1 km Halbmarathon<br>\n 1\,7 km DAK-Kinderlauf</td>\n<td width=95 alig
 n=right><strong>10.00 Uhr<br>\n 11.30 Uhr<br>\n 11.40 Uhr<br>\n 13.30 
 Uhr<br>\n 13.40 Uhr</strong></td></tr>\n<tr valign=top><td width=125><
 /td>\n<td colspan=2>Vorläufige Startzeiten.<br>\n Eventuelle Änderunge
 n entnehmen Sie bitte <a href=http://www.sportscheck.com/event target=
 _blank>www.sportscheck.com/event</a> oder der Presse.</td></tr>\n<tr><
 td></td></tr>\n<tr valign=top><td width=125>Startgeld:</td>\n<td colsp
 an=2 width=315><table style=width: 315px\; border=0 cellspacing=0 cell
 padding=0>\n<tbody>\n<tr><td><strong>6\, 10 und 21 km</strong></td>\n<
 td><strong>bis<br>\n 31.05.</strong></td>\n<td><strong>1.06.-<br>\n 31
 .07.</strong></td>\n<td><strong>1.08.-<br>\n 3.10.</strong></td></tr>\
 n<tr><td>Regulär</td>\n<td>17\,00 €</td>\n<td>21\,00 €</td>\n<td>25\,0
 0 €</td></tr>\n<tr><td>SportScheck Club Card /<br>\n DAK Mitglieder/ZA
 C-Kunden</td>\n<td>14\,00 €</td>\n<td>18\,00 €</td>\n<td>22\,00 €</td>
 </tr>\n<tr><td>SportScheck Professional Card /<br>\n BMW Card Inhaber<
 /td>\n<td>0\,00 €</td>\n<td>0\,00 €</td>\n<td>0\,00 €</td></tr>\n<tr><
 td>Gruppen ab 6 Personen</td>\n<td>17\,00 €</td>\n<td>19\,00 €</td>\n<
 td>19\,00 €</td></tr>\n<tr><td>Jugendl. bis einschl. 16 Jahre</td>\n<t
 d>11\,00 €</td>\n<td>11\,00 €</td>\n<td>11\,00 €</td></tr>\n<tr><td><s
 trong>Kinder bis einschl. 12 J.</strong></td>\n<td><strong>0\,00 €</st
 rong></td>\n<td><strong>0\,00 €</strong></td>\n<td><strong>0\,00 €</st
 rong></td></tr>\n<tr><td colspan=4>(Jugendliche erst ab dem vollendete
 n  16. Lebensjahr<br>\n zum Halbmarathon zugelassen)</td></tr>\n</tbod
 y>\n</table></td></tr>\n<tr valign=top><td>Start und Ziel:</td>\n<td c
 olspan=2>Vor dem Opernhaus in Nürnberg</td></tr>\n<tr valign=top><td>S
 treckenführung:</td>\n<td colspan=2>Rundkurs über die Wöhrder Wiese\, 
 um  den Wöhrder See und durch die Nürnberger Altstadt auf  fast durchg
 ehend  Asphaltwegen und Straßen. Die Strecke enthält keine nennenswert
 en  Steigungen und Gefällstrecken.</td></tr>\n<tr valign=top><td>Strec
 ke Kinderlauf:</td>\n<td colspan=2>Frauentorgraben\, Luitpoldstraße un
 d  zurück zum Frauentorgraben.</td></tr>\n<tr valign=top><td>Leistunge
 n:</td>\n<td colspan=2>Jeder Teilnehmer erhält ein <strong>adidas-Funk
 tionslaufshirt</strong>.<br>\n Darüber hinaus bieten wir Ihnen folgend
 e Leistungen an:</p>\n<p><br class=spacer_ /></p>\n<ul>\n<li><strong>C
 hipzeitmessung</strong></li>\n<li><strong>kostenfreier Start für alle 
 Kinder bis inkl.12 Jahre </strong></li>\n<li><strong>DAK-Medaillen für
  Kinder der Kinderläufe </strong></li>\n<li><strong>Gruppenpreis ab 6 
 Personen </strong></li>\n<li><strong>reichhaltige Zielverpflegung </st
 rong></li>\n<li><strong>Getränkestellen an der Strecke </strong></li>\
 n<li><strong>10 km Firmenlauf/Teamwertung </strong></li>\n<li><strong>
 Online- Urkunden- Service mit persönlicher Laufzeit </strong></li>\n<l
 i><strong>medizinische Versorgung</strong></li>\n</ul>\n<p>Direkt im Z
 iel versorgt Sie unser Partner Melinda mit Äpfeln aus der  italienisch
 en Region Trentino.</p></td></tr>\n<tr valign=top><td>Anmeldung:</td>\
 n<td colspan=2><strong>Persönlich:</strong> In Ihrer  SportScheck-Fili
 ale Nürnberg mit dem offiziellen Anmeldeschein.<br>\n Anmeldeschluss: 
 Samstag\, 02.10.2010.<br>\n <strong>Nachmeldung:</strong> Sonntag\, 03
 .10.2010\, im Start- und Zielbereich bis  15min. vor dem Start\, sofer
 n noch freie Startplätze vorhanden sind.<br>\n Zahlung der Nachmeldege
 bühr (3\,-€) ist nur in bar möglich.</p>\n<p><br class=spacer_ /></p>\
 n<p><strong>Internet:</strong><br>\n <a href=https://secure.mikatiming
 .de/sportscheck/2010/stadtlauf_nuernberg/ target=_blank>Stadtlauf Nürn
 berg</a> Anmeldeschluss: 02.10.2010</p>\n<p><strong>Gruppen:</strong> 
 Sie können sich im Internet auf <a href=https://secure.mikatiming.de/s
 portscheck/2010/stadtlauf_nuernberg/ target=_blank>hier als Gruppe</a>
  (<strong>ab 6 Personen</strong>)  anmelden  oder das Gruppenanmeldefo
 rmular in der Filiale abholen.<br>\n LäuferInnen einer Gruppe können s
 ich auch für unterschiedliche  Streckenlängen  anmelden. Einzelabholun
 g der Startunterlagen für Gruppen  ist leider nicht möglich!<br>\n Anm
 eldeschluss: 23.09.2010</p></td></tr>\n<tr valign=top><td>Teilnahme-<b
 r>\n Berechtigung:</td>\n<td colspan=2>Das aktuelle  adidas-Funktionss
 hirt ist die Berechtigung zum Start und zur Verpflegung  auf der Laufs
 trecke und im Ziel. Bei Nichtantritt besteht kein Anspruch  auf dieses
  Laufshirt. Teilnahmeberechtigung für den Halbmarathon haben alle Läuf
 erInnen\, die  ein Mindestalter von 16 Jahren erreicht haben.<br>\n Mi
 t der Anmeldung erkennt der Teilnehmer die Teilnahmebedingungen inkl. 
  Haftungsausschluss an.<br>\n Eine Teilnahme ohne ChampionChip ist nic
 ht möglich.</td></tr>\n<tr valign=top><td>Zeitmessung:</td>\n<td colsp
 an=2>Die Zeitmessung erfolgt über den  ChampionChip von Mika timing. S
 ie erhalten Ihren <strong>Single Use Chip  gegen eine Gebühr (nur Barz
 ahlung) von € 3\,00</strong> bei Abholung der  Startunterlagen. Teilne
 hmer die bereits über einen eigenen ChampionChip  verfügen können selb
 stverständlich Ihren eigenen Chip nutzen.<br>\n Auf den Kinderstrecken
  wird keine Zeitmessung durchgeführt.</td></tr>\n<tr valign=top><td>St
 artunterlagen-<br>\n ausgabe:</td>\n<td colspan=2>Die Ausgabe der Star
 tunterlagen  (adidas-Funktionslaufshirt u.v.m.) erfolgt in der SportSc
 heck- Filiale  Nürnberg vom 20.09. – 02.10.2010 zu den regulären Öffnu
 ngszeiten. Am  Veranstaltungstag ist die Abholung ab 8:00 Uhr im Start
 - und Zielbereich  auf dem Opernplatz möglich.<br>\n Eine Versendung d
 er Startunterlagen ist  nicht möglich!</td></tr>\n<tr valign=top><td>F
 irmenlauf/<br>\n Teamwertung:</td>\n<td colspan=2>Ein Team (Firma\, Ve
 rein\, Familie  etc.) besteht aus mind. 6 Teilnehmern. Es können auch 
 mehr LäuferInnen  in einem Team starten\; jedoch werden nur die 6 schn
 ellsten gewertet.  Jeder Teilnehmer wird zusätzlich in der Einzelkateg
 orie der 10 km  Distanz gewertet.<br>\n Nutzen Sie die vergünstigten P
 reise der Gruppenanmeldung!</td></tr>\n<tr valign=top><td>Urkunden:</t
 d>\n<td colspan=2>Eine Urkunde  mit Ihrer persönlichen Laufzeit können
  Sie auf <a href=http://www.sportscheck.com/event target=_blank>www.sp
 ortscheck.com/event</a> innerhalb der Ergebnislisten herunterladen und
  ausdrucken.</td></tr>\n<tr valign=top><td>Veranstalter:</td>\n<td col
 span=2>TSV Katzwang<br>\n SportScheck GmbH</td></tr>\n<tr valign=top><
 td width=125>Organisation:</td>\n<td colspan=2 width=295>SportScheck G
 mbH TSV Katzwang km Sport-Agentur (Katja Mayer)</td></tr>\n<tr valign=
 top><td>Danksagung:</td>\n<td colspan=2>Die Veranstalter bedanken sich
  für  die freundliche Unterstützung bei den Sponsoren\, den Helfern\, 
 den  beteiligten Ämtern und Behörden der Stadt Nürnberg und der Polize
 i.</td></tr>\n<tr valign=top><td>Anmeldung:</td>\n<td colspan=2>Bei Ih
 rer Anmeldung können Sie  unsere individuellen Vorteile nutzen. Bitte 
 halten Sie Ihre Kundenkarte  bereit.</td></tr>\n<tr valign=top><td><st
 rong>SportScheck-<br>\n Nürnberg</strong></td>\n<td colspan=2><p>Ludwi
 gsplatz 4-10\, 90403 Nürnberg<br>\n Tel.: 0911/52 78 – 0<br>\n Fax: 09
 11/24 19 485<br>\n E-Mail: filiale_nuernberg@sportscheck.com</p>\n<p><
 br class=spacer_ /></p>\n<p><br class=spacer_ /></p></td></tr>\n</tbod
 y>\n</table>\n<p>Die Strecken: <a href=https://www.runningsocks.de/wor
 dpress/wp-content/uploads/2010/07/strecken_stadtlauf.pdf target=_blank
 >Streckenplan</a></p>\n
URL:https://www.runningsocks.de/wordpress/terminkalender/eventsinglepa
 ge/?event_id=54&lang=de
ATTACH:https://www.runningsocks.de/wordpress/terminkalender/eventsingl
 epage/?event_id=54&lang=de
LOCATION:Frauentorgraben / Opernhaus\, Richard-Wagner-Platz 2\, Nürnbe
 rg
END:VEVENT
END:VCALENDAR
