BEGIN:VCALENDAR
VERSION:2.0
METHOD:PUBLISH
PRODID:-//hacksw/handcal//NONSGML v1.0//EN
BEGIN:VEVENT
DTSTAMP:20260419T165212Z
DTSTART:20100829T070000Z
DTEND:20100829T120000Z
UID:20100829T070000Z-20100829T120000Z-55@www.runningsocks.de
SUMMARY:Finish Line Herbstlauf
DESCRIPTION:Veranstalter: FINISH-LINE.de\n\nAusrichter: mudra e.v\nTer
 min: 29.08.2010\n\nStreckenlänge: \n\n\n\n	1200 m für Schüler/Innen C 
 + D (1 Runde)\n	2400 m für Schüler/Innen A + B (2 Runden) \n	10 km für
  Frauen und Männer J. A + B (1 Runden) \n	21\,1 km für Frauen und Männ
 er J. A + B (2 Runde) \n	42\,195 km für Frauen und Männer (4 Runden)\n
 \n\nAnmeldung: Bis 23. August 2010\nonline: www.finish-line.de oder\nw
 ww.sas-zeitmesssysteme.de oder \nper Fax: 0911/ 47 66 36 möglich. \nAb
  24. – 28. August 2010 nur noch persönlich bei \nFINISH-LINE\, Wilhelm
 -Spaeth-Str. 15 90461 Nürnberg  \noder bei FINISH-LINE\, Schwabenstr 3
  ./Ecke Kurgartenstr.  \n(hinterm Autohaus Pillenstein) möglich.\n\nOr
 ganisationsbeitrag:\n\n42\,195 km  30\,00 €\n 21\,1 km  18\,00 € \n 10
 \,0 km  15\,00 € \n Schülerläufe   3\,00 € \n Nachmeldung   3\,00 €\n\
 nAusschreibung: 15. Finish Line Herbstlauf \n\nAnmeldeformular: PDF Fo
 rmular\n\nWeitere Infos beim Veranstalter: Finish Line
X-ALT-DESC;FMTTYPE=text/html:<p><span style=text-decoration: underline
 \;>Veranstalter: </span>FINISH-LINE.de</p>\n<p><span style=text-decora
 tion: underline\;>Ausrichter:</span> mudra e.v<br>\n<span style=text-d
 ecoration: underline\;>Termin:</span> 29.08.2010</p>\n<p><span style=t
 ext-decoration: underline\;>Streckenlänge: <br>\n</span></p>\n<ul>\n<l
 i>1200 m für Schüler/Innen C + D (1 Runde)</li>\n<li>2400 m für Schüle
 r/Innen A + B (2 Runden) </li>\n<li>10 km für Frauen und Männer J. A +
  B (1 Runden) </li>\n<li>21\,1 km für Frauen und Männer J. A + B (2 Ru
 nde) </li>\n<li>42\,195 km für Frauen und Männer (4 Runden)</li>\n</ul
 >\n<p><span style=text-decoration: underline\;>Anmeldung:</span> Bis 2
 3. August 2010<br>\nonline: <a href=https://www.sas-online.net/sas_vor
 anmeldungen/voranmeldungen.php?ID=65&amp\;start=1 target=_blank>www.fi
 nish-line.de</a> oder<br>\n<a href=https://www.sas-online.net/sas_vora
 nmeldungen/voranmeldungen.php?ID=65&amp\;start=1 target=_blank>www.sas
 -zeitmesssysteme.de</a> oder <br>\nper Fax: 0911/ 47 66 36 möglich. <b
 r>\nAb 24. – 28. August 2010 nur noch persönlich bei <br>\nFINISH-LINE
 \, Wilhelm-Spaeth-Str. 15 90461 Nürnberg  <br>\noder bei FINISH-LINE\,
  Schwabenstr 3 ./Ecke Kurgartenstr.  <br>\n(hinterm Autohaus Pillenste
 in) möglich.</p>\n<p><span style=text-decoration: underline\;>Organisa
 tionsbeitrag:</span></p>\n<p>42\,195 km  30\,00 €<br>\n 21\,1 km  18\,
 00 € <br>\n 10\,0 km  15\,00 € <br>\n Schülerläufe   3\,00 € <br>\n Na
 chmeldung   3\,00 €</p>\n<p><span style=text-decoration: underline\;>A
 usschreibung:</span> <a href=https://www.runningsocks.de/wordpress/wp-
 content/uploads/2010/07/20100829_Ausschreibung_Herbstlauf.pdf target=_
 blank><strong>15. Finish Line Herbstlauf </strong></a></p>\n<p><span s
 tyle=text-decoration: underline\;>Anmeldeformular:</span> <a href=http
 s://www.runningsocks.de/wordpress/wp-content/uploads/2010/07/2010_03_F
 LA5_Herbstlauf_Anmeldung_screen.pdf target=_blank>PDF Formular</a></p>
 \n<p>Weitere Infos beim Veranstalter: <a href=http://www.finish-line.d
 e/wettkaempfe-ausschreibungen.htm target=_blank>Finish Line</a></p>\n
URL:https://www.runningsocks.de/wordpress/terminkalender/eventsinglepa
 ge/?event_id=55&lang=de
ATTACH:https://www.runningsocks.de/wordpress/terminkalender/eventsingl
 epage/?event_id=55&lang=de
LOCATION:Tiergarten - Akademie der bildenden Künste\, Bingstrasse 60\,
  Nürnberg
END:VEVENT
END:VCALENDAR
