BEGIN:VCALENDAR
VERSION:2.0
METHOD:PUBLISH
PRODID:-//hacksw/handcal//NONSGML v1.0//EN
BEGIN:VEVENT
DTSTAMP:20260419T165315Z
DTSTART:20100912T114500Z
DTEND:20100912T124500Z
UID:20100912T114500Z-20100912T124500Z-56@www.runningsocks.de
SUMMARY:1. Run & Bike beim Altstadtrennen Nürnberg
DESCRIPTION:Erstmals beim Altstadtrennen wird es eine Veranstaltung Ru
 n and Bike  geben. Läufer und Radfahrer teilen sich ein Fahrrad\, wobe
 i der Abstand  zwischen dem Läufer und dem Radfahrer nie mehr als 10 M
 eter betragen  darf. Sie wechseln sich beliebig oft ab und legen dabei
  gemeinsam eine  Strecke von 8 km\, d.h. 2\,5 Altstadtrunden (Start am
  Hauptmarkt\, Ziel am  Vestnertorgraben) zurück. Zwei Läufer teilen si
 ch ein Fahrrad. (Quelle: www.radrennen.de)\n\nWie\, Wer\, Wann\, Wo?\n
 \n\n	Was und wie funktioniert Run and Bike?\n	Startberechtigung:	Mitma
 chen kann jeder\n	Start:	12:45  Uhr\, Hauptmarkt\n	Ziel:	Vestnertorgra
 ben (nördlich der Burg)\n\n\n\n\nStrecken:\n\n\n	Strecke:	Altstadtrund
 e\, Länge: 3\,5 km\n	Streckenlänge: 	Fitness-Distanz: zweieinhalb Rund
 en  ca. 8\,5 Km\n	Schnupper-Distanz: eineinhalb Runden ca. 4\,5 Km\n\n
 \nStartgeld:\n\n\n	Startgeld:		20 € pro Team\n	Frühbucherrabatt:	Bei A
 nmeldung bis 14.07.2010:  15 €\n	Nachmeldung: zuzüglich 5 €\n\n\nRegle
 ment:\n\n\n	Run & Bike im Rahmen des  Altstadtrennens ist eine Volksla
 ufveranstaltung der besonderen Art.  Jeweils ein Teammitglied läuft un
 d der Partner fährt Rad. Beide können  sich beliebig abwechseln. Dabei
  darf der Abstand zwischen dem Läufer und  dem Radfahrer nicht mehr al
 s 10 Meter betragen.\n	Gleichzeitig gibt es eine Mixed Staffel und ein
 e  reine Frauen Staffel.\n\n\nWertung:\n\n\n	Angeboten werden Männer- 
 Frauen und  Mixed-Wettbewerbe. Die jeweils ersten drei erhalten Sachpr
 eise.\n\n\nAnmeldungen:\n\n\n	Hier geht's lang Anmeldung\n	Nachmeldung
  am Samstag\, 11.09.2010\, 15.00 bis 18.00 Uhr\, Rathaus\n Nachmeldung
  am Sonntag\, 12.09.2010\, 10.30 bis 12.30 Uhr\, Rathaus\n\n\n(Quelle:
  www.fun-race.org)
X-ALT-DESC;FMTTYPE=text/html:<p>Erstmals beim Altstadtrennen wird es e
 ine Veranstaltung Run and Bike  geben. Läufer und Radfahrer teilen sic
 h ein Fahrrad\, wobei der Abstand  zwischen dem Läufer und dem Radfahr
 er nie mehr als 10 Meter betragen  darf. Sie wechseln sich beliebig of
 t ab und legen dabei gemeinsam eine  Strecke von 8 km\, d.h. 2\,5 Alts
 tadtrunden (Start am Hauptmarkt\, Ziel am  Vestnertorgraben) zurück. Z
 wei Läufer teilen sich ein Fahrrad. (Quelle: <a href=http://radrennen.
 de/index.php?navi=1&amp\;rid=2&amp\;artid=528 target=_blank>www.radren
 nen.de</a>)</p>\n<p>Wie\, Wer\, Wann\, Wo?</p>\n<ul>\n<li><a href=http
 ://www.fun-race.org/termine-ausschreibungen/run-bike-1292010-nuernberg
 /die-details/ target=_blank>Was und wie funktioniert Run and Bike</a>?
 </li>\n<li>Startberechtigung:	Mitmachen kann jeder</li>\n<li>Start:	12
 :45  Uhr\, Hauptmarkt</li>\n<li>Ziel:	Vestnertorgraben (nördlich der B
 urg)</li>\n</ul>\n<ul>\n</ul>\n<p>Strecken:</p>\n<ul>\n<li>Strecke:	Al
 tstadtrunde\, Länge: 3\,5 km</li>\n<li>Streckenlänge: 	Fitness-Distanz
 : zweieinhalb Runden  ca. 8\,5 Km</li>\n<li>Schnupper-Distanz: eineinh
 alb Runden ca. 4\,5 Km</li>\n</ul>\n<p>Startgeld:</p>\n<ul>\n<li>Start
 geld:		20 € pro Team</li>\n<li>Frühbucherrabatt:	Bei Anmeldung bis 14.
 07.2010:  15 €</li>\n<li>Nachmeldung: zuzüglich 5 €</li>\n</ul>\n<p>Re
 glement:</p>\n<ul>\n<li>Run &amp\; Bike im Rahmen des  Altstadtrennens
  ist eine Volkslaufveranstaltung der besonderen Art.  Jeweils ein Team
 mitglied läuft und der Partner fährt Rad. Beide können  sich beliebig 
 abwechseln. Dabei darf der Abstand zwischen dem Läufer und  dem Radfah
 rer nicht mehr als 10 Meter betragen.</li>\n<li>Gleichzeitig gibt es e
 ine Mixed Staffel und eine  reine Frauen Staffel.</li>\n</ul>\n<p>Wert
 ung:</p>\n<ul>\n<li>Angeboten werden Männer- Frauen und  Mixed-Wettbew
 erbe. Die jeweils ersten drei erhalten Sachpreise.</li>\n</ul>\n<p>Anm
 eldungen:</p>\n<ul>\n<li>Hier geht&#8217\;s lang <a href=http://www.fu
 n-race.org/termine-ausschreibungen/run-bike-1292010-nuernberg/online-a
 nmeldung/ target=_blank>Anmeldung</a></li>\n<li>Nachmeldung am Samstag
 \, 11.09.2010\, 15.00 bis 18.00 Uhr\, Rathaus<br>\n Nachmeldung am Son
 ntag\, 12.09.2010\, 10.30 bis 12.30 Uhr\, Rathaus</li>\n</ul>\n<p>(Que
 lle: <a href=http://www.fun-race.org/termine-ausschreibungen/run-bike-
 1292010-nuernberg/ target=_blank>www.fun-race.org</a>)</p>\n
URL:https://www.runningsocks.de/wordpress/terminkalender/eventsinglepa
 ge/?event_id=56&lang=de
ATTACH:https://www.runningsocks.de/wordpress/terminkalender/eventsingl
 epage/?event_id=56&lang=de
LOCATION:Hauptmarkt Nürnberg\, Hauptmarkt\, Nürnberg
END:VEVENT
END:VCALENDAR
