BEGIN:VCALENDAR
VERSION:2.0
METHOD:PUBLISH
PRODID:-//hacksw/handcal//NONSGML v1.0//EN
BEGIN:VEVENT
DTSTAMP:20260419T165213Z
DTSTART:20110508T133000Z
DTEND:20110508T153000Z
UID:20110508T133000Z-20110508T153000Z-60@www.runningsocks.de
SUMMARY:5. Weltkulturerbe Lauf Bamberg
DESCRIPTION:Kurzinfo zum 5. Weltkulturerbe Lauf Bamberg\, 08.05.2011:\
 n\nDie Spannung steigt\, der Ruhepuls auch\, freudige Erwartung macht 
 sich  breit. Lange\, bevor die Teilnehmerinnen und Teilnehmer des  Wel
 tkulturerbelaufs 2011 an den Start gehen\, breitet sich in Bamberg  wi
 eder das Lauffieber aus. Wer sich von diesem sympathischen und  gesund
 heitlich unbedenklichen Zustand anstecken lassen möchte\, sollte  sich
  den 8. Mai 2011 dick im Kalender anstreichen. Zum 5. Mal  veranstalte
 t der gemeinnützige Weltkulturerbelauf Bamberg e.V. mit  Unterstützung
  von rund 1300 Helfern dieses sportliche und  gesellschaftliche Großer
 eignis.\nWettbewerbe\n\n\n\nBöhnlein-Bambinilauf \n\n Kindergartenkind
 er zwischen vier und sechs Jahren)\n800 m\n\n\n\n\n\nFuchs-Schülerlauf
   \n\nGrundschüler der 1. und 2. Klasse\n1\,6 km\n\n\n\nFuchs-Schülerl
 auf  \n\nGrundschüler der 3. und 4. Klasse\n1\,6 km\n\n\n\nBambados-La
 uf \n\nSchüler der 5. mit 13. Klasse\n4\,1 km\n\n\n\nwieland-Lauf \n\n
 2004 und älter\n4\,4 km\n\n\n\nBrose-Lauf \n\n1997 und älter\n10\,9 km
 \n\n\n\nSparkassen-Lauf \n\n1995 und älter\n21\,1 km\n\n\n\nStreckenbe
 schaffenheit\nDie Laufstrecken führen teilweise über Asphalt-\, Pflast
 er-\,  Schotter-\, Sand- und Waldwege. Bedingt durch die engen Gassen 
 der  Altstadt müssen einige rechtwinklige Abbiegungen gelaufen werden.
   Besonders beim Sparkassen-Lauf sind anspruchsvolle Steigungen und Ge
 fälle zu bewältigen.\nHöhenmeter\n\n\n\nBöhnlein-Bambinilauf\nflach\n\
 n\nFuchs-Schülerläufe\nflach\n\n\nBambados-Lauf \nca. 30 Höhenmeter\n\
 n\nwieland-Lauf \nca. 35 Höhenmeter\n\n\nBrose-Lauf \nca. 75 Höhenmete
 r\n\n\nSparkassen-Lauf \nca. 280 Höhenmeter\n\n\n\nStart/Ziel\nDer Sta
 rt erfolgt am Markusplatz\, Ziel ist der Maximiliansplatz\n\nAusnahme:
  Böhnlein-Bambinilauf. Hier ist der Start an der Ecke Franz-Ludwig-Str
 aße/Grüner Markt\, das Ziel ist der Maximiliansplatz.\nStartzeiten 8. 
 Mai 2011\n\n\n\nBöhnlein-Bambinilauf \n11:30 Uhr\n\n\nFuchs-Schülerlau
 f (1. und 2. Klasse) \n12:00 Uhr\n\n\nFuchs-Schülerlauf (3. und 4. Kla
 sse) \n12:30 Uhr\n\n\nBambados-Lauf \n13:00 Uhr\n\n\nwieland-Lauf \n14
 :00 Uhr\n\n\nBrose-Lauf \n14:30 Uhr\n\n\nSparkassen-Lauf \n15:30 Uhr\n
 \n\n\nStartgeld und Anmeldefristen\n\n\n\nBöhnlein-Bambinilauf\nAnmeld
 ung ab 01.10.2010 über den Kindergarten\n5\,- €\n\n\nFuchs-Schülerlauf
 :  1. und 2. Klassen\n\nFuchs-Schülerlauf:  3. und 4. Klassen\n\nBamba
 dos-Lauf:      5. Klassen und höher\nAnmeldung ab 01.10.2010 über die 
 Schulen\n\nMeldeschluss für alle Schülerläufe: 11. März 2011\n8\,- €\n
 \n\n\n\nwieland-Lauf \nAnmeldung bis 31.12.2010\n15\,- €\n\n\n\nAnmeld
 ung bis 25.03.2011\n25\,- €\n\n\nBrose-Lauf \nAnmeldung bis 31.12.2010
 \n22\,- €\n\n\n\nAnmeldung bis 25.03.2011\n32\,- €\n\n\nSparkassen-Lau
 f\nAnmeldung bis 31.12.2010\n32\,- €\n\n\n\nAnmeldung bis 25.03.2011\n
 42\,- €\n\n\n\nWeitere Info's und Onlineanmeldung auf der Seite des Ve
 ranstalters: Bamberger Weltkulturerbe Lauf
X-ALT-DESC;FMTTYPE=text/html:<p>Kurzinfo zum 5. Weltkulturerbe Lauf Ba
 mberg\, 08.05.2011:</p>\n<p>Die Spannung steigt\, der Ruhepuls auch\, 
 freudige Erwartung macht sich  breit. Lange\, bevor die Teilnehmerinne
 n und Teilnehmer des  Weltkulturerbelaufs 2011 an den Start gehen\, br
 eitet sich in Bamberg  wieder das Lauffieber aus. Wer sich von diesem 
 sympathischen und  gesundheitlich unbedenklichen Zustand anstecken las
 sen möchte\, sollte  sich den 8. Mai 2011 dick im Kalender anstreichen
 . Zum 5. Mal  veranstaltet der gemeinnützige &#8222\;Weltkulturerbelau
 f Bamberg e.V.&#8220\; mit  Unterstützung von rund 1300 Helfern dieses
  sportliche und  gesellschaftliche Großereignis.</p>\n<h3><strong>Wett
 bewerbe</strong></h3>\n<table style=width: 679px\; border=0 cellspacin
 g=1 cellpadding=1 bordercolor=#000000>\n<tbody>\n<tr><td><strong><a hr
 ef=http://www.weltkulturerbelauf.de/article.php?id=132>Böhnlein-Bambin
 ilauf</a> </strong></p>\n<p><strong> </strong>Kindergartenkinder zwisc
 hen vier und sechs Jahren)</td>\n<td>800 m</p>\n<p><br class=spacer_ /
 ></td>\n<td></td></tr>\n<tr><td><strong><a href=http://www.weltkulture
 rbelauf.de/article.php?id=203>Fuchs-Schülerlauf </a></strong>&nbsp\;</
 p>\n<p>Grundschüler der 1. und 2. Klasse</td>\n<td>1\,6 km</td>\n<td><
 /td></tr>\n<tr><td><strong><a href=http://www.weltkulturerbelauf.de/ar
 ticle.php?id=195>Fuchs-Schülerlauf </a></strong>&nbsp\;</p>\n<p>Grunds
 chüler der 3. und 4. Klasse</td>\n<td>1\,6 km</td>\n<td></td></tr>\n<t
 r><td><strong><a href=http://www.weltkulturerbelauf.de/article.php?id=
 192>Bambados-Lauf</a></strong>&nbsp\;</p>\n<p>Schüler der 5. mit 13. K
 lasse</td>\n<td>4\,1 km</td>\n<td></td></tr>\n<tr><td><strong><a href=
 http://www.weltkulturerbelauf.de/article.php?id=190>wieland-Lauf</a></
 strong>&nbsp\;</p>\n<p>2004 und älter</td>\n<td>4\,4 km</td>\n<td></td
 ></tr>\n<tr><td><strong><a href=http://www.weltkulturerbelauf.de/artic
 le.php?id=175>Brose-Lauf</a></strong>&nbsp\;</p>\n<p>1997 und älter</t
 d>\n<td>10\,9 km</td>\n<td></td></tr>\n<tr><td><strong><a href=http://
 www.weltkulturerbelauf.de/article.php?id=181>Sparkassen-Lauf</a></stro
 ng>&nbsp\;</p>\n<p>1995 und älter</td>\n<td>21\,1 km</td></tr>\n</tbod
 y>\n</table>\n<h3>Streckenbeschaffenheit</h3>\n<p>Die Laufstrecken füh
 ren teilweise über Asphalt-\, Pflaster-\,  Schotter-\, Sand- und Waldw
 ege. Bedingt durch die engen Gassen der  Altstadt müssen einige rechtw
 inklige Abbiegungen gelaufen werden.  Besonders beim <a href=http://ww
 w.weltkulturerbelauf.de/article.php?id=181>Sparkassen-Lauf </a>sind an
 spruchsvolle Steigungen und Gefälle zu bewältigen.</p>\n<h3>Höhenmeter
 </h3>\n<table style=width: 100%\; border=0 cellspacing=1 cellpadding=1
  bordercolor=#000000>\n<tbody>\n<tr><td><a href=http://www.weltkulture
 rbelauf.de/article.php?id=132>Böhnlein-Bambinilauf</a></td>\n<td>flach
 </td></tr>\n<tr><td><a href=http://www.weltkulturerbelauf.de/article.p
 hp?id=195>Fuchs-Schülerläufe</a></td>\n<td>flach</td></tr>\n<tr><td><a
  href=http://www.weltkulturerbelauf.de/article.php?id=192>Bambados-Lau
 f </a></td>\n<td>ca. 30 Höhenmeter</td></tr>\n<tr><td><a href=http://w
 ww.weltkulturerbelauf.de/article.php?id=190>wieland-Lauf </a></td>\n<t
 d>ca. 35 Höhenmeter</td></tr>\n<tr><td><a href=http://www.weltkulturer
 belauf.de/article.php?id=175>Brose-Lauf </a></td>\n<td>ca. 75 Höhenmet
 er</td></tr>\n<tr><td><a href=http://www.weltkulturerbelauf.de/article
 .php?id=181>Sparkassen-Lauf </a></td>\n<td>ca. 280 Höhenmeter</td></tr
 >\n</tbody>\n</table>\n<h3>Start/Ziel</h3>\n<p>Der Start erfolgt am Ma
 rkusplatz\, Ziel ist der Maximiliansplatz</p>\n<p>Ausnahme: <a href=ht
 tp://www.weltkulturerbelauf.de/article.php?id=132>Böhnlein-Bambinilauf
 </a>. Hier ist der Start an der Ecke Franz-Ludwig-Straße/Grüner Markt\
 , das Ziel ist der Maximiliansplatz.</p>\n<h3>Startzeiten 8. Mai 2011<
 /h3>\n<table border=0 cellspacing=1 cellpadding=1 bordercolor=#000000>
 \n<tbody>\n<tr><td><a href=http://www.weltkulturerbelauf.de/article.ph
 p?id=132>Böhnlein-Bambinilauf </a></td>\n<td>11:30 Uhr</td></tr>\n<tr>
 <td><a href=http://www.weltkulturerbelauf.de/article.php?id=203>Fuchs-
 Schülerlauf (1. und 2. Klasse) </a></td>\n<td>12:00 Uhr</td></tr>\n<tr
 ><td><a href=http://www.weltkulturerbelauf.de/article.php?id=195>Fuchs
 -Schülerlauf (3. und 4. Klasse) </a></td>\n<td>12:30 Uhr</td></tr>\n<t
 r><td><a href=http://www.weltkulturerbelauf.de/article.php?id=192>Bamb
 ados-Lauf </a></td>\n<td>13:00 Uhr</td></tr>\n<tr><td><a href=http://w
 ww.weltkulturerbelauf.de/article.php?id=190>wieland-Lauf </a></td>\n<t
 d>14:00 Uhr</td></tr>\n<tr><td><a href=http://www.weltkulturerbelauf.d
 e/article.php?id=175>Brose-Lauf </a></td>\n<td>14:30 Uhr</td></tr>\n<t
 r><td><a href=http://www.weltkulturerbelauf.de/article.php?id=181>Spar
 kassen-Lauf </a></td>\n<td>15:30 Uhr</td></tr>\n</tbody>\n</table>\n<h
 3>Startgeld und Anmeldefristen</h3>\n<table style=width: 679px\; borde
 r=0 cellspacing=1 cellpadding=1 bordercolor=#000000>\n<tbody>\n<tr><td
 ><a href=http://www.weltkulturerbelauf.de/article.php?id=132>Böhnlein-
 Bambinilauf</a></td>\n<td>Anmeldung ab 01.10.2010 über den Kindergarte
 n</td>\n<td>5\,- €</td></tr>\n<tr><td><a href=http://www.weltkulturerb
 elauf.de/article.php?id=203>Fuchs-Schülerlauf:  1. und 2. Klassen</a><
 /p>\n<p><a href=http://www.weltkulturerbelauf.de/article.php?id=195>Fu
 chs-Schülerlauf:  3. und 4. Klassen</a></p>\n<p><a href=http://www.wel
 tkulturerbelauf.de/article.php?id=192>Bambados-Lauf:      5. Klassen u
 nd höher</a></td>\n<td>Anmeldung ab 01.10.2010 über die Schulen</p>\n<
 p><strong>Meldeschluss für alle Schülerläufe: 11. März 2011</strong></
 td>\n<td>8\,- €</p>\n<p><br class=spacer_ /></td></tr>\n<tr><td><a hre
 f=http://www.weltkulturerbelauf.de/article.php?id=190>wieland-Lauf </a
 ></td>\n<td>Anmeldung bis 31.12.2010</td>\n<td>15\,- €</td></tr>\n<tr>
 <td></td>\n<td>Anmeldung bis 25.03.2011</td>\n<td>25\,- €</td></tr>\n<
 tr><td><a href=http://www.weltkulturerbelauf.de/article.php?id=175>Bro
 se-Lauf </a></td>\n<td>Anmeldung bis 31.12.2010</td>\n<td>22\,- €</td>
 </tr>\n<tr><td></td>\n<td>Anmeldung bis 25.03.2011</td>\n<td>32\,- €</
 td></tr>\n<tr><td><a href=http://www.weltkulturerbelauf.de/article.php
 ?id=181>Sparkassen-Lauf</a></td>\n<td>Anmeldung bis 31.12.2010</td>\n<
 td>32\,- €</td></tr>\n<tr><td></td>\n<td>Anmeldung bis 25.03.2011</td>
 \n<td>42\,- €</td></tr>\n</tbody>\n</table>\n<p>Weitere Info&#8217\;s 
 und Onlineanmeldung auf der Seite des Veranstalters: <a href=http://ww
 w.weltkulturerbelauf.de/ target=_blank>Bamberger Weltkulturerbe Lauf</
 a></p>\n
URL:https://www.runningsocks.de/wordpress/terminkalender/eventsinglepa
 ge/?event_id=60&lang=de
ATTACH:https://www.runningsocks.de/wordpress/terminkalender/eventsingl
 epage/?event_id=60&lang=de
LOCATION:Bamberg\, Markusplatz\, Markusplatz\, Bamberg
END:VEVENT
END:VCALENDAR
