BEGIN:VCALENDAR
VERSION:2.0
METHOD:PUBLISH
PRODID:-//hacksw/handcal//NONSGML v1.0//EN
BEGIN:VEVENT
DTSTAMP:20260419T165212Z
DTSTART:20101003T060000Z
DTEND:20101003T140000Z
UID:20101003T060000Z-20101003T140000Z-61@www.runningsocks.de
SUMMARY:18. Mittelfrankencup – Neustadt a. d. Aisch
DESCRIPTION:Zum 18. Mal wird der Mittelfrankencup  ausgetragen.\n\n201
 0 organisieren wieder 8 Vereine aus  Mittelfranken  für Sie 8 tolle Ra
 d-Touren-Fahrten(RTF) und eine  Mountainbike-Tour  (CTF) durch unsere 
 herrliche mittelfränkische  Landschaft.\n Innerhalb  der RTF/CTF werde
 n wie immer drei oder vier Radtouren mit  Streckenlängen  zwischen 40 
 und 160 km angeboten. Alle Touren des  Mittelfrankencups  finden auf v
 erkehrsarmen Straßen statt und sind keine  Rennen.  Jedermann(frau) ka
 nn dort nach Lust und Laune radeln\, so  schnell oder  langsam wie er 
 (sie) will.\n Wie gewohnt erhält jeder Teilnehmer auch  2010 nach sech
 s von neun  gefahrenen Touren eine Auszeichnung zusammen  mit einer Ur
 kunde. Diesmal  bieten wir eine kurze Radhose mit  oder ohne Träger de
 r Firma  Prolog in schwarz\, farblich passend  zum Trikot des letzten 
  Jahres an.\n Der Nachweis über die erfolgreiche  Teilnahme ist über d
 ie  Wertungskarte des Mittelfrankencups zu führen.  Die Auszeichnungen
   werden – wenn mindestens 6 Touren absolviert wurden –  ohne weitere 
  Zuzahlung bei der letzten Veranstaltung in Erlangen  ausgegeben.\n\nA
 uch 2010 sind die Veranstaltungen des   Mittelfrankencups offizielle V
 eranstaltungen zur BDR-Jahreswertung.\n\nWeiter Infos und Anmeldung au
 f der Seite  des Veranstalters\, www.mfrc.de\n\nAusschreibung\, Flyer:
  Flyer_MittelfrankenCup_2010 (3\,05MB)
X-ALT-DESC;FMTTYPE=text/html:<p>Zum 18. Mal wird der Mittelfrankencup 
  ausgetragen.</p>\n<p>2010 organisieren wieder 8 Vereine aus  Mittelfr
 anken  für Sie 8 tolle Rad-Touren-Fahrten(RTF) und eine  Mountainbike-
 Tour  (CTF) durch unsere herrliche mittelfränkische  Landschaft.<br>\n
  Innerhalb  der RTF/CTF werden wie immer drei oder vier Radtouren mit 
  Streckenlängen  zwischen 40 und 160 km angeboten. Alle Touren des  Mi
 ttelfrankencups  finden auf verkehrsarmen Straßen statt und sind keine
   Rennen.  Jedermann(frau) kann dort nach Lust und Laune radeln\, so  
 schnell oder  langsam wie er (sie) will.<br>\n Wie gewohnt erhält jede
 r Teilnehmer auch  2010 nach sechs von neun  gefahrenen Touren eine Au
 szeichnung zusammen  mit einer Urkunde. Diesmal  bieten wir eine <stro
 ng>kurze Radhose mit  oder ohne Träger der Firma  Prolog in schwarz</s
 trong>\, farblich passend  zum Trikot des letzten  Jahres an.<br>\n De
 r Nachweis über die erfolgreiche  Teilnahme ist über die  Wertungskart
 e des Mittelfrankencups zu führen.  Die Auszeichnungen  werden – wenn 
 mindestens 6 Touren absolviert wurden –  ohne weitere  Zuzahlung bei d
 er letzten Veranstaltung in Erlangen  ausgegeben.</p>\n<p>Auch 2010 si
 nd die Veranstaltungen des   Mittelfrankencups offizielle Veranstaltun
 gen zur BDR-Jahreswertung.</p>\n<p>Weiter Infos und Anmeldung auf der 
 Seite  des Veranstalters\,<a href=http://mfrc-online.de/main/22.0.html
  target=_blank> www.mfrc.de</a></p>\n<p>Ausschreibung\, Flyer: <a href
 =../wp-content/uploads/2010/03/FlyerMittelfrankenCup2010.pdf>Flyer_Mit
 telfrankenCup_2010</a> (3\,05MB)</p>\n
URL:https://www.runningsocks.de/wordpress/terminkalender/eventsinglepa
 ge/?event_id=61&lang=de
ATTACH:https://www.runningsocks.de/wordpress/terminkalender/eventsingl
 epage/?event_id=61&lang=de
LOCATION:Neustadt Aisch\, \, Neustadt an der Aisch
END:VEVENT
END:VCALENDAR
