BEGIN:VCALENDAR
VERSION:2.0
METHOD:PUBLISH
PRODID:-//hacksw/handcal//NONSGML v1.0//EN
BEGIN:VEVENT
DTSTAMP:20260419T165531Z
DTSTART:20101113T100000Z
DTEND:20101113T120000Z
UID:20101113T100000Z-20101113T120000Z-62@www.runningsocks.de
SUMMARY:7. Zeiler Waldmarathon
DESCRIPTION:Die Herausforderung    im Naturpark Haßberge  \n\n\n Termi
 n: Samstag\, 13. November 2010\n\nOrt: Zeil am Main\n\nStart und Ziel:
  Setzbachbrunnen im Laufpark    Zeil\n\nStreckenbeschreibung: Anspruch
 svoller Kurs    durch den Naturpark Haßberge im Laufpark Zeil auf fast
  durchgehend befestigten    Waldwegen. Über den Schlossberg und die Bi
 schofsheimer Höhe führt    die Strecke Richtung Jägerhäuschen zum Geis
 grabenbrunnen. Nach dem    Passieren der „Sieben Seen“ und des Bischof
 sheimer Sees verläuft    die Strecke über den Fitnesspfad zurück zum Z
 iel am Setzbachbrunnen.    Es gibt zwei Straßenüberquerungen auf der H
 albmarathonstrecke. Es    gilt die Straßenverkehrsordnung. Den Anweisu
 ngen der Streckenposten ist    Folge zu leisten.\n\nVerpflegungsstelle
 n: Alle 5 km mit Mineralwasser\,    Tee\, Isogetränk\, Göller-Max-Ener
 gydrink\, Cola\, Malzbier\, Bananen\,    Müsliriegeln\, Cräcker\, Kuch
 en.\n\nHöhenmeter (HM): FLESSABANK-Marathon 840 HM\, Halbmarathon 420 
 HM\n\nStartgebühren: \n\nFLESSABANK-Marathon:    22 €\, \n\nHalbmarath
 on: 13 €\, \n\nWalking/Nordic Walking 21\,1 km: 11 € und 7\,5 km: 8 €.
  \n\nBezahlung bei Abholung der Startnummer!\n\nStartnummernausgabe: R
 udolf-Winkler-Haus\, Freitag\,    12. November 2010 von 20.00 bis 22.0
 0 Uhr und am Wettkampftag ab 7:30 Uhr. Die    Startnummer muss während
  des Wettkampfes gut sichtbar vorne am Oberkörper    angebracht sein! 
 Sicherheitsnadeln bitte selbst mitbringen.\n\nMeldeschluss: Sonntag\, 
 7. November 2010.\n\nStartzeiten:\n\n\n\n\n10:00        Uhr\nFLESSABAN
 K-Marathon\n42\,195        km \n\n\n10:15 Uhr\nWalking/Nordic        W
 alking\n21\,1 km /        7\,5 km \n\n\n11:00 Uhr\nHalbmarathon\n21\,1
  km\n\n\n\n\n \n\nPreise und Auszeichnungen:\n - FLESSABANK-Marathon: 
    \n Jeder Teilnehmer erhält im Ziel eine Medaille\, bei Abgabe der S
 tartnummer    eine Flasche Marathonwein und hat freien Eintritt ins Ze
 iler Hallenbad. Die    drei schnellsten Männer und Frauen im Gesamtein
 lauf erhalten Preise\, ebenso    die ersten drei jeder Altersklasse (5
 -Jahreswertung).\n\n- Halbmarathon:\n Jeder    Teilnehmer erhält im Zi
 el eine Medaille\, bei Abgabe der Startnummer eine    Flasche Marathon
 wein und hat freien Eintritt ins Zeiler Hallenbad. Die drei    schnell
 sten Männer und Frauen im Gesamteinlauf erhalten Preise\, ebenso    di
 e ersten drei jeder Altersklasse (5-Jahreswertung).\n\n- Walking/Nordi
 c Walking:\n Jeder Teilnehmer erhält im Ziel eine Medaille und Urkunde
 \, sowie bei Abgabe    der Startnummer im Rudolf-Winkler-Haus eine Fla
 sche Marathonwein und hat freien    Eintritt ins Zeiler Hallenbad.\n\n
 Teamwertung FLESSABANK-Marathon    und Halbmarathon: Die fünf teilnehm
 erstärksten Gruppen oder    Vereine (Männer und Frauen)\, erhalten:\n 
 1. 30 Liter Bier und einen    Schinken\n 2. 25 Liter Bier und einen Sc
 hinken\n 3. 20 Liter Bier und einen Schinken\n 4. 15 Liter Bier und fr
 änkische Hausmacherwurst\n 5. 10 Liter Bier und fränkische Hausmacherw
 urst\n\n\n\nWeitere Details\, Info's und Online Anmeldung beim Veranst
 alter: Zeiler Waldmarathon
X-ALT-DESC;FMTTYPE=text/html:<p style=text-align: center\;><span style
 =font-size: large\;>Die Herausforderung    im Naturpark Haßberge </spa
 n><span style=font-size: large\;> </span></p>\n<p><span style=font-siz
 e: x-small\;><br>\n <span style=font-size: small\;><strong>Termin:</st
 rong> Samstag\, 13. November 2010</span></span></p>\n<p><span style=fo
 nt-size: small\;><strong>Ort:</strong> Zeil am Main</span></p>\n<p><sp
 an style=font-size: small\;><strong>Start und Ziel:</strong> Setzbachb
 runnen im Laufpark    Zeil</span></p>\n<p><span style=font-size: small
 \;><strong>Streckenbeschreibung:</strong> Anspruchsvoller Kurs    durc
 h den Naturpark Haßberge im Laufpark Zeil auf fast durchgehend befesti
 gten    Waldwegen. Über den Schlossberg und die Bischofsheimer Höhe fü
 hrt    die Strecke Richtung Jägerhäuschen zum Geisgrabenbrunnen. Nach 
 dem    Passieren der „Sieben Seen“ und des Bischofsheimer Sees verläuf
 t    die Strecke über den Fitnesspfad zurück zum Ziel am Setzbachbrunn
 en.    Es gibt zwei Straßenüberquerungen auf der Halbmarathonstrecke. 
 Es    gilt die Straßenverkehrsordnung. Den Anweisungen der Streckenpos
 ten ist    Folge zu leisten.</span></p>\n<p><span style=font-size: sma
 ll\;><strong>Verpflegungsstellen:</strong> Alle 5 km mit Mineralwasser
 \,    Tee\, Isogetränk\, Göller-Max-Energydrink\, Cola\, Malzbier\, Ba
 nanen\,    Müsliriegeln\, Cräcker\, Kuchen.</span></p>\n<p><span style
 =font-size: small\;><strong>Höhenmeter (HM):</strong> <strong>FLESSABA
 NK</strong>-Marathon 840 HM\, Halbmarathon 420 HM</span></p>\n<p><span
  style=font-size: small\;><strong>Startgebühren:</strong> </span></p>\
 n<p><span style=font-size: small\;>FLESSABANK-Marathon:    22 €\, </sp
 an></p>\n<p><span style=font-size: small\;>Halbmarathon: 13 €\, </span
 ></p>\n<p><span style=font-size: small\;>Walking/Nordic Walking 21\,1 
 km: 11 € und 7\,5 km: 8 €. </span></p>\n<p><span style=font-size: smal
 l\;><em>Bezahlung bei Abholung der Startnummer!</em></span></p>\n<p><s
 pan style=font-size: small\;><strong>Startnummernausgabe:</strong> Rud
 olf-Winkler-Haus\, Freitag\,    12. November 2010 von 20.00 bis 22.00 
 Uhr und am Wettkampftag ab 7:30 Uhr. Die    Startnummer muss während d
 es Wettkampfes gut sichtbar vorne am Oberkörper    angebracht sein! Si
 cherheitsnadeln bitte selbst mitbringen.</span></p>\n<p><span style=fo
 nt-family: Verdana\,Arial\,Helvetica\,sans-serif\;><span style=font-si
 ze: x-small\;><strong>Meldeschluss:</strong> Sonntag\, 7. November 201
 0.</span></span></p>\n<p><span style=font-size: small\;><strong>Startz
 eiten:</strong></span></p>\n<table style=width: 52%\; border=0>\n<tbod
 y>\n<tr><td width=21%><span style=font-size: small\;>10:00        Uhr<
 /span></td>\n<td width=49%><span style=font-size: small\;><strong>FLES
 SABANK</strong>-Marathon</span></td>\n<td width=30%><span style=font-s
 ize: small\;>42\,195        km </span></td></tr>\n<tr><td><span style=
 font-size: small\;>10:15 Uhr</span></td>\n<td><span style=font-size: s
 mall\;>Walking/Nordic        Walking</span></td>\n<td><span style=font
 -size: small\;>21\,1 km /        7\,5 km </span></td></tr>\n<tr><td><s
 pan style=font-size: small\;>11:00 Uhr</span></td>\n<td><span style=fo
 nt-size: small\;>Halbmarathon</span></td>\n<td><span style=font-size: 
 small\;>21\,1 km</span></td></tr>\n</tbody>\n</table>\n<p><span style=
 font-size: small\;> </span></p>\n<p><span style=font-size: small\;><st
 rong>Preise und Auszeichnungen:<br>\n </strong>&#8211\; <strong>FLESSA
 BANK</strong>-Marathon:    <br>\n Jeder Teilnehmer erhält im Ziel eine
  Medaille\, bei Abgabe der Startnummer    eine Flasche Marathonwein un
 d hat freien Eintritt ins Zeiler Hallenbad. Die    drei schnellsten Mä
 nner und Frauen im Gesamteinlauf erhalten Preise\, ebenso    die erste
 n drei jeder Altersklasse (5-Jahreswertung).</span></p>\n<p><span styl
 e=font-size: small\;>&#8211\; Halbmarathon:<br>\n Jeder    Teilnehmer 
 erhält im Ziel eine Medaille\, bei Abgabe der Startnummer eine    Flas
 che Marathonwein und hat freien Eintritt ins Zeiler Hallenbad. Die dre
 i    schnellsten Männer und Frauen im Gesamteinlauf erhalten Preise\, 
 ebenso    die ersten drei jeder Altersklasse (5-Jahreswertung).</span>
 </p>\n<p><span style=font-size: small\;>&#8211\; Walking/Nordic Walkin
 g:<br>\n Jeder Teilnehmer erhält im Ziel eine Medaille und Urkunde\, s
 owie bei Abgabe    der Startnummer im Rudolf-Winkler-Haus eine Flasche
  Marathonwein und hat freien    Eintritt ins Zeiler Hallenbad.</span><
 /p>\n<p><span style=font-size: small\;><strong>Teamwertung </strong><s
 trong>FLESSABANK-</strong><strong>Marathon    und Halbmarathon:</stron
 g> Die fünf teilnehmerstärksten Gruppen oder    Vereine (Männer und Fr
 auen)\, erhalten:<br>\n 1. 30 Liter Bier und einen    Schinken<br>\n 2
 . 25 Liter Bier und einen Schinken<br>\n 3. 20 Liter Bier und einen Sc
 hinken<br>\n 4. 15 Liter Bier und fränkische Hausmacherwurst<br>\n 5. 
 10 Liter Bier und fränkische Hausmacherwurst</span></p>\n<p><br class=
 spacer_ /></p>\n<p><span style=font-size: small\;>Weitere Details\, In
 fo&#8217\;s und Online Anmeldung beim Veranstalter: <a href=http://www
 .zeiler-waldmarathon.de/ target=_blank>Zeiler Waldmarathon</a><br>\n <
 /span></p>\n
URL:https://www.runningsocks.de/wordpress/terminkalender/eventsinglepa
 ge/?event_id=62&lang=de
ATTACH:https://www.runningsocks.de/wordpress/terminkalender/eventsingl
 epage/?event_id=62&lang=de
LOCATION:Setzbachbrunnen im Laufpark Zeil\, Setzbachstraße\, Zeil am M
 ain
END:VEVENT
END:VCALENDAR
