BEGIN:VCALENDAR
VERSION:2.0
METHOD:PUBLISH
PRODID:-//hacksw/handcal//NONSGML v1.0//EN
BEGIN:VEVENT
DTSTAMP:20260419T165313Z
DTSTART:20110227T093000Z
DTEND:20110227T113000Z
UID:20110227T093000Z-20110227T113000Z-63@www.runningsocks.de
SUMMARY:18. Finish Line Rothseelauf
DESCRIPTION:1 Runde  um den kleinen Rothsee (5\,2 Km - Hobbylauf)  auf
  flacher Strecke.\n\n2 Runden um den kleinen Rothsee (10\,4 Km - Haupt
 lauf) auf flacher Strecke.\n\nAusschreibung:\n\n[filebase:file:file=29
 4]\n\nWeitere Info's und Online Anmeldung beim Veranstalter: Finish Li
 ne
X-ALT-DESC;FMTTYPE=text/html:<p style=text-align: justify\;>1 Runde  u
 m den kleinen Rothsee (5\,2 Km &#8211\; Hobbylauf)  auf flacher Streck
 e.</p>\n<p style=text-align: justify\;>2 Runden um den kleinen Rothsee
  (10\,4 Km &#8211\; Hauptlauf) auf flacher Strecke.</p>\n<p style=text
 -align: justify\;>Ausschreibung:</p>\n<p style=text-align: justify\;>[
 filebase:file:file=294]</p>\n<p style=text-align: justify\;>Weitere In
 fo&#8217\;s und Online Anmeldung beim Veranstalter: <a href=http://www
 .finish-line.de/wettkaempfe-ausschreibungen.htm target=_blank>Finish L
 ine</a></p>\n
URL:https://www.runningsocks.de/wordpress/terminkalender/eventsinglepa
 ge/?event_id=63&lang=de
ATTACH:https://www.runningsocks.de/wordpress/terminkalender/eventsingl
 epage/?event_id=63&lang=de
LOCATION:Strandhaus Birkach\, Birkacher Uferweg 2\, Roth
END:VEVENT
END:VCALENDAR
