BEGIN:VCALENDAR
VERSION:2.0
METHOD:PUBLISH
PRODID:-//hacksw/handcal//NONSGML v1.0//EN
BEGIN:VEVENT
DTSTAMP:20260419T165212Z
DTSTART:20110821T070000Z
DTEND:20110821T120000Z
UID:20110821T070000Z-20110821T120000Z-64@www.runningsocks.de
SUMMARY:15. Finish Line Herbstlauf
DESCRIPTION:Info vom Veranstalter: FINISH-LINE.de\n\n \n\n \n\n \n\n \
 nWegen Eröffnung der Lagune und Baustellen im Bereich der Akademie ent
 fällt der Herbstlauf in diesem Jahr !
X-ALT-DESC;FMTTYPE=text/html:<p>Info vom Veranstalter: <a href=http://
 www.finish-line.de/wettkaempfe-ausschreibungen.htm target=_blank>FINIS
 H-LINE.de</a></p>\n<p>&nbsp\;</p>\n<p>&nbsp\;</p>\n<p>&nbsp\;</p>\n<p>
 &nbsp\;</p>\n<p style=text-align: center\;><strong><span style=font-si
 ze: large\; color: #ff0000\;>Wegen Eröffnung der Lagune und Baustellen
  im Bereich der Akademie entfällt der Herbstlauf in diesem Jahr !</spa
 n></strong></p>\n
URL:https://www.runningsocks.de/wordpress/terminkalender/eventsinglepa
 ge/?event_id=64&lang=de
ATTACH:https://www.runningsocks.de/wordpress/terminkalender/eventsingl
 epage/?event_id=64&lang=de
LOCATION:Tiergarten - Akademie der bildenden Künste\, Bingstrasse 60\,
  Nürnberg
END:VEVENT
END:VCALENDAR
