BEGIN:VCALENDAR
VERSION:2.0
METHOD:PUBLISH
PRODID:-//hacksw/handcal//NONSGML v1.0//EN
BEGIN:VEVENT
DTSTAMP:20260419T165139Z
DTSTART:20110326T140000Z
DTEND:20110326T160000Z
UID:20110326T140000Z-20110326T160000Z-65@www.runningsocks.de
SUMMARY:11. Erlanger Winterwaldlauf
DESCRIPTION:Strecke: Ebene Rundkurse durch Waldgebiet Brucker Lache au
 f gut belaufbaren Waldwegen mit km-Schildern\; Start und Ziel am Pfarr
 zentrum St. Marien \n\nWettbewerbe\n a)  5\,0 oder 10 km Walking bzw. 
 Nordic Walking für Frauen und Männer ohne weitere Wertung  - Sponsor S
 BK\n\nb)  1\,7 km-Lauf für Schüler der Klassen M/W7 bis M/W15 ohne  Ma
 nnschaftswertungen - Sponsor John(ny) Stackmann\n\nc)  10\,0 km-Lauf E
 inzel-5-Jahreswertung: Männer M20\, M30\, M35 u.s.w. bis M75 und älter
 \; Frauen W20\, W30\, W35 u.s.w. bis W70 und älter\; 5er-Mannschaftswe
 rtungen  gemeinsam für Männer und Frauen\; Einzel-Meisterschaftswertun
 g für  Siemens-Mitarbeiter\, Siemens-Beteiligungen und Mitglieder von 
  Siemens-Sportgemeinschaften - Sponsor Siemens AG\n\nd) 2x 5 km Staffe
 llauf  für Frauen\, Männer und gemischte (Mixed-) Staffeln\; ohne Alte
 rsklassen-Wertung -  Sponsor Eisert\n\ne)  15\,0 km Lauf Einzel-5-Jahr
 eswertung: Männer M20\, M30\, M35  u.s.w. bis M75 und älter\; Frauen W
 20\, W30\, W35 u.s.w. bis W70 und älter\; 5er-Mannschaftswertungen  ge
 meinsam für Männer und Frauen  - Sponsor Sparkasse Erlangen\n Der 15-k
 m-Lauf wird als 2. Lauf des Bayern Lauf-Cup  2011 des BLV gewertet.\n\
 nStartzeiten: \n 10:30 Uhr 5 km oder 10 km Walking bzw. Nordic Walking
 \; \n 12:30 Uhr 1\,7-km-Lauf für Schüler\; \n 13:00 Uhr 10-km-Lauf und
  Staffeln mit Zielschluss 14:30 Uhr\; \n 15:00 Uhr 15-km-Lauf mit Ziel
 schluss 17:00 Uhr \n\nOrganisationsgebühren werden eingezogen oder sin
 d (auch für Anmeldungen per Post) am 25.3. (Abholung bei Eisert) bzw. 
 am 26.3. bis eine Stunde vor dem Start mit 2 €  Nachmeldegebühr zu bez
 ahlen sofern das  Teilnehmer-Limit noch nicht erreicht ist.  \n \n\n\n
 	 10 Km: Männer\, Frauen 10 € \, Jugendliche 6 €\n	15 Km: Männer\, Fra
 uen 12 €\,  Jugendliche 6 €\n	2x5 km: 14 €\n	1\,7 Km: Schüler  2 €\n	W
 alking:  4 €\n \n\n\nNachmeldungen  2 €.\n >> Bei frühzeitiger Anmeldu
 ng bis 6. März wird ein  Bonus von 2 € gewährt (10 km-Lauf\, 2x 5km un
 d 15 km-Lauf)!
X-ALT-DESC;FMTTYPE=text/html:<p><span style=font-size: small\;><strong
 ><span style=font-family: Comic Sans MS\;><strong>Strecke</strong></sp
 an></strong><span style=font-family: Arial\;>: Ebene Rundkurse durch W
 aldgebiet &#8222\;Brucker Lache&#8220\; auf gut belaufbaren Waldwegen 
 mit km-Schildern\; Start und Ziel am Pfarrzentrum St. Marien </span></
 span></p>\n<p><span style=font-size: small\;><strong><span style=font-
 family: Comic Sans MS\;><strong>Wettbewerbe</strong></span></strong><s
 pan style=font-family: Arial\;><br>\n a) <strong> <span style=text-dec
 oration: underline\;>5\,0 oder 10 km</span> Walking bzw. Nordic Walkin
 g</strong> für Frauen und Männer ohne weitere Wertung  &#8211\; Sponso
 r <strong>SBK</strong></span></span></p>\n<p><span style=font-size: sm
 all\;><span style=font-family: Arial\;>b) <strong> <span style=text-de
 coration: underline\;>1\,7 km</span>-Lauf</strong> für Schüler der Kla
 ssen M/W7 bis M/W15 ohne  Mannschaftswertungen &#8211\; Sponsor <stron
 g>John(ny) Stackmann</strong></span></span></p>\n<p><span style=font-s
 ize: small\;><span style=font-family: Arial\;>c) <strong> <span style=
 text-decoration: underline\;>10\,0 km</span>-Lauf </strong>Einzel-5-Ja
 hreswertung: Männer M20\, M30\, M35 u.s.w. bis M75 und älter\; Frauen 
 W20\, W30\, W35 u.s.w. bis W70 und älter\; 5er-Mannschaftswertungen  g
 emeinsam für Männer und Frauen\; Einzel-Meisterschaftswertung für  Sie
 mens-Mitarbeiter\, Siemens-Beteiligungen und Mitglieder von  Siemens-S
 portgemeinschaften &#8211\; Sponsor <strong>Siemens AG</strong></span>
 </span></p>\n<p><span style=font-size: small\;><span style=font-family
 : Arial\;>d) <span style=text-decoration: underline\;><strong>2x 5</st
 rong></span><strong><span style=text-decoration: underline\;> km</span
 > Staffellauf </strong> für Frauen\, Männer und gemischte (Mixed-) Sta
 ffeln\; ohne Altersklassen-Wertung &#8211\;  Sponsor <strong>Eisert</s
 trong></span></span></p>\n<p><span style=font-size: small\;><span styl
 e=font-family: Arial\;>e) <strong> <span style=text-decoration: underl
 ine\;>15\,0 km</span> Lauf </strong>Einzel-5-Jahreswertung: Männer M20
 \, M30\, M35  u.s.w. bis M75 und älter\; Frauen W20\, W30\, W35 u.s.w.
  bis W70 und älter\; 5er-Mannschaftswertungen  gemeinsam für Männer un
 d Frauen </span><span style=font-family: Arial\;> &#8211\; Sponsor <st
 rong>Sparkasse Erlangen<br>\n </strong>Der 15-km-Lauf wird als <strong
 >2. Lauf des <a href=http://www.winterwaldlauf.de/auswald.htm#blc>Baye
 rn Lauf-Cup  2011 des BLV</a></strong> gewertet.</span></span></p>\n<p
 ><span style=font-size: small\;><strong><span style=font-family: Comic
  Sans MS\;><strong>Startzeiten</strong></span></strong><span style=fon
 t-family: Arial\;>: <br>\n <strong>10:30</strong> Uhr 5 km oder 10 km 
 Walking bzw. Nordic Walking\; <br>\n <strong>12:30</strong> Uhr 1\,7-k
 m-Lauf für Schüler\; <br>\n <strong>13:00</strong> Uhr 10-km-Lauf und 
 Staffeln mit Zielschluss 14:30 Uhr\; <br>\n <strong>15:00</strong> Uhr
  15-km-Lauf mit Zielschluss 17:00 Uhr </span></span></p>\n<p><span sty
 le=font-size: small\;><strong><span style=font-family: Comic Sans MS\;
 ><strong>Organisationsgebühren</strong></span></strong><span style=fon
 t-family: Arial\;> werden <span style=text-decoration: underline\;>ein
 </span>g<span style=text-decoration: underline\;>ezo</span>g<span styl
 e=text-decoration: underline\;>en</span> oder sind (auch für Anmeldung
 en per Post) am 25.3. (Abholung bei Eisert) bzw. am 26.3. bis eine Stu
 nde vor dem Start mit 2 €  Nachmeldegebühr zu bezahlen sofern das  Tei
 lnehmer-Limit noch nicht erreicht ist.  <strong><br>\n </strong></span
 ></span></p>\n<ul>\n<li><span style=font-size: small\;><span style=fon
 t-family: Arial\;><strong> 10 Km: Männer\, Frauen 10 € </strong></span
 ><span style=font-family: Arial\;><strong>\, Jugendliche 6 €</strong><
 /span></span></li>\n<li><span style=font-size: small\;><span style=fon
 t-family: Arial\;><strong>15 Km: </strong></span><span style=font-fami
 ly: Arial\;><strong>Männer\, Frauen </strong></span><span style=font-f
 amily: Arial\;><strong>12 €\,  Jugendliche 6 €</strong></span></span><
 /li>\n<li><span style=font-size: small\;><span style=font-family: Aria
 l\;><strong>2&#215\;5 km: 14 €</strong></span></span></li>\n<li><span 
 style=font-size: small\;><span style=font-family: Arial\;><strong>1\,7
  Km: </strong></span><span style=font-family: Arial\;><strong>Schüler 
  2 €</strong></span></span></li>\n<li><span style=font-size: small\;><
 span style=font-family: Arial\;><strong>Walking:  4 €<br>\n </strong><
 /span></span></li>\n</ul>\n<p><span style=font-size: small\;><span sty
 le=font-family: Arial\;><strong>Nachmeldungen  2 €</strong>.<br>\n &gt
 \;&gt\; Bei frühzeitiger Anmeldung bis 6. März wird ein <strong> Bonus
  von 2 €</strong> gewährt (10 km-Lauf\, 2x 5km und 15 km-Lauf)! &lt\;&
 lt\;</span></span></p>\n<p><span style=font-size: small\;>Aktuelle Inf
 o&#8217\;s sowie Online anmeldung auf der Seite des Veranstalters: <a 
 href=http://www.winterwaldlauf.de/ target=_blank>SGS Leichtathletik</a
 ></span></p>\n<p><span style=font-size: small\;>Teilnehmerlimit: 1200<
 br>\n Meldeschluß für Onlineanmeldung: 19.03.2011</span></p>\n<p><br c
 lass=spacer_ /></p>\n<p><span style=font-family: Arial\; font-size: x-
 small\;><br>\n </span></p>\n
URL:https://www.runningsocks.de/wordpress/terminkalender/eventsinglepa
 ge/?event_id=65&lang=de
ATTACH:https://www.runningsocks.de/wordpress/terminkalender/eventsingl
 epage/?event_id=65&lang=de
LOCATION:Grundschule an der Brucker Lache\, Zeißstraße 51\, Erlangen
END:VEVENT
END:VCALENDAR
