BEGIN:VCALENDAR
VERSION:2.0
METHOD:PUBLISH
PRODID:-//hacksw/handcal//NONSGML v1.0//EN
BEGIN:VEVENT
DTSTAMP:20260419T165349Z
DTSTART:20110410T064500Z
DTEND:20110410T140000Z
UID:20110410T064500Z-20110410T140000Z-66@www.runningsocks.de
SUMMARY:7. Obermain-Marathon
DESCRIPTION:Termin \n Sonntag\, 10. April 2011\n\nStart \n Bischof-von
 -Dinkel Straße Bad Staffelstein\n\nStartzeiten \n 8:30 Uhr - Nordic-Wa
 lking-Halbmarathon\n 8:45 Uhr - Halbmarathon\n 9:00 Uhr - Marathon\n 9
 :05 Uhr - Nordic-Walking-Kurzstrecke\n\nStartgebühren\n\nDie Startgebü
 hren werden per Bankeinzug erhoben.\n\nMarathon\, bis 30.03.2011: 30 E
 uro + 5 Euro\n Marathon\, Nachmeldung: 40 Euro + 5 Euro\n\nHalbmaratho
 n\, bis 30.03.2011: 15 Euro + 5 Euro\n Halbmarathon\, Nachmeldung: 20 
 Euro + 5 Euro\n\nNordic-Walking-Halbmarathon\, bis 30.03.2011: 15 Euro
  + 5 Euro\n Nordic-Walking-Halbmarathon\, Nachmeldung: 20 Euro + 5 Eur
 o\n\nNordic-Walking-Kurzstrecke\, bis 30.03.2011: 10 Euro + 5 Euro\n N
 ordic-Walking-Kurzstrecke\, Nachmeldung: 15 Euro + 5 Euro\n\nMit der S
 tartgebühr wird eine Leihgebühr von 5 Euro für den Chip abgebucht\, di
 e nach Rückgabe wieder ausbezahlt wird.\n\nVereins-/Gruppenrabatt\n\nB
 ei gleichzeitiger Meldung bis 30.03.2011 von mindestens 5 Teilnehmern 
 (gleiche Disziplin) für einen Verein oder eine Gruppe:\n\nMarathon: 25
  Euro + 5 Euro (pro Person)\n Halbmarathon: 13 Euro + 5 Euro (pro Pers
 on)\n\nNordic-Walking-Halbmarathon: 13 Euro + 5 Euro (pro Person)\n No
 rdic-Walking-Kurzstrecke: 8 Euro + 5 Euro (pro Person)\n\nDabei wird d
 ie Startgebühr für die  gesamte Gruppe von  einem Konto abgebucht.\n\n
 Weitere Info's und Onlineanmeldung auf der Seite des Veranstalters: De
 r Landschaftsmarathon
X-ALT-DESC;FMTTYPE=text/html:<p><span style=text-decoration: underline
 \;><strong><span>Termin </span></strong></span><br>\n Sonntag\, 10. Ap
 ril 2011</p>\n<p><span style=text-decoration: underline\;><strong><spa
 n>Start</span></strong></span> <br>\n Bischof-von-Dinkel Straße Bad St
 affelstein</p>\n<p><span style=text-decoration: underline\;><strong><s
 pan>Startzeiten</span></strong></span> <br>\n 8:30 Uhr &#8211\; Nordic
 -Walking-Halbmarathon<br>\n 8:45 Uhr &#8211\; Halbmarathon<br>\n 9:00 
 Uhr &#8211\; Marathon<br>\n 9:05 Uhr &#8211\; Nordic-Walking-Kurzstrec
 ke</p>\n<p><span style=text-decoration: underline\;><strong>Startgebüh
 ren</strong></span></p>\n<p>Die Startgebühren werden per Bankeinzug er
 hoben.</p>\n<p>Marathon\, bis 30.03.2011: 30 Euro + 5 Euro<br>\n Marat
 hon\, Nachmeldung: 40 Euro + 5 Euro</p>\n<p>Halbmarathon\, bis 30.03.2
 011: 15 Euro + 5 Euro<br>\n Halbmarathon\, Nachmeldung: 20 Euro + 5 Eu
 ro</p>\n<p>Nordic-Walking-Halbmarathon\, bis 30.03.2011: 15 Euro + 5 E
 uro<br>\n Nordic-Walking-Halbmarathon\, Nachmeldung: 20 Euro + 5 Euro<
 /p>\n<p>Nordic-Walking-Kurzstrecke\, bis 30.03.2011: 10 Euro + 5 Euro<
 br>\n Nordic-Walking-Kurzstrecke\, Nachmeldung: 15 Euro + 5 Euro</p>\n
 <p><span>Mit der Startgebühr wird eine Leihgebühr von 5 Euro für den C
 hip abgebucht\, die nach Rückgabe wieder ausbezahlt wird.</span></p>\n
 <p><span style=text-decoration: underline\;><strong>Vereins-/Gruppenra
 batt</strong></span></p>\n<p>Bei gleichzeitiger Meldung bis 30.03.2011
  von mindestens 5 Teilnehmern (gleiche Disziplin) für einen Verein ode
 r eine Gruppe:</p>\n<p>Marathon: 25 Euro + 5 Euro (pro Person)<br>\n H
 albmarathon: 13 Euro + 5 Euro (pro Person)</p>\n<p>Nordic-Walking-Halb
 marathon: 13 Euro + 5 Euro (pro Person)<br>\n Nordic-Walking-Kurzstrec
 ke: 8 Euro + 5 Euro (pro Person)</p>\n<p>Dabei wird die Startgebühr fü
 r die <span> gesamte Gruppe</span> von <span> einem Konto</span> abgeb
 ucht.</p>\n<p>Weitere Info&#8217\;s und Onlineanmeldung auf der Seite 
 des Veranstalters: <a href=http://www.obermain-marathon.de/index.php t
 arget=_blank>Der Landschaftsmarathon</a></p>\n
URL:https://www.runningsocks.de/wordpress/terminkalender/eventsinglepa
 ge/?event_id=66&lang=de
ATTACH:https://www.runningsocks.de/wordpress/terminkalender/eventsingl
 epage/?event_id=66&lang=de
LOCATION:Obermain Marathon / Bad Staffelstein\, Bischof-von-Dinkel-Str
 aße\, Bad Staffelstein
END:VEVENT
END:VCALENDAR
