BEGIN:VCALENDAR
VERSION:2.0
METHOD:PUBLISH
PRODID:-//hacksw/handcal//NONSGML v1.0//EN
BEGIN:VEVENT
DTSTAMP:20260419T165139Z
DTSTART:20101204T130000Z
DTEND:20101204T150000Z
UID:20101204T130000Z-20101204T150000Z-68@www.runningsocks.de
SUMMARY:8. Run & Bike Ungerthal
DESCRIPTION:Zwei Läufer teilen sich ein Fahrrad. Dabei darf der Abstan
 d zwischen dem  Läufer und dem Radfahrer niemals mehr als 10 Meter bet
 ragen. Das “Paar”  kann sich beliebig jederzeit abwechseln.\n\n\n\n\nS
 tart:\n14.00 Uhr\, Waldparkplatz im Ungerthal\n\n\nStrecke:\nWellige\,
  vom öffentlichen Verkehr\n geschlossene Waldwege\, ca. 17 km\n\n\nKla
 sseneinteilung:\nMänner\, Frauen und gemischte Paare\n\n\nOrganisation
 sbeitrag:\n15\,00€ pro Paar\n\n\nAnmeldung:\nHier klicken\n\n\nNachmel
 dung:\nVor Ort\, ab 13 Uhr\, 20\,00€ pro Paar\n\n\nSontiges:\nKuchenbu
 ffet und Getränke im\n Zielraum\, sowie ein Lagerfeuer.\n (leider kein
 e Duschmöglichkeiten)\n\n\nSiegerehrung:\nCa. 1/2 Std. nach dem letzte
 n\n Zieleinlauf\n\n\nOrganisation:\nfun-race.org
X-ALT-DESC;FMTTYPE=text/html:<p>Zwei Läufer teilen sich ein Fahrrad. D
 abei darf der Abstand zwischen dem  Läufer und dem Radfahrer niemals m
 ehr als 10 Meter betragen. Das “Paar”  kann sich beliebig jederzeit ab
 wechseln.</p>\n<table style=border: 1px solid #b0c4de\; width: 384px\;
  height: 236px\; border=1 frame=void rules=all align=center>\n<tbody>\
 n<tr><td><p><span style=font-size: small\;>Start:</span></p></td>\n<td
 ><p><span style=font-size: small\;>14.00 Uhr\, Waldparkplatz im Ungert
 hal</span></p></td></tr>\n<tr><td><p><span style=font-size: small\;>St
 recke:</span></p></td>\n<td><p><span style=font-size: small\;>Wellige\
 , vom öffentlichen Verkehr<br>\n geschlossene Waldwege\, ca. 17 km</sp
 an></p></td></tr>\n<tr><td><p><span style=font-size: small\;>Klassenei
 nteilung:</span></p></td>\n<td><p><span style=font-size: small\;>Männe
 r\, Frauen und gemischte Paare</span></p></td></tr>\n<tr><td><p><span 
 style=font-size: small\;>Organisationsbeitrag:</span></p></td>\n<td><p
 ><span style=font-size: small\;>15\,00€ pro Paar</span></p></td></tr>\
 n<tr><td><p><span style=font-size: small\;>Anmeldung:</span></p></td>\
 n<td><p><span style=font-size: small\;><a href=http://www.fun-race.org
 /termine-ausschreibungen/run-bike-2010/online-anmeldung/>Hier klicken<
 /a></span></p></td></tr>\n<tr><td><p><span style=font-size: small\;>Na
 chmeldung:</span></p></td>\n<td><p><span style=font-size: small\;>Vor 
 Ort\, ab 13 Uhr\, 20\,00€ pro Paar</span></p></td></tr>\n<tr><td><p><s
 pan style=font-size: small\;>Sontiges:</span></p></td>\n<td><p><span s
 tyle=font-size: small\;>Kuchenbuffet und Getränke im<br>\n Zielraum\, 
 sowie ein Lagerfeuer.<br>\n (leider keine Duschmöglichkeiten)</span></
 p></td></tr>\n<tr><td><p><span style=font-size: small\;>Siegerehrung:<
 /span></p></td>\n<td><p><span style=font-size: small\;>Ca. 1/2 Std. na
 ch dem letzten<br>\n Zieleinlauf</span></p></td></tr>\n<tr><td><p><spa
 n style=font-size: small\;>Organisation:</span></p></td>\n<td><p><a hr
 ef=http://www.fun-race.org/willkommen/ target=_blank><span style=font-
 size: small\;>fun-race.org</span></a></p></td></tr>\n</tbody>\n</table
 >\n
URL:https://www.runningsocks.de/wordpress/terminkalender/eventsinglepa
 ge/?event_id=68&lang=de
ATTACH:https://www.runningsocks.de/wordpress/terminkalender/eventsingl
 epage/?event_id=68&lang=de
LOCATION:Waldparkplatz im Ungerthal\, Ungerthaler Straße\, Büchenbach
END:VEVENT
END:VCALENDAR
