BEGIN:VCALENDAR
VERSION:2.0
METHOD:PUBLISH
PRODID:-//hacksw/handcal//NONSGML v1.0//EN
BEGIN:VEVENT
DTSTAMP:20260419T165736Z
DTSTART:20111112T100000Z
DTEND:20111112T160000Z
UID:20111112T100000Z-20111112T160000Z-69@www.runningsocks.de
SUMMARY:8. Zeiler Waldmarathon
DESCRIPTION:Die Herausforderung im Naturpark Haßberge \n\nTermin: Sams
 tag\, 12. November 2011\n\nOrt: Zeil am Main\n\nStart und Ziel: Setzba
 chbrunnen im Laufpark Zeil\n\nStreckenbeschreibung: Anspruchsvoller Ku
 rs durch den Naturpark Haßberge im Laufpark Zeil auf fast durchgehend 
 befestigten Waldwegen. Über den Schlossberg und die Bischofsheimer Höh
 e führt die Strecke Richtung Jägerhäuschen zum Geisgrabenbrunnen. Nach
  dem Passieren der „Sieben Seen“ und des Bischofsheimer Sees verläuft 
 die Strecke über den Fitnesspfad zurück zum Ziel am Setzbachbrunnen. E
 s gibt zwei Straßenüberquerungen auf der Halbmarathonstrecke. Es gilt 
 die Straßenverkehrsordnung. Den Anweisungen der Streckenposten ist Fol
 ge zu leisten.\n\nVerpflegungsstellen: Alle 5 km mit Mineralwasser\, T
 ee\, Isogetränk\, Göller-Max-Energydrink\, Cola\, Malzbier\, Bananen\,
  Müsliriegeln\, Cräcker\, Kuchen.\n\nHöhenmeter (HM): FLESSABANK-Marat
 hon 840 HM\, FRÄNKISCHE-Halbmarathon 420 HM\n\nStartgebühren: \n\nFLES
 SABANK-Marathon: 24 € \n\nHalbmarathon: 15 € \n\nWalking/Nordic Walkin
 g 21\,1 km: 11 € \n\nWalking/Nordic Walking 7\,5 km: 9 € \n\nStartnumm
 ernausgabe: Rudolf-Winkler-Haus\, Freitag\, von 20.00 bis 22.00 Uhr un
 d am Wettkampftag ab 7:30 Uhr. Die Startnummer muss während des Wettka
 mpfes gut sichtbar vorne am Oberkörper angebracht sein! Sicherheitsnad
 eln bitte selbst mitbringen.\n\nMeldeschluss: Sonntag\, 6. November 20
 11\, 24:00.\n\n\nStartzeiten:\n\n\n\n10:00\nFLESSABANK-Marathon\n42\,1
 95 km \n\n\n10:15\nWalking/Nordic Walking\n21\,1 km\n\n\n\n10:30\nWalk
 ing/Nordic Walking\n7\,5 km \n\n\n11:00\n\nFRÄNKISCHE-Halbmarathon\n21
 \,1 km\n\n\n\n \n\nPreise und Auszeichnungen:\n- FLESSABANK-Marathon:\
 nJeder Teilnehmer erhält im Ziel eine Medaille\, bei Abgabe der Startn
 ummer im Rudolf-Winkler-Haus eine Flasche Marathonwein und hat freien 
 Eintritt ins Zeiler Hallenbad. Die drei schnellsten Männer und Frauen 
 erhalten Sachpreise und Gutscheine\, ebenso alle Altersklassensieger (
 5-Jahreswertung).\n\n-FRÄNKISCHE-Halbmarathon:\nJeder Teilnehmer erhäl
 t im Ziel eine Medaille\, bei Abgabe der Startnummer im Rudolf-Winkler
 -Haus eine Flasche Marathonwein und hat freien Eintritt ins Zeiler Hal
 lenbad. Die drei schnellsten Männer und Frauen erhalten Sachpreise und
  Gutscheine\, ebenso alle Altersklassensieger (5-Jahreswertung).\n\n- 
 Walking/Nordic Walking:\nJeder Teilnehmer erhält im Ziel eine Medaille
 \, bei Abgabe der Startnummer im Rudolf-Winkler-Haus eine Flasche Mara
 thonwein und hat freien Eintritt ins Zeiler Hallenbad.\n\nTeamwertung 
 FLESSABANK-Marathon und Halbmarathon: Die fünf teilnehmerstärksten Gru
 ppen oder Vereine (Männer und Frauen)\, erhalten:\n1. 30 Liter Bier un
 d einen Schinken\n2. 25 Liter Bier und einen Schinken\n3. 20 Liter Bie
 r und einen Schinken\n4. 15 Liter Bier und fränkische Hausmacherwurst\
 n5. 10 Liter Bier und fränkische Hausmacherwurst\n\n\n \n\nWeitere Det
 ails\, Info's und Online Anmeldung beim Veranstalter: Zeiler Waldmarat
 hon
X-ALT-DESC;FMTTYPE=text/html:<p style=text-align: center\;><span style
 =font-size: large\;>Die Herausforderung im Naturpark Haßberge </span><
 /p>\n<p><span style=font-size: x-small\;><br>\n<span style=font-size: 
 small\;><strong>Termin:</strong> Samstag\, 12. November 2011</span></s
 pan></p>\n<p><span style=font-size: small\;><strong>Ort:</strong> Zeil
  am Main</span></p>\n<p><span style=font-size: small\;><strong>Start u
 nd Ziel:</strong> Setzbachbrunnen im Laufpark Zeil</span></p>\n<p><spa
 n style=font-size: small\;><strong>Streckenbeschreibung:</strong> Ansp
 ruchsvoller Kurs durch den Naturpark Haßberge im Laufpark Zeil auf fas
 t durchgehend befestigten Waldwegen. Über den Schlossberg und die Bisc
 hofsheimer Höhe führt die Strecke Richtung Jägerhäuschen zum Geisgrabe
 nbrunnen. Nach dem Passieren der „Sieben Seen“ und des Bischofsheimer 
 Sees verläuft die Strecke über den Fitnesspfad zurück zum Ziel am Setz
 bachbrunnen. Es gibt zwei Straßenüberquerungen auf der Halbmarathonstr
 ecke. Es gilt die Straßenverkehrsordnung. Den Anweisungen der Strecken
 posten ist Folge zu leisten.</span></p>\n<p><span style=font-size: sma
 ll\;><strong>Verpflegungsstellen:</strong> Alle 5 km mit Mineralwasser
 \, Tee\, Isogetränk\, Göller-Max-Energydrink\, Cola\, Malzbier\, Banan
 en\, Müsliriegeln\, Cräcker\, Kuchen.</span></p>\n<p><span style=font-
 size: small\;><strong>Höhenmeter (HM):</strong> FLESSABANK-Marathon 84
 0 HM\, FRÄNKISCHE-Halbmarathon 420 HM</span></p>\n<p><span style=font-
 size: small\;><strong>Startgebühren:</strong> </span></p>\n<p><span st
 yle=font-size: small\;>FLESSABANK-Marathon: <strong>24 €</strong> </sp
 an></p>\n<p><span style=font-size: small\;>Halbmarathon: <strong>15 €<
 /strong> </span></p>\n<p><span style=font-size: small\;>Walking/Nordic
  Walking 21\,1 km: <strong>11 € </strong></span></p>\n<p><span style=f
 ont-size: small\;>Walking/Nordic Walking 7\,5 km: <strong>9 € </strong
 ></span></p>\n<p><span style=font-size: small\;><strong>Startnummernau
 sgabe:</strong> Rudolf-Winkler-Haus\, Freitag\, von 20.00 bis 22.00 Uh
 r und am Wettkampftag ab 7:30 Uhr. Die Startnummer muss während des We
 ttkampfes gut sichtbar vorne am Oberkörper angebracht sein! Sicherheit
 snadeln bitte selbst mitbringen.</span></p>\n<p><span style=font-famil
 y: Verdana\,Arial\,Helvetica\,sans-serif\;><span style=font-size: x-sm
 all\;><strong>Meldeschluss:</strong> Sonntag\, 6. November 2011\, 24:0
 0.<br>\n</span></span></p>\n<p><span style=font-size: small\;><strong>
 Startzeiten:</strong></span></p>\n<table style=width: 404px\; height: 
 108px\; border=0>\n<tbody>\n<tr><td width=21%><span style=font-size: s
 mall\;>10:00</span></td>\n<td width=49%><span style=font-size: small\;
 >FLESSABANK-Marathon</span></td>\n<td width=30%><span style=font-size:
  small\;>42\,195 km </span></td></tr>\n<tr><td><span style=font-size: 
 small\;>10:15</span></td>\n<td><span style=font-size: small\;>Walking/
 Nordic Walking</span></td>\n<td><span style=font-size: small\;>21\,1 k
 m<br>\n</span></td></tr>\n<tr><td><span style=font-size: small\;>10:30
 </span></td>\n<td><span style=font-size: small\;>Walking/Nordic Walkin
 g</span></td>\n<td><span style=font-size: small\;>7\,5 km </span></td>
 </tr>\n<tr><td><span style=font-size: small\;>11:00<br>\n</span></td>\
 n<td><span style=font-size: small\;>FRÄNKISCHE-Halbmarathon</span></td
 >\n<td><span style=font-size: small\;>21\,1 km</span></td></tr>\n</tbo
 dy>\n</table>\n<p>&nbsp\;</p>\n<p><span style=font-size: small\;><stro
 ng>Preise und Auszeichnungen:<br>\n</strong>&#8211\; FLESSABANK-Marath
 on:<br>\nJeder Teilnehmer erhält im Ziel eine Medaille\, bei Abgabe de
 r Startnummer im Rudolf-Winkler-Haus eine Flasche Marathonwein und hat
  freien Eintritt ins Zeiler Hallenbad. Die drei schnellsten Männer und
  Frauen erhalten Sachpreise und Gutscheine\, ebenso alle Altersklassen
 sieger (5-Jahreswertung).</span></p>\n<p><span style=font-size: small\
 ;>-FRÄNKISCHE-Halbmarathon:<br>\nJeder Teilnehmer erhält im Ziel eine 
 Medaille\, bei Abgabe der Startnummer im Rudolf-Winkler-Haus eine Flas
 che Marathonwein und hat freien Eintritt ins Zeiler Hallenbad. Die dre
 i schnellsten Männer und Frauen erhalten Sachpreise und Gutscheine\, e
 benso alle Altersklassensieger (5-Jahreswertung).</span></p>\n<p><span
  style=font-size: small\;>&#8211\; Walking/Nordic Walking:<br>\nJeder 
 Teilnehmer erhält im Ziel eine Medaille\, bei Abgabe der Startnummer i
 m Rudolf-Winkler-Haus eine Flasche Marathonwein und hat freien Eintrit
 t ins Zeiler Hallenbad.</span></p>\n<p><span style=font-size: small\;>
 <strong>Teamwertung </strong><strong>FLESSABANK-</strong><strong>Marat
 hon und Halbmarathon: </strong>Die fünf teilnehmerstärksten Gruppen od
 er Vereine (Männer und Frauen)\, erhalten:<br>\n1. 30 Liter Bier und e
 inen Schinken<br>\n2. 25 Liter Bier und einen Schinken<br>\n3. 20 Lite
 r Bier und einen Schinken<br>\n4. 15 Liter Bier und fränkische Hausmac
 herwurst<br>\n5. 10 Liter Bier und fränkische Hausmacherwurst<br>\n</s
 pan><br>\n<br>\n&nbsp\;</p>\n<p><span style=font-size: small\;>Weitere
  Details\, Info&#8217\;s und Online Anmeldung beim Veranstalter: <a hr
 ef=http://www.zeiler-waldmarathon.de/ target=_blank>Zeiler Waldmaratho
 n</a><br>\n</span></p>\n
URL:https://www.runningsocks.de/wordpress/terminkalender/eventsinglepa
 ge/?event_id=69&lang=de
ATTACH:https://www.runningsocks.de/wordpress/terminkalender/eventsingl
 epage/?event_id=69&lang=de
LOCATION:Setzbachbrunnen im Laufpark Zeil\, Setzbachstraße\, Zeil am M
 ain
END:VEVENT
END:VCALENDAR
