BEGIN:VCALENDAR
VERSION:2.0
METHOD:PUBLISH
PRODID:-//hacksw/handcal//NONSGML v1.0//EN
BEGIN:VEVENT
DTSTAMP:20260419T165312Z
DTSTART:20101127T123000Z
DTEND:20101127T143000Z
UID:20101127T123000Z-20101127T143000Z-70@www.runningsocks.de
SUMMARY:1. Advent-Biathlon
DESCRIPTION:Am 27.11.2010 erblickt ein Fun-Sportevent der ganz besonde
 ren Art das  Licht der Welt. In der winterlichen Umgebung des wundersc
 hönen\,  abgelegenen Ungerthals (Sitz des Hubert-Schwarz-Zentrums) erl
 eben Sie  gemeinsam mit Ihren Partnern\, Kollegen einen Biathlon den S
 ie nie mehr  vergessen werden. Im weihnachtlichen Ambienté wird der Un
 gerthaler  Advent-Biathlon im Jahre 2010 das erste Mal ausgetragen. Di
 e Erlöse  durch Startgelder fließen zu 100 Prozent in das Projekt „Men
 schen bewegen“.\n\nAusschreibung: [filebase:file:file=62]\n\nWeitere I
 nfo's sowie Anmeldung beim Veranstalter: Hubert Schwarz\, Power of Min
 d
X-ALT-DESC;FMTTYPE=text/html:<p>Am 27.11.2010 erblickt ein Fun-Sportev
 ent der ganz besonderen Art das  Licht der Welt. In der winterlichen U
 mgebung des wunderschönen\,  abgelegenen Ungerthals (Sitz des Hubert-S
 chwarz-Zentrums) erleben Sie  gemeinsam mit Ihren Partnern\, Kollegen 
 einen Biathlon den Sie nie mehr  vergessen werden. Im weihnachtlichen 
 Ambienté wird der Ungerthaler  Advent-Biathlon im Jahre 2010 das erste
  Mal ausgetragen. Die Erlöse  durch Startgelder fließen zu 100 Prozent
  in das Projekt <a title=Opens internal link in current window href=ht
 tp://www.hubert-schwarz.com/menschen-bewegen/>„Menschen bewegen“</a>.<
 /p>\n<p>Ausschreibung: [filebase:file:file=62]<br class=spacer_ /></p>
 \n<p>Weitere Info&#8217\;s sowie Anmeldung beim Veranstalter: <a href=
 http://www.hubert-schwarz.com/event/advent-biathlon/ target=_blank>Hub
 ert Schwarz\, Power of Mind</a></p>\n
URL:https://www.runningsocks.de/wordpress/terminkalender/eventsinglepa
 ge/?event_id=70&lang=de
ATTACH:https://www.runningsocks.de/wordpress/terminkalender/eventsingl
 epage/?event_id=70&lang=de
LOCATION:Hubert Schwarz Zentrum\, Ungerthal 2 1/2\, Büchenbach
END:VEVENT
END:VCALENDAR
