BEGIN:VCALENDAR
VERSION:2.0
METHOD:PUBLISH
PRODID:-//hacksw/handcal//NONSGML v1.0//EN
BEGIN:VEVENT
DTSTAMP:20260419T165211Z
DTSTART:20110728T173000Z
DTEND:20110728T183000Z
UID:20110728T173000Z-20110728T183000Z-71@www.runningsocks.de
SUMMARY:B2RUN Nürnberg\, dt. Firmenlaufmeisterschaft
DESCRIPTION:Deutschlands schönster Firmenlauf\, der B2RUN\, macht am 2
 8. Juli 2011  das erste Mal Halt in Nürnberg. Die rund 6 km lange Stre
 cke führt um  den Dutzenteich - belohnt werden die Läufer mit dem einz
 igartigen Zieleinlauf in das easyCredit-Stadion.  Dabei sein kann jede
 r\, von der ICH-AG bis zum DAX-Konzern\, vom Vorstand  bis zum Azubi. 
 Auch 2011 geht wieder ein Teil der Startgebühren an ein  regionales Ch
 arity-Projekt.\n\nWeitere Info und Online Anmeldung auf der Seite des 
 Veranstalters: B2RUN\n\nB2RUN Broschüre 2011 zum Download:\n\n[wpfileb
 ase tag='list' id='60']\n\nOnline Version:\n\n \n \nOpen publication -
  Free publishing - More teamwork
X-ALT-DESC;FMTTYPE=text/html:<p>Deutschlands schönster Firmenlauf\, de
 r B2RUN\, macht am 28. Juli 2011  das erste Mal Halt in Nürnberg. Die 
 rund 6 km lange Strecke führt um  den Dutzenteich &#8211\; belohnt wer
 den die Läufer mit dem einzigartigen Zieleinlauf in das easyCredit-Sta
 dion.  Dabei sein kann jeder\, von der ICH-AG bis zum DAX-Konzern\, vo
 m Vorstand  bis zum Azubi. Auch 2011 geht wieder ein Teil der Startgeb
 ühren an ein  regionales Charity-Projekt.</p>\n<p>Weitere Info und Onl
 ine Anmeldung auf der Seite des Veranstalters: <a href=http://www.b2ru
 n.de/index.php target=_blank>B2RUN</a></p>\n<p>B2RUN Broschüre 2011 zu
 m Download:</p>\n<p>[wpfilebase tag=&#8217\;list&#8216\; id=&#8217\;60
 &#8216\;]</p>\n<p>Online Version:</p>\n<p><code> </code></p>\n<div><ob
 ject style=width: 420px\; height: 297px\; classid=clsid:d27cdb6e-ae6d-
 11cf-96b8-444553540000 width=100 height=100 codebase=http://download.m
 acromedia.com/pub/shockwave/cabs/flash/swflash.cab#version=6\,0\,40\,0
 ><param name=allowfullscreen value=true /><param name=menu value=false
  /><param name=src value=http://static.issuu.com/webembed/viewers/styl
 e1/v1/IssuuViewer.swf?mode=embed&amp\;layout=http%3A%2F%2Fskin.issuu.c
 om%2Fv%2Flight%2Flayout.xml&amp\;showFlipBtn=true&amp\;documentId=1011
 17132752-2b7c6274ba234af5bf82d3eda172f52f&amp\;docName=b2run_broschuer
 e_2011&amp\;username=B2RUN&amp\;loadingInfoText=B2RUN%20Brosch%C3%BCre
 %202011&amp\;et=1291624341399&amp\;er=8 /><param name=flashvars value=
 mode=embed&amp\;layout=http%3A%2F%2Fskin.issuu.com%2Fv%2Flight%2Flayou
 t.xml&amp\;showFlipBtn=true&amp\;documentId=101117132752-2b7c6274ba234
 af5bf82d3eda172f52f&amp\;docName=b2run_broschuere_2011&amp\;username=B
 2RUN&amp\;loadingInfoText=B2RUN%20Brosch%C3%BCre%202011&amp\;et=129162
 4341399&amp\;er=8 /><embed style=width: 420px\; height: 297px\; type=a
 pplication/x-shockwave-flash width=100 height=100 src=http://static.is
 suu.com/webembed/viewers/style1/v1/IssuuViewer.swf?mode=embed&amp\;lay
 out=http%3A%2F%2Fskin.issuu.com%2Fv%2Flight%2Flayout.xml&amp\;showFlip
 Btn=true&amp\;documentId=101117132752-2b7c6274ba234af5bf82d3eda172f52f
 &amp\;docName=b2run_broschuere_2011&amp\;username=B2RUN&amp\;loadingIn
 foText=B2RUN%20Brosch%C3%BCre%202011&amp\;et=1291624341399&amp\;er=8 f
 lashvars=mode=embed&amp\;layout=http%3A%2F%2Fskin.issuu.com%2Fv%2Fligh
 t%2Flayout.xml&amp\;showFlipBtn=true&amp\;documentId=101117132752-2b7c
 6274ba234af5bf82d3eda172f52f&amp\;docName=b2run_broschuere_2011&amp\;u
 sername=B2RUN&amp\;loadingInfoText=B2RUN%20Brosch%C3%BCre%202011&amp\;
 et=1291624341399&amp\;er=8 menu=false allowfullscreen=true></embed></o
 bject>&nbsp\;</p>\n<div style=width: 420px\; text-align: left\;><a hre
 f=http://issuu.com/B2RUN/docs/b2run_broschuere_2011?mode=embed&amp\;la
 yout=http%3A%2F%2Fskin.issuu.com%2Fv%2Flight%2Flayout.xml&amp\;showFli
 pBtn=true target=_blank>Open publication</a> &#8211\; Free <a href=htt
 p://issuu.com target=_blank>publishing</a> &#8211\; <a href=http://iss
 uu.com/search?q=teamwork target=_blank>More teamwork</a></div>\n</div>
 \n
URL:https://www.runningsocks.de/wordpress/terminkalender/eventsinglepa
 ge/?event_id=71&lang=de
ATTACH:https://www.runningsocks.de/wordpress/terminkalender/eventsingl
 epage/?event_id=71&lang=de
LOCATION:Dutzendteich\, Zeppelinstraße\, Nürnberg
END:VEVENT
END:VCALENDAR
