BEGIN:VCALENDAR
VERSION:2.0
METHOD:PUBLISH
PRODID:-//hacksw/handcal//NONSGML v1.0//EN
BEGIN:VEVENT
DTSTAMP:20260419T165314Z
DTSTART:20110417T070000Z
DTEND:20110417T100000Z
UID:20110417T070000Z-20110417T100000Z-72@www.runningsocks.de
SUMMARY:1. IFB HiRo Run 21.1
DESCRIPTION:Ein zauberhafter Halbmarathon - von Hilpoltstein über den 
 Main-Donau-Kanal zum Rothsee und wieder zurück.\n\nInfos:\n\n\n\nAussc
 hreibung:\nIFB HiRo Run 21.1\n\n\nTermin:\nSonntag\, 17.04.2011\n\n\nV
 eranstalter:\nLa Carrera TriTeam Rothsee 09 e.V.\n\n\nStartzeit:\n9:00
  Uhr\n\n\nZielschluss:\n12:00 Uhr\n\n\nStart / Ziel:\nInnenstadt von H
 ilpoltstein - Marktstraße\n\n\nGrußworte:\nBürgermeister Markus Mahl\n
 \n\n\nLandrat Herbert Eckstein\n\n\n\nLeichathletik Kreisvorsitzenden 
 Ralph Edelhäußer\n\n\nTeilnahme:\nTeilnahmeberechtigt am Halbmarathon 
 sind nur die Jahrgänge ab 1995 (16 Jahre und älter). Startberechtigt s
 ind mit der offiziellen Startnummer alle\, die trainiert haben und geg
 en deren Teilnahme keine ärztlichen Bedenken bestehen. Eine Vereinszug
 ehörigkeit ist nicht erforderlich.\n\n\nTeilnehmerlimit:\n500 Starter\
 n\n\nMeldeschluss:\nEntweder wenn das Teilnehmerlimit erreicht ist ode
 r der 12.04.2011\n\n\nMeldegebühr:\nbis 31. November 2010:\n19 Euro\n\
 n\n\nvon 01.12.2010 bis 31.01.2011:\n22 Euro\n\n\n\nvon 01.02.2011 bis
  12.04.2011:\n25 Euro *\n\n\n\nNachmeldungen\n29 Euro * \n\n \n\n* = k
 eine Funktionsshirt Bestellung mehr möglich\n\n\n\nEs wird bei Nichtst
 art keine Meldegebühr zurückerstattet!\n\n\nFunktionsshirt\nJeder Teil
 nehmer erhält für den Aufpreis von nur 3 Euro (Angabe bei Anmeldung) b
 eim Start ein HiRo Run Funktionsshirt\n\n\nStartnummern-ausgabe\nStadt
 halle Hilpoltstein \n\n \n\nDort befindet sich auch der Hauptparkplatz
  und Duschen - 600m Fußweg zum Start in die Stadt einplanen!\n\n\nZugl
 äufer\nEs gibt sogenannte Zug- oder Luftballon Läufer für 1:30 Stunden
 \, 1:45 Stunden\, 2:00 Stunden und 2:15 Stunden Zielzeit\n\n\nZeitmess
 ung\nErfolg über Champion Chip - Hinweis dazu hier\n\n\nVerpflegung\nE
 s werden Versorgungsstellen mit Wasser und Mineraldrinks aufgebaut\n\n
 \nUmkleidung und Duschen\nStadthalle Hilpoltstein\n\n\nOrganisations-l
 eitung:\nIna Schuhmann\, Jennifer Bürner und Ralf Schuhmann\n\n\nInter
 net mit Ausschreibung\, Meldung und Ergebnissen:\n http://www.lacarrer
 a-triteam.de/HiRoRun/\n\n\nWertungen:\nEine Klassenteilung erfolgt in 
 nachstehenden Schritten: 16-19\, 20-29\, 30-34\, 35-39\, 40-44\, 45-49
 \, 50-54\, 55-59\, 60-64\, 65-69\, 70 Jahre und älter. Maßgebend für d
 ie Einteilung in die Altersklassen ist das Geburtsjahr. \n\n \n\nFraue
 n und Männer werden lt. Leichtathletikordnung (LAO) des DLV getrennt v
 oneinander gewertet.\n\n\nZeitplan:\nSamstag\, 16.04.2011\n\n\n\n\n\n\
 n	Startnummernausgabe\n\n\nOrt und Zeit wird noch bekannt gegeben\n\n\
 n\nSonntag\, 17.04.2010\n\n\n\n\n\n\n	Startnummernausgabe\n\n\n7:00 - 
 8:45 Uhr Stadthalle Hilpoltstein\n\n\n\n\n\n	Start Halbmarathon\n\n\n0
 9:00 Uhr - Marktstr.\n\n\n\n\n\n	Zielschluss\n\n\n12:00 Uhr - Marktstr
 .\n\n\n\n\n\n	Siegerehrung\n\n\nca. 12:15 Uhr - Marktstr. ggf. Stadtha
 lle\n\n\nHaftung:\nDie Teilnahme erfolgt auf eigenes Risiko. Der Veran
 stalter übernimmt keine Haftung bei Unfällen auf der Strecke und gegen
  Dritte.\n\n\nHinweis zur Zeitmessung\nDie Zeitmessung erfolgt ausschl
 ießlich mit dem RealTime ChampionChip von Mika timing.\nEine Teilnahme
  ist nur mit einem ChampionChip möglich – ohne Chip kein Start! \n\n \
 n\nIhr könnt Euren eigenen Chip verwenden oder diesen für den Veransta
 ltungstag mieten.\n\nAthleten\, die noch nicht im Besitz eines eigenen
  Chips sind\, können diesen bei der Veranstaltung gegen ein Pfand von 
 28 € pro ChampionChip ausleihen. Bei Rückgabe des Chips am Wettkampfta
 g werden 25 € pro Chip erstattet.\n\nBitte befestigt Euren ChampionChi
 p sicher in der Schnürung Eures Schuhs\, um die Zeitmessung zu gewährl
 eisten.\n\n\nDisqualifikation:\nUnsere Veranstaltung wird nach den Ric
 htlinien des DLV bzw. nach Vorgabe des Veranstalters ausgerichtet.\nEi
 n Verletzen führt unweigerlich zu einer Disqualifikation\, hierzu zähl
 en insbesondere: \n\n \n\n	der Start ohne Startnummer\n	das Unkenntlic
 hmachen\, Abdecken oder Entfernen der Sponsorenlogos etc. an der Start
 nummer.\n	der Start ohne RealTime ChampionChip\n	die Überschreitung de
 s vorgegebenen Zeitlimits\n	das Verlassen und/oder Abkürzen der Streck
 e\n	die Unterschreitung des vorgegebenen Alters\n\nBabyjogger dürfen m
 itgeführt werden\, bitte beim Start jedoch hinter dem Starterfeld eino
 rdnen. Das selbe gilt auch für Nordic Walker mit Stecken - ACHTUNG Zei
 tlimit von 3 Stunden beachten.\n\n\n\nAlle weiteren\, aktuellen Infos 
 auf der Seite des Veranstalters:  La Carrera TriTeam Rothsee 09 e.V.
X-ALT-DESC;FMTTYPE=text/html:<p>Ein zauberhafter Halbmarathon &#8211\;
  von Hilpoltstein über den Main-Donau-Kanal zum Rothsee und wieder zur
 ück.</p>\n<p><span style=text-decoration: underline\;><strong>Infos:</
 strong></span></p>\n<table id=table4 style=width: 700px\; border=1>\n<
 tbody>\n<tr><td align=left valign=top width=150><strong>Ausschreibung:
 </strong></td>\n<td colspan=2 align=left valign=top width=650><strong>
 IFB HiRo Run 21.1</strong></td></tr>\n<tr><td align=left valign=top wi
 dth=150><strong>Termin:</strong></td>\n<td colspan=2 align=left valign
 =top width=650><strong>Sonntag\, 17.04.2011</strong></td></tr>\n<tr><t
 d align=left valign=top width=150>Veranstalter:</td>\n<td colspan=2 al
 ign=left valign=top width=650><a href=http://www.lacarrera-triteam.de/
  target=_blank>La Carrera TriTeam Rothsee 09 e.V.</a></td></tr>\n<tr><
 td align=left valign=top width=150>Startzeit:</td>\n<td colspan=2 alig
 n=left valign=top width=650>9:00 Uhr</td></tr>\n<tr><td align=left val
 ign=top width=150>Zielschluss:</td>\n<td colspan=2 align=left valign=t
 op width=650>12:00 Uhr</td></tr>\n<tr><td align=left valign=top width=
 150>Start / Ziel:</td>\n<td colspan=2 align=left valign=top width=650>
 Innenstadt von Hilpoltstein &#8211\; Marktstraße</td></tr>\n<tr><td al
 ign=left valign=top width=150>Grußworte:</td>\n<td colspan=2 align=lef
 t valign=top width=600><a href=http://www.lacarrera-triteam.de/HiRoRun
 /mahl.pdf target=_blank>Bürgermeister Markus Mahl</a></td></tr>\n<tr><
 td align=left valign=top width=150></td>\n<td colspan=2 align=left val
 ign=top width=650><a href=http://www.lacarrera-triteam.de/HiRoRun/ecks
 tein.pdf target=_blank>Landrat Herbert Eckstein</a></td></tr>\n<tr><td
  align=left valign=top width=150></td>\n<td colspan=2 align=left valig
 n=top width=650><a href=http://www.lacarrera-triteam.de/HiRoRun/edelha
 eusser.pdf target=_blank>Leichathletik Kreisvorsitzenden Ralph Edelhäu
 ßer</a></td></tr>\n<tr><td align=left valign=top width=150>Teilnahme:<
 /td>\n<td colspan=2 align=left valign=top width=650>Teilnahmeberechtig
 t am Halbmarathon sind nur die Jahrgänge ab 1995 (16 Jahre und älter).
  Startberechtigt sind mit der offiziellen Startnummer alle\, die train
 iert haben und gegen deren Teilnahme keine ärztlichen Bedenken bestehe
 n. Eine Vereinszugehörigkeit ist nicht erforderlich.</td></tr>\n<tr><t
 d align=left valign=top width=150>Teilnehmerlimit:</td>\n<td colspan=2
  align=left valign=top width=650>500 Starter</td></tr>\n<tr><td align=
 left valign=top width=150>Meldeschluss:</td>\n<td colspan=2 align=left
  valign=top width=650>Entweder wenn das Teilnehmerlimit erreicht ist o
 der der 12.04.2011</td></tr>\n<tr><td align=left valign=top width=150>
 Meldegebühr:</td>\n<td align=left valign=top width=325>bis 31. Novembe
 r 2010:</td>\n<td align=left valign=top width=325>19 Euro</td></tr>\n<
 tr><td align=left valign=top width=150></td>\n<td align=left valign=to
 p width=325>von 01.12.2010 bis 31.01.2011:</td>\n<td align=left valign
 =top width=325>22 Euro</td></tr>\n<tr><td align=left valign=top width=
 150></td>\n<td align=left valign=top width=325>von 01.02.2011 bis 12.0
 4.2011:</td>\n<td align=left valign=top width=325>25 Euro *</td></tr>\
 n<tr><td align=left valign=top width=150></td>\n<td align=left valign=
 top width=325>Nachmeldungen</td>\n<td align=left valign=top width=325>
 29 Euro *&nbsp\;</p>\n<p>&nbsp\;</p>\n<p>* = keine Funktionsshirt Best
 ellung mehr möglich</td></tr>\n<tr><td align=left valign=top width=150
 ></td>\n<td colspan=2 align=left valign=top width=650>Es wird bei Nich
 tstart keine Meldegebühr zurückerstattet!</td></tr>\n<tr><td align=lef
 t valign=top width=150>Funktionsshirt</td>\n<td colspan=2 align=left v
 align=top width=650>Jeder Teilnehmer erhält für den Aufpreis von nur 3
  Euro (Angabe bei Anmeldung) beim Start ein <strong>HiRo Run Funktions
 shirt</strong></td></tr>\n<tr><td align=left valign=top width=150>Star
 tnummern-ausgabe</td>\n<td colspan=2 align=left valign=top width=650>S
 tadthalle Hilpoltstein&nbsp\;</p>\n<p>&nbsp\;</p>\n<p>Dort befindet si
 ch auch der Hauptparkplatz und Duschen &#8211\; 600m Fußweg zum Start 
 in die Stadt einplanen!</td></tr>\n<tr><td align=left valign=top width
 =150>Zugläufer</td>\n<td colspan=2 align=left valign=top width=650>Es 
 gibt sogenannte Zug- oder Luftballon Läufer für 1:30 Stunden\, 1:45 St
 unden\, 2:00 Stunden und 2:15 Stunden Zielzeit</td></tr>\n<tr><td alig
 n=left valign=top width=150>Zeitmessung</td>\n<td colspan=2 align=left
  valign=top width=650>Erfolg über Champion Chip &#8211\; <a href=http:
 //www.lacarrera-triteam.de/HiRoRun/ausschr.htm#chip0>Hinweis dazu hier
 </a></td></tr>\n<tr><td align=left valign=top width=150>Verpflegung</t
 d>\n<td colspan=2 align=left valign=top width=650>Es werden Versorgung
 sstellen mit Wasser und Mineraldrinks aufgebaut</td></tr>\n<tr><td ali
 gn=left valign=top width=150>Umkleidung und Duschen</td>\n<td colspan=
 2 align=left valign=top width=650>Stadthalle Hilpoltstein</td></tr>\n<
 tr><td align=left valign=top width=150>Organisations-leitung:</td>\n<t
 d colspan=2 align=left valign=top width=650>Ina Schuhmann\, Jennifer B
 ürner und Ralf Schuhmann</td></tr>\n<tr><td align=left valign=top widt
 h=150>Internet mit Ausschreibung\, Meldung und Ergebnissen:</td>\n<td 
 colspan=2 align=left valign=top width=650><a href=http://www.lacarrera
 -triteam.de/HiRoRun/> http://www.lacarrera-triteam.de/HiRoRun/</a></td
 ></tr>\n<tr><td align=left valign=top width=150>Wertungen:</td>\n<td c
 olspan=2 align=left valign=top width=650>Eine Klassenteilung erfolgt i
 n nachstehenden Schritten: 16-19\, 20-29\, 30-34\, 35-39\, 40-44\, 45-
 49\, 50-54\, 55-59\, 60-64\, 65-69\, 70 Jahre und älter. Maßgebend für
  die Einteilung in die Altersklassen ist das Geburtsjahr.&nbsp\;</p>\n
 <p>&nbsp\;</p>\n<p>Frauen und Männer werden lt. Leichtathletikordnung 
 (LAO) des DLV getrennt voneinander gewertet.</td></tr>\n<tr><td align=
 left valign=top width=150>Zeitplan:</td>\n<td align=left valign=top wi
 dth=325>Samstag\, 16.04.2011</td>\n<td align=left valign=top width=325
 ></td></tr>\n<tr><td align=left valign=top width=150></td>\n<td align=
 left valign=top width=325><ul>\n<li>Startnummernausgabe</li>\n</ul></t
 d>\n<td align=left valign=top width=325><span style=color: #808080\;>O
 rt und Zeit wird noch bekannt gegeben</span></td></tr>\n<tr><td align=
 left valign=top width=150></td>\n<td align=left valign=top width=325>S
 onntag\, 17.04.2010</td>\n<td align=left valign=top width=325></td></t
 r>\n<tr><td align=left valign=top width=150></td>\n<td align=left vali
 gn=top width=325><ul>\n<li>Startnummernausgabe</li>\n</ul></td>\n<td a
 lign=left valign=top width=325>7:00 &#8211\; 8:45 Uhr Stadthalle Hilpo
 ltstein</td></tr>\n<tr><td align=left valign=top width=150></td>\n<td 
 align=left valign=top width=325><ul>\n<li>Start Halbmarathon</li>\n</u
 l></td>\n<td align=left valign=top width=325>09:00 Uhr &#8211\; Markts
 tr.</td></tr>\n<tr><td align=left valign=top width=150></td>\n<td alig
 n=left valign=top width=325><ul>\n<li>Zielschluss</li>\n</ul></td>\n<t
 d align=left valign=top width=325>12:00 Uhr &#8211\; Marktstr.</td></t
 r>\n<tr><td align=left valign=top width=150></td>\n<td align=left vali
 gn=top width=325><ul>\n<li>Siegerehrung</li>\n</ul></td>\n<td align=le
 ft valign=top width=325>ca. 12:15 Uhr &#8211\; Marktstr. ggf. Stadthal
 le</td></tr>\n<tr><td align=left valign=top width=150>Haftung:</td>\n<
 td colspan=2 align=left valign=top width=650>Die Teilnahme erfolgt auf
  eigenes Risiko. Der Veranstalter übernimmt keine Haftung bei Unfällen
  auf der Strecke und gegen Dritte.</td></tr>\n<tr><td align=left valig
 n=top width=150><a name=chip0></a>Hinweis zur Zeitmessung</td>\n<td co
 lspan=2 align=left valign=top width=650>Die Zeitmessung erfolgt aussch
 ließlich mit dem RealTime ChampionChip von <a href=http://www.mikatimi
 ng.de/ target=_blank>Mika timing</a>.<br>\nEine Teilnahme ist nur mit 
 einem ChampionChip möglich – ohne Chip kein Start!&nbsp\;</p>\n<p>&nbs
 p\;</p>\n<p>Ihr könnt Euren eigenen Chip verwenden oder diesen für den
  Veranstaltungstag mieten.</p>\n<p>Athleten\, die noch nicht im Besitz
  eines eigenen Chips sind\, können diesen bei der Veranstaltung gegen 
 ein Pfand von 28 € pro ChampionChip ausleihen. Bei Rückgabe des Chips 
 am Wettkampftag werden 25 € pro Chip erstattet.</p>\n<p>Bitte befestig
 t Euren ChampionChip sicher in der Schnürung Eures Schuhs\, um die Zei
 tmessung zu gewährleisten.</td></tr>\n<tr><td align=left valign=top wi
 dth=150>Disqualifikation:</td>\n<td colspan=2 align=left valign=top wi
 dth=650>Unsere Veranstaltung wird nach den Richtlinien des DLV bzw. na
 ch Vorgabe des Veranstalters ausgerichtet.<br>\nEin Verletzen führt un
 weigerlich zu einer Disqualifikation\, hierzu zählen insbesondere:&nbs
 p\;</p>\n<p>&nbsp\;</p>\n<ul>\n<li>der Start ohne Startnummer</li>\n<l
 i>das Unkenntlichmachen\, Abdecken oder Entfernen der Sponsorenlogos e
 tc. an der Startnummer.</li>\n<li>der Start ohne RealTime ChampionChip
 </li>\n<li>die Überschreitung des vorgegebenen Zeitlimits</li>\n<li>da
 s Verlassen und/oder Abkürzen der Strecke</li>\n<li>die Unterschreitun
 g des vorgegebenen Alters</li>\n</ul>\n<p>Babyjogger dürfen mitgeführt
  werden\, bitte beim Start jedoch hinter dem Starterfeld einordnen. Da
 s selbe gilt auch für Nordic Walker mit Stecken &#8211\; ACHTUNG Zeitl
 imit von 3 Stunden beachten.</td></tr>\n</tbody>\n</table>\n<p><strong
 >Alle weiteren\, aktuellen Infos auf der Seite des Veranstalters:  <a 
 href=http://www.lacarrera-triteam.de/ target=_blank>La Carrera TriTeam
  Rothsee 09 e.V.</a></strong></p>\n
URL:https://www.runningsocks.de/wordpress/terminkalender/eventsinglepa
 ge/?event_id=72&lang=de
ATTACH:https://www.runningsocks.de/wordpress/terminkalender/eventsingl
 epage/?event_id=72&lang=de
LOCATION:Marktstrasse Hilpoltstein\, Marktstrasse 16\, Hilpoltstein
END:VEVENT
END:VCALENDAR
