BEGIN:VCALENDAR
VERSION:2.0
METHOD:PUBLISH
PRODID:-//hacksw/handcal//NONSGML v1.0//EN
BEGIN:VEVENT
DTSTAMP:20260419T165140Z
DTSTART:20110409T073000Z
DTEND:20110409T100000Z
UID:20110409T073000Z-20110409T100000Z-73@www.runningsocks.de
SUMMARY:2. Run & Bike Nürnberg
DESCRIPTION:Auf geht's zum 2. Run & Bike am Tiergarten.\n\nZwei Läufer
  teilen sich ein Fahrrad. Dabei darf der Abstand zwischen dem  Läufer 
 und dem Radfahrer niemals mehr als 10 Meter betragen. Das “Paar”  kann
  sich beliebig jederzeit abwechseln.\n\nGestartet wird als gemeinsam u
 m 10Uhr am Tiergarten Nürnberg. Jedes Team  besteht aus zwei Teilnehme
 rn. Anfangs absolviert jeder Teilnehmer eine  400 Meter lange Laufstre
 cke und schlägt anschließend seinen  Teamkameraden ab der dann dieselb
 e Strecke läuft. Sobald der zweite  (eine Bitte an alle Frauen\, fühlt
  euch nicht vernachlässigt wenn wir  jetzt mal nur die männliche Anred
 e benutzen) wieder da ist\, wartet sein  Partner schon auf dem Mountai
 n- oder Crossbike auf ihn. Gemeinsam legen  beide dann los und begeben
  sich auf die Rennstrecke. Dabei geht es zu  zweit auf Wanderwegen und
  kleineren Pfaden durch den Wald.\n\nJedes  Team darf nur ein Rad benu
 tzen\, d.h. dass jeweils einer läuft während  der andere sich auf dem 
 Rad erholt und nebenher fährt. Beide dürfen nur  maximal 10 Meter entf
 ernt voneinander sein. Die Sache hat natürlich noch  einen Haken! Am s
 chnellsten absolviert man den Parkours nämlich indem  sich beide mit d
 em Laufen abwechseln.\n\nDie Teams absolvieren dabei  zwei Runden (17k
 m) auf der normalen Distanz und auf der  Schnupperdistanz für Anfänger
  nur eine Runde (8\,5km). Gleichzeitig gibt  es auch noch mixed Staffe
 ln und reine Frauen-Staffeln\, wenn ihr also  zusammen mit eurer Freun
 din oder Freund an den Start gehen wollt\, kein  Problem.\n\nBei allen
  Wettkampf steht natürlich zuallererst der Spaß  im Vordergrund und di
 e schöne Zeit die wir spätestens nach Zieleinlauf  alle haben werden \
 ;) Der Wettkampf an sich stellt den Teamgedanken in  den Vordergrund\,
  der leider viel zu oft bei anderen Triathlon- und  Ausdauerevents zu 
 kurz kommt!\n\nAm Ende gibt es noch ein Verleihung  mit (wir arbeiten 
 daran) Preisen für jeden Teilnehmer\, außerdem  natürlich ein leckeres
  Kuchenbuffet!\n\nWeitere Infos und Anmeldung beim Veranstalter: www.f
 un-race.org
X-ALT-DESC;FMTTYPE=text/html:<p>Auf geht&#8217\;s zum 2. Run &amp\; Bi
 ke am Tiergarten.</p>\n<p>Zwei Läufer teilen sich ein Fahrrad. Dabei d
 arf der Abstand zwischen dem  Läufer und dem Radfahrer niemals mehr al
 s 10 Meter betragen. Das “Paar”  kann sich beliebig jederzeit abwechse
 ln.</p>\n<p>Gestartet wird als gemeinsam um 10Uhr am Tiergarten Nürnbe
 rg. Jedes Team  besteht aus zwei Teilnehmern. Anfangs absolviert jeder
  Teilnehmer eine  400 Meter lange Laufstrecke und schlägt anschließend
  seinen  Teamkameraden ab der dann dieselbe Strecke läuft. Sobald der 
 zweite  (eine Bitte an alle Frauen\, fühlt euch nicht vernachlässigt w
 enn wir  jetzt mal nur die männliche Anrede benutzen) wieder da ist\, 
 wartet sein  Partner schon auf dem Mountain- oder Crossbike auf ihn. G
 emeinsam legen  beide dann los und begeben sich auf die Rennstrecke. D
 abei geht es zu  zweit auf Wanderwegen und kleineren Pfaden durch den 
 Wald.</p>\n<p>Jedes  Team darf nur ein Rad benutzen\, d.h. dass jeweil
 s einer läuft während  der andere sich auf dem Rad erholt und nebenher
  fährt. Beide dürfen nur  maximal 10 Meter entfernt voneinander sein. 
 Die Sache hat natürlich noch  einen Haken! Am schnellsten absolviert m
 an den Parkours nämlich indem  sich beide mit dem Laufen abwechseln.</
 p>\n<p>Die Teams absolvieren dabei  zwei Runden (17km) auf der normale
 n Distanz und auf der  Schnupperdistanz für Anfänger nur eine Runde (8
 \,5km). Gleichzeitig gibt  es auch noch mixed Staffeln und reine Fraue
 n-Staffeln\, wenn ihr also  zusammen mit eurer Freundin oder Freund an
  den Start gehen wollt\, kein  Problem.</p>\n<p>Bei allen Wettkampf st
 eht natürlich zuallererst der Spaß  im Vordergrund und die schöne Zeit
  die wir spätestens nach Zieleinlauf  alle haben werden \;) Der Wettka
 mpf an sich stellt den Teamgedanken in  den Vordergrund\, der leider v
 iel zu oft bei anderen Triathlon- und  Ausdauerevents zu kurz kommt!</
 p>\n<p>Am Ende gibt es noch ein Verleihung  mit (wir arbeiten daran) P
 reisen für jeden Teilnehmer\, außerdem  natürlich ein leckeres Kuchenb
 uffet!</p>\n<p>Weitere Infos und Anmeldung beim Veranstalter: <a href=
 http://www.fun-race.org/termine-ausschreibungen/ target=_blank>www.fun
 -race.org</a></p>\n
URL:https://www.runningsocks.de/wordpress/terminkalender/eventsinglepa
 ge/?event_id=73&lang=de
ATTACH:https://www.runningsocks.de/wordpress/terminkalender/eventsingl
 epage/?event_id=73&lang=de
LOCATION:Tiergarten\, am Tiergarten 30\, Nürnberg
END:VEVENT
END:VCALENDAR
