BEGIN:VCALENDAR
VERSION:2.0
METHOD:PUBLISH
PRODID:-//hacksw/handcal//NONSGML v1.0//EN
BEGIN:VEVENT
DTSTAMP:20260419T165231Z
DTSTART:20110130T090000Z
DTEND:20110129T230000Z
UID:20110130T090000Z-20110129T230000Z-74@www.runningsocks.de
SUMMARY:51. Prellsteinrennen
DESCRIPTION:Das Rennen:\n\nDas Prellsteinrennen ist ein Mannschaftslau
 f. Eine Mannschaft besteht  aus 3 Läufern. Die zwei besten Zeiten werd
 en gewertet\, aber alle drei  Läufer müssen das Ziel erreichen und die
  Kontrollstellen passieren.\n\nDas Prellsteinrennen wird als Crosslauf
  ausgetragen. Bei guter  Schneelage kann auch mit Langlaufski gelaufen
  werden. Es können  Mannschaften mit Cross- und Skiläufern gebildet we
 rden. Weiter können  Damen und Herren eine Mannschaft bilden. Die Läuf
 er mit Skiern starten  mit einer Zeitvorgabe vor den Crossläufern.\n\n
 Der Start der Mannschaften erfolgt mit einem Zeitabstand von einer Min
 ute.\n\nWertungen:\n\nSenioren-Wertung\n\nDie Wertung erfolgt nach Zei
 t. Das Mindestalter ist 40 Jahre. Jedoch  muss das addierte Gesamtalte
 r der Mannschaft mind. 150 Jahre betragen.\n\nSeniorinnen-Wertung\n\nD
 ie Wertung erfolgt nach Zeit. Das Mindestalter ist 30 Jahre. Jedoch  m
 uss das addierte Gesamtalter der Mannschaft mind. 120 Jahre betragen.\
 n\nJugend-Wertung\n\nDie Wertung erfolgt nach Zeit. Das Höchstalter is
 t 20 Jahre. Das  addierte Gesamtalter der Mannschaft darf somit nicht 
 über 60 Jahre sein.\n\nWeitere Info:\n\n\n\nOrt:\nHeuchling bei Pommel
 sbrunn\n\n\nStartzeit:\n10.00 Uhr\n\n\nMeldungen:\nAm Start in der Gas
 tstätte Zum Schwarzen Brand\n\n\nMeldeschluss:\n30 Minuten vor Mannsch
 aftsstart\n\n\nStartgebühr:\nEUR 8\,00 pro Teilnehmer zzgl. EUR 1\,00 
 für Transponder (zur Zeitnahme) pro Läufer\n\n\nStartnummern:\nAb 8.30
  Uhr in der Gaststätte Zum Schwarzen Brand\n\n\nSiegerehrung:\nca. 15.
 00 Uhr in der Gaststätte Zum Schwarzen Brand\n\n\n\n\nAktuelle Info's 
 wie immer auf der Seite des Veranstalter: Arbeitsgemeinschaft Nürnberg
 er Touristenvereine e.V.
X-ALT-DESC;FMTTYPE=text/html:<h3>Das Rennen:</h3>\n<p>Das Prellsteinre
 nnen ist ein Mannschaftslauf. Eine Mannschaft besteht  aus 3 Läufern. 
 Die zwei besten Zeiten werden gewertet\, aber alle drei  Läufer müssen
  das Ziel erreichen und die Kontrollstellen passieren.</p>\n<p>Das Pre
 llsteinrennen wird als Crosslauf ausgetragen. Bei guter  Schneelage ka
 nn auch mit Langlaufski gelaufen werden. Es können  Mannschaften mit C
 ross- und Skiläufern gebildet werden. Weiter können  Damen und Herren 
 eine Mannschaft bilden. Die Läufer mit Skiern starten  mit einer Zeitv
 orgabe vor den Crossläufern.</p>\n<p>Der Start der Mannschaften erfolg
 t mit einem Zeitabstand von einer Minute.</p>\n<h3>Wertungen:</h3>\n<p
 >Senioren-Wertung</p>\n<p>Die Wertung erfolgt nach Zeit. Das Mindestal
 ter ist 40 Jahre. Jedoch  muss das addierte Gesamtalter der Mannschaft
  mind. 150 Jahre betragen.</p>\n<p>Seniorinnen-Wertung</p>\n<p>Die Wer
 tung erfolgt nach Zeit. Das Mindestalter ist 30 Jahre. Jedoch  muss da
 s addierte Gesamtalter der Mannschaft mind. 120 Jahre betragen.</p>\n<
 p>Jugend-Wertung</p>\n<p>Die Wertung erfolgt nach Zeit. Das Höchstalte
 r ist 20 Jahre. Das  addierte Gesamtalter der Mannschaft darf somit ni
 cht über 60 Jahre sein.</p>\n<h3>Weitere Info:</h3>\n<table style=widt
 h: 535px\; height: 194px\; border=0>\n<tbody>\n<tr><td><p><span style=
 font-size: small\;><span style=font-family: arial\,helvetica\,sans-ser
 if\;>Ort:</span></span></p></td>\n<td><p><span style=font-size: small\
 ;><span style=font-family: arial\,helvetica\,sans-serif\;>Heuchling be
 i Pommelsbrunn</span></span></p></td></tr>\n<tr><td><p><span style=fon
 t-size: small\;><span style=font-family: arial\,helvetica\,sans-serif\
 ;>Startzeit:</span></span></p></td>\n<td><p><span style=font-size: sma
 ll\;><span style=font-family: arial\,helvetica\,sans-serif\;>10.00 Uhr
 </span></span></p></td></tr>\n<tr><td><p><span style=font-size: small\
 ;><span style=font-family: arial\,helvetica\,sans-serif\;>Meldungen:</
 span></span></p></td>\n<td><p><span style=font-size: small\;><span sty
 le=font-family: arial\,helvetica\,sans-serif\;>Am Start in der Gaststä
 tte &#8222\;Zum Schwarzen Brand&#8220\;</span></span></p></td></tr>\n<
 tr><td><p><span style=font-size: small\;><span style=font-family: aria
 l\,helvetica\,sans-serif\;>Meldeschluss:</span></span></p></td>\n<td><
 p><span style=font-size: small\;><span style=font-family: arial\,helve
 tica\,sans-serif\;>30 Minuten vor Mannschaftsstart</span></span></p></
 td></tr>\n<tr><td><p><span style=font-size: small\;><span style=font-f
 amily: arial\,helvetica\,sans-serif\;>Startgebühr:</span></span></p></
 td>\n<td><p><span style=font-size: small\;><span style=font-family: ar
 ial\,helvetica\,sans-serif\;>EUR 8\,00 pro Teilnehmer zzgl. EUR 1\,00 
 für Transponder (zur Zeitnahme) pro Läufer</span></span></p></td></tr>
 \n<tr><td><p><span style=font-size: small\;><span style=font-family: a
 rial\,helvetica\,sans-serif\;>Startnummern:</span></span></p></td>\n<t
 d><p><span style=font-size: small\;><span style=font-family: arial\,he
 lvetica\,sans-serif\;>Ab 8.30 Uhr in der Gaststätte &#8222\;Zum Schwar
 zen Brand&#8220\;</span></span></p></td></tr>\n<tr><td><p><span style=
 font-size: small\;><span style=font-family: arial\,helvetica\,sans-ser
 if\;>Siegerehrung:</span></span></p></td>\n<td><p><span style=font-siz
 e: small\;><span style=font-family: arial\,helvetica\,sans-serif\;>ca.
  15.00 Uhr in der Gaststätte &#8222\;Zum Schwarzen Brand&#8220\;</span
 ></span></p></td></tr>\n</tbody>\n</table>\n<p>Aktuelle Info&#8217\;s 
 wie immer auf der Seite des Veranstalter: <a href=http://www.vftn-onli
 ne.de/Sport/Prellsteinrennen/ target=_blank><strong>Arbeitsgemeinschaf
 t Nürnberger Touristenvereine e.V.</strong></a></p>\n
URL:https://www.runningsocks.de/wordpress/terminkalender/eventsinglepa
 ge/?event_id=74&lang=de
ATTACH:https://www.runningsocks.de/wordpress/terminkalender/eventsingl
 epage/?event_id=74&lang=de
LOCATION:Gasthaus Zum schwarzen Brand\, Heuchling 12\, Heuchling
END:VEVENT
END:VCALENDAR
