BEGIN:VCALENDAR
VERSION:2.0
METHOD:PUBLISH
PRODID:-//hacksw/handcal//NONSGML v1.0//EN
BEGIN:VEVENT
DTSTAMP:20260419T165213Z
DTSTART:20110703T080000Z
DTEND:20110703T110000Z
UID:20110703T080000Z-20110703T110000Z-75@www.runningsocks.de
SUMMARY:24. Hersbrucker Volkstriathlon
DESCRIPTION:24. Hersbrucker Volkstriathlon\n300 m - 20 km - 5 km\n\n\n
 	Schwimmen: Hersbrucker Badesee\n	Rad: Hersbrucker Badesee über Föhren
 bach\, Alfeld nach Waller\n	Laufen: Waller - Gravenbuch - Waller\n\nab
  TM/TW 15 für Jedermann\, auch Vereinslose\, Hobby- und Freizeitsportl
 er\, Einzel- und Staffelmeldungen möglich\n\nLiebe Sportsfreunde\,\n\n
 der DAV Hersbruck würde sich sehr freuen\, wenn Ihr wieder so zahlreic
 h wie die Jahre zuvor teilnehmt. Der Staffelwettbewerb war sehr belieb
 t und wird heuer  wieder durchgeführt.\n\nHeuer ist wieder die Onlinea
 nmeldung möglich.\n\nBitte nutzt diese Möglichkeit.\n\nDie Ausschreibu
 ng gibt's hier:\n\n[wpfilebase tag='file' id='430']\n\n\, als auch auf
  der Seite des Veranstalters  hinterlegt. Meldet ein Verein eine Grupp
 e könnte Ihr das wie bisher per Mail an Herrn Stocker direkt machen.\n
 Organisation:  Heiner Stocker 09151/814680  oder 0151-58964477\nWeiter
 e Info's und Anmeldung beim Veranstalter: DAV Hersbruck\, Online Anmel
 dung
X-ALT-DESC;FMTTYPE=text/html:<p style=text-align: justify\;>24. Hersbr
 ucker Volkstriathlon</p>\n<p style=text-align: justify\;>300 m &#8211\
 ; 20 km &#8211\; 5 km</p>\n<ul>\n<li style=text-align: justify\;>Schwi
 mmen: Hersbrucker Badesee</li>\n<li style=text-align: justify\;>Rad: H
 ersbrucker Badesee über Föhrenbach\, Alfeld nach Waller</li>\n<li styl
 e=text-align: justify\;>Laufen: Waller &#8211\; Gravenbuch &#8211\; Wa
 ller</li>\n</ul>\n<p>ab TM/TW 15 für Jedermann\, auch Vereinslose\, Ho
 bby- und Freizeitsportler\, Einzel- und Staffelmeldungen möglich</p>\n
 <p>Liebe Sportsfreunde\,</p>\n<p>der DAV Hersbruck würde sich sehr fre
 uen\, wenn Ihr wieder so zahlreich wie die Jahre zuvor teilnehmt. Der 
 Staffelwettbewerb war sehr beliebt und wird heuer  wieder durchgeführt
 .</p>\n<p>Heuer ist wieder die Onlineanmeldung möglich.</p>\n<p>Bitte 
 nutzt diese Möglichkeit.</p>\n<p>Die Ausschreibung gibt&#8217\;s hier:
 </p>\n<p>[wpfilebase tag=&#8217\;file&#8216\; id=&#8217\;430&#8242\;]<
 /p>\n<p>\, als auch auf der Seite des Veranstalters  hinterlegt. Melde
 t ein Verein eine Gruppe könnte Ihr das wie bisher per Mail an Herrn S
 tocker direkt machen.</p>\n<p style=text-align: justify\;><span style=
 font-family: Verdana\,Arial\,Helvetica\,sans-serif\;>Organisation:  <a
  title=Email an Heiner Stocker href=mailto:heiner@stockeronline.de>Hei
 ner Stocker</a> 09151/814680  oder 0151-58964477</span></p>\n<p style=
 text-align: justify\;>Weitere Info&#8217\;s und Anmeldung beim Veranst
 alter: <a href=http://www.dav-hersbruck.de/sites/triathlon/m_volkstria
 thlon.HTM target=_blank>DAV Hersbruck</a>\, <a href=http://www.dav-her
 sbruck.de/sites/triathlon/2011/m_tri_24_hin.HTM target=_blank>Online A
 nmeldung</a></p>\n
URL:https://www.runningsocks.de/wordpress/terminkalender/eventsinglepa
 ge/?event_id=75&lang=de
ATTACH:https://www.runningsocks.de/wordpress/terminkalender/eventsingl
 epage/?event_id=75&lang=de
LOCATION:Happurger Baggersee\, Bagger See\, Happurg
END:VEVENT
END:VCALENDAR
