BEGIN:VCALENDAR
VERSION:2.0
METHOD:PUBLISH
PRODID:-//hacksw/handcal//NONSGML v1.0//EN
BEGIN:VEVENT
DTSTAMP:20260419T165142Z
DTSTART:20110626T070000Z
DTEND:20110626T130000Z
UID:20110626T070000Z-20110626T130000Z-76@www.runningsocks.de
SUMMARY:23. Cadion Rothseetriathlon
DESCRIPTION:Am Montag den 3.1.11 wurde das Anmeldeportal für den 23. C
 adion Rothsee Triathlon am 25./26. Juni 2011 eröffnet.\n\nFür das Woch
 enende werden ca. 2000 Sportler erwartet. 1400 Athleten  werden allein
 e am Sonntag für die olympische Distanz angenommen werden\,  die gleic
 hzeitig wieder als Mittelfränkische Meisterschaft ausgetragen  wird.\n
 \nAm Samstag finden Schüler-\, Jugend-\, Schnupper- und Sprintdistanze
 n statt. Hier rechnen wir mit ca. 600 Teilnehmer.\n\nWeitere Kurzinfo'
 s:\n\nStart/Ziel:\n\nSegelzentrum Heuberg\, Hilpoltstein\n\nWettkampff
 ormate:\n\nSamstag 25. Juni 2011:\n\n\n\nSchüler C\n50m        2\,5km 
      0\,4km      Mfr. M.\n\n\nSchüler B\n100m       6\,5km      1\,0km
       Mfr. M.\n\n\nSchüler A\n400m      6\,5km       2\,5km      Mfr. 
 M./ BJC\n\n\nSchnupper\n200m      6\,5km       2\,5km\n\n\nJugend B\n4
 00m      6\,5km       2\,5km       BJC\n\n\nJug. A/Jun\n750m      19\,
 5km     5\,0km       BJC\n\n\n2. BL\n750m      19\,5km     5\,0km\n\n\
 nSprint\n750m        19\,5km     5\,0km\n\n\n\nSonntag 26. Juni 2011:\
 n\n1500m    40 km      10km       Mfr. Meisterschaft\n\nAusschreibung:
 \n\n[wpfilebase tag=file id=201]\n\nAktuelle Info's und Onlineanmeldun
 g auf der Seite des Veranstalters: Rothsee Triathlon
X-ALT-DESC;FMTTYPE=text/html:<p>Am Montag den 3.1.11 wurde das Anmelde
 portal für den 23. Cadion Rothsee Triathlon am 25./26. Juni 2011 eröff
 net.</p>\n<p>Für das Wochenende werden ca. 2000 Sportler erwartet. 140
 0 Athleten  werden alleine am Sonntag für die olympische Distanz angen
 ommen werden\,  die gleichzeitig wieder als Mittelfränkische Meistersc
 haft ausgetragen  wird.</p>\n<p>Am Samstag finden Schüler-\, Jugend-\,
  Schnupper- und Sprintdistanzen statt. Hier rechnen wir mit ca. 600 Te
 ilnehmer.</p>\n<p>Weitere Kurzinfo&#8217\;s:</p>\n<p><strong>Start/Zie
 l:</strong><br>\n<br>\nSegelzentrum Heuberg\, Hilpoltstein</p>\n<p><st
 rong>Wettkampfformate:</strong></p>\n<p><span style=text-decoration: u
 nderline\;>Samstag 25. Juni 2011:</span></p>\n<table border=0>\n<tbody
 >\n<tr><td>Schüler C</td>\n<td>50m        2\,5km      0\,4km      Mfr.
  M.</td></tr>\n<tr><td>Schüler B</td>\n<td>100m       6\,5km      1\,0
 km      Mfr. M.</td></tr>\n<tr><td>Schüler A</td>\n<td>400m      6\,5k
 m       2\,5km      Mfr. M./ BJC</td></tr>\n<tr><td>Schnupper</td>\n<t
 d>200m      6\,5km       2\,5km</td></tr>\n<tr><td>Jugend B</td>\n<td>
 400m      6\,5km       2\,5km       BJC</td></tr>\n<tr><td>Jug. A/Jun<
 /td>\n<td>750m      19\,5km     5\,0km       BJC</td></tr>\n<tr><td>2.
  BL</td>\n<td>750m      19\,5km     5\,0km</td></tr>\n<tr><td>Sprint</
 td>\n<td>750m        19\,5km     5\,0km</td></tr>\n</tbody>\n</table>\
 n<p><span style=text-decoration: underline\;>Sonntag 26. Juni 2011:</s
 pan><br>\n<br>\n1500m    40 km      10km       Mfr. Meisterschaft</p>\
 n<p><span style=text-decoration: underline\;>Ausschreibung:</span><br>
 \n<br>\n[wpfilebase tag=file id=201]</p>\n<p>Aktuelle Info&#8217\;s un
 d Onlineanmeldung auf der Seite des Veranstalters: <a href=http://www.
 rothsee-triathlon.de/rstf target=_blank>Rothsee Triathlon</a></p>\n
URL:https://www.runningsocks.de/wordpress/terminkalender/eventsinglepa
 ge/?event_id=76&lang=de
ATTACH:https://www.runningsocks.de/wordpress/terminkalender/eventsingl
 epage/?event_id=76&lang=de
LOCATION:Segelzentrum Heuberg\, Am Rothsee Heuberg\, Hilpoltstein
END:VEVENT
END:VCALENDAR
