BEGIN:VCALENDAR
VERSION:2.0
METHOD:PUBLISH
PRODID:-//hacksw/handcal//NONSGML v1.0//EN
BEGIN:VEVENT
DTSTAMP:20260419T165141Z
DTSTART:20110515T090000Z
DTEND:20110515T130000Z
UID:20110515T090000Z-20110515T130000Z-77@www.runningsocks.de
SUMMARY:24. City Triathlon Amberg
DESCRIPTION:Der Klassiker in der Vilsstadt: der Volks- und Raiffeisenb
 ank  Citytriathlon Amberg (CTA). Zum 24. Mal wird in Amberg ein  Triat
 hlon-Wettkampf ausgetragen\, zum fünften Mal in Folge führt der CTA  d
 urch die mittelalterliche Altstadt. Mit dem frühen Termin Anfang Mai  
 zählt die Kurzdistanz wieder zu den ersten Wettbewerben in Deutschland
  –  und ist somit ein perfekter Einstieg in die Saison.\n\nKATEGORIEN\
 n\nKurztriathlon Einzel + Staffel 1\,5/40/10 km\n Volktriathlon Einzel
  + Staffel 0\,5/20/5 km\n Jugend A 0\,5/20/5 km\n\nWERTUNGEN UND MEIST
 ERSCHAFTEN\n\nA:XUS Oberpfalz ASS\n Stoapfalz (Wo)Man\n Jugendtriathlo
 n\n Vereinscup\n Kurztriathlon  Einzel und Staffel\n Volkstriathlon  E
 inzel und Staffel\n\nWeitere Informationen und Onlienanmeldung beim Ve
 ranstalter: Wechselszene
X-ALT-DESC;FMTTYPE=text/html:<p>Der Klassiker in der Vilsstadt: der Vo
 lks- und Raiffeisenbank  Citytriathlon Amberg (CTA). Zum 24. Mal wird 
 in Amberg ein  Triathlon-Wettkampf ausgetragen\, zum fünften Mal in Fo
 lge führt der CTA  durch die mittelalterliche Altstadt. Mit dem frühen
  Termin Anfang Mai  zählt die Kurzdistanz wieder zu den ersten Wettbew
 erben in Deutschland –  und ist somit ein perfekter Einstieg in die Sa
 ison.</p>\n<p><strong>KATEGORIEN</strong></p>\n<p>Kurztriathlon Einzel
  + Staffel 1\,5/40/10 km<br>\n Volktriathlon Einzel + Staffel 0\,5/20/
 5 km<br>\n Jugend A 0\,5/20/5 km</p>\n<p><strong>WERTUNGEN UND MEISTER
 SCHAFTEN</strong></p>\n<p>A:XUS Oberpfalz ASS<br>\n Stoapfalz (Wo)Man<
 br>\n Jugendtriathlon<br>\n Vereinscup<br>\n Kurztriathlon  Einzel und
  Staffel<br>\n Volkstriathlon  Einzel und Staffel</p>\n<p>Weitere Info
 rmationen und Onlienanmeldung beim Veranstalter: <a href=http://www.we
 chselszene.com/wettkampfe/citytriathlon-amberg target=_blank>Wechselsz
 ene</a></p>\n
URL:https://www.runningsocks.de/wordpress/terminkalender/eventsinglepa
 ge/?event_id=77&lang=de
ATTACH:https://www.runningsocks.de/wordpress/terminkalender/eventsingl
 epage/?event_id=77&lang=de
LOCATION:Freibad Amberg\, Hockermühlstr. 37-39\, Amberg
END:VEVENT
END:VCALENDAR
