BEGIN:VCALENDAR
VERSION:2.0
METHOD:PUBLISH
PRODID:-//hacksw/handcal//NONSGML v1.0//EN
BEGIN:VEVENT
DTSTAMP:20260419T165212Z
DTSTART:20110528T080000Z
DTEND:20110528T110000Z
UID:20110528T080000Z-20110528T110000Z-79@www.runningsocks.de
SUMMARY:2. Einzelzeitfahren Hirschbachtal
DESCRIPTION:Zweite Auflage des Einzelzeitfahrens im Hirschbachtal. Sta
 rt ist wieder Eschenbach mit Wendepunkt in Eschenfelden.\n\nStrecke:\n
 Einzelzeitfahren Hirschbachtal auf einer größeren Karte anzeigen\n\n\n
 Weitere Infos und Anmeldung beim Veranstalter: www.fun-race.org
X-ALT-DESC;FMTTYPE=text/html:<p>Zweite Auflage des Einzelzeitfahrens i
 m Hirschbachtal. Start ist wieder Eschenbach mit Wendepunkt in Eschenf
 elden.</p>\n<p><strong>Strecke:</strong><br>\n<code><iframe loading=la
 zy width=425 height=350 frameborder=0 scrolling=no marginheight=0 marg
 inwidth=0 src=http://maps.google.de/maps/ms?oe=utf-8&amp\;client=firef
 ox-a&amp\;ie=UTF8&amp\;hq=&amp\;hnear=Hirschbach\,+Amberg-Sulzbach\,+B
 ayern&amp\;gl=de&amp\;hl=de&amp\;msa=0&amp\;msid=206425435726256949797
 .000483c07279fade063c4&amp\;source=embed&amp\;ll=49.564356\,11.54987&a
 mp\;spn=0.077937\,0.145912&amp\;output=embed></iframe><br>\n<small><a 
 href=http://maps.google.de/maps/ms?oe=utf-8&amp\;client=firefox-a&amp\
 ;ie=UTF8&amp\;hq=&amp\;hnear=Hirschbach\,+Amberg-Sulzbach\,+Bayern&amp
 \;gl=de&amp\;hl=de&amp\;msa=0&amp\;msid=206425435726256949797.000483c0
 7279fade063c4&amp\;source=embed&amp\;ll=49.564356\,11.54987&amp\;spn=0
 .077937\,0.145912 style=color:#0000FF\;text-align:left>Einzelzeitfahre
 n Hirschbachtal</a> auf einer größeren Karte anzeigen</small><br>\n<br
  class=spacer_ /></code></p>\n<p><strong>Weitere Infos und Anmeldung b
 eim Veranstalter: <a href=http://www.fun-race.org/termine-ausschreibun
 gen/einzelzeitfahren-hirschbachtal/ target=_blank>www.fun-race.org</a>
 <br>\n</strong></p>\n
URL:https://www.runningsocks.de/wordpress/terminkalender/eventsinglepa
 ge/?event_id=79&lang=de
ATTACH:https://www.runningsocks.de/wordpress/terminkalender/eventsingl
 epage/?event_id=79&lang=de
LOCATION:Eschenbach\, Eschenbach\, Eschenbach
END:VEVENT
END:VCALENDAR
